Back to Multiple platform build/check report for BioC 3.19: simplified long |
|
This page was generated on 2024-10-18 20:38 -0400 (Fri, 18 Oct 2024).
Hostname | OS | Arch (*) | R version | Installed pkgs |
---|---|---|---|---|
nebbiolo1 | Linux (Ubuntu 22.04.3 LTS) | x86_64 | 4.4.1 (2024-06-14) -- "Race for Your Life" | 4763 |
palomino7 | Windows Server 2022 Datacenter | x64 | 4.4.1 (2024-06-14 ucrt) -- "Race for Your Life" | 4500 |
merida1 | macOS 12.7.5 Monterey | x86_64 | 4.4.1 (2024-06-14) -- "Race for Your Life" | 4530 |
kjohnson1 | macOS 13.6.6 Ventura | arm64 | 4.4.1 (2024-06-14) -- "Race for Your Life" | 4480 |
Click on any hostname to see more info about the system (e.g. compilers) (*) as reported by 'uname -p', except on Windows and Mac OS X |
Package 1747/2300 | Hostname | OS / Arch | INSTALL | BUILD | CHECK | BUILD BIN | ||||||||
rfaRm 1.16.0 (landing page) Lara Selles Vidal
| nebbiolo1 | Linux (Ubuntu 22.04.3 LTS) / x86_64 | OK | OK | OK | |||||||||
palomino7 | Windows Server 2022 Datacenter / x64 | OK | OK | OK | OK | |||||||||
merida1 | macOS 12.7.5 Monterey / x86_64 | OK | OK | OK | OK | |||||||||
kjohnson1 | macOS 13.6.6 Ventura / arm64 | OK | OK | OK | OK | |||||||||
To the developers/maintainers of the rfaRm package: - Allow up to 24 hours (and sometimes 48 hours) for your latest push to git@git.bioconductor.org:packages/rfaRm.git to reflect on this report. See Troubleshooting Build Report for more information. - Use the following Renviron settings to reproduce errors and warnings. - If 'R CMD check' started to fail recently on the Linux builder(s) over a missing dependency, add the missing dependency to 'Suggests:' in your DESCRIPTION file. See Renviron.bioc for more information. |
Package: rfaRm |
Version: 1.16.0 |
Command: /home/biocbuild/bbs-3.19-bioc/R/bin/R CMD check --install=check:rfaRm.install-out.txt --library=/home/biocbuild/bbs-3.19-bioc/R/site-library --timings rfaRm_1.16.0.tar.gz |
StartedAt: 2024-10-17 04:18:33 -0400 (Thu, 17 Oct 2024) |
EndedAt: 2024-10-17 04:22:40 -0400 (Thu, 17 Oct 2024) |
EllapsedTime: 246.7 seconds |
RetCode: 0 |
Status: OK |
CheckDir: rfaRm.Rcheck |
Warnings: 0 |
############################################################################## ############################################################################## ### ### Running command: ### ### /home/biocbuild/bbs-3.19-bioc/R/bin/R CMD check --install=check:rfaRm.install-out.txt --library=/home/biocbuild/bbs-3.19-bioc/R/site-library --timings rfaRm_1.16.0.tar.gz ### ############################################################################## ############################################################################## * using log directory ‘/home/biocbuild/bbs-3.19-bioc/meat/rfaRm.Rcheck’ * using R version 4.4.1 (2024-06-14) * using platform: x86_64-pc-linux-gnu * R was compiled by gcc (Ubuntu 11.4.0-1ubuntu1~22.04) 11.4.0 GNU Fortran (Ubuntu 11.4.0-1ubuntu1~22.04) 11.4.0 * running under: Ubuntu 22.04.5 LTS * using session charset: UTF-8 * checking for file ‘rfaRm/DESCRIPTION’ ... OK * checking extension type ... Package * this is package ‘rfaRm’ version ‘1.16.0’ * package encoding: UTF-8 * checking package namespace information ... OK * checking package dependencies ... OK * checking if this is a source package ... OK * checking if there is a namespace ... OK * checking for hidden files and directories ... OK * checking for portable file names ... OK * checking for sufficient/correct file permissions ... OK * checking whether package ‘rfaRm’ can be installed ... OK * checking installed package size ... OK * checking package directory ... OK * checking ‘build’ directory ... OK * checking DESCRIPTION meta-information ... OK * checking top-level files ... OK * checking for left-over files ... OK * checking index information ... OK * checking package subdirectories ... OK * checking code files for non-ASCII characters ... OK * checking R files for syntax errors ... OK * checking whether the package can be loaded ... OK * checking whether the package can be loaded with stated dependencies ... OK * checking whether the package can be unloaded cleanly ... OK * checking whether the namespace can be loaded with stated dependencies ... OK * checking whether the namespace can be unloaded cleanly ... OK * checking loading without being on the library search path ... OK * checking whether startup messages can be suppressed ... OK * checking dependencies in R code ... OK * checking S3 generic/method consistency ... OK * checking replacement functions ... OK * checking foreign function calls ... OK * checking R code for possible problems ... NOTE rfamSeedAlignment: no visible global function definition for ‘as’ Undefined global functions or variables: as Consider adding importFrom("methods", "as") to your NAMESPACE file (and ensure that your DESCRIPTION Imports field contains 'methods'). * checking Rd files ... OK * checking Rd metadata ... OK * checking Rd cross-references ... OK * checking for missing documentation entries ... OK * checking for code/documentation mismatches ... OK * checking Rd \usage sections ... OK * checking Rd contents ... OK * checking for unstated dependencies in examples ... OK * checking files in ‘vignettes’ ... OK * checking examples ... OK Examples with CPU (user + system) or elapsed time > 5s user system elapsed rfamSecondaryStructurePlot 5.846 0.070 6.325 rfamSequenceRegions 0.238 0.012 48.212 rfamSequenceSearch 0.095 0.028 13.205 * checking for unstated dependencies in ‘tests’ ... OK * checking tests ... Running ‘runTests.R’ OK * checking for unstated dependencies in vignettes ... OK * checking package vignettes ... OK * checking re-building of vignette outputs ... OK * checking PDF version of manual ... OK * DONE Status: 1 NOTE See ‘/home/biocbuild/bbs-3.19-bioc/meat/rfaRm.Rcheck/00check.log’ for details.
rfaRm.Rcheck/00install.out
############################################################################## ############################################################################## ### ### Running command: ### ### /home/biocbuild/bbs-3.19-bioc/R/bin/R CMD INSTALL rfaRm ### ############################################################################## ############################################################################## * installing to library ‘/home/biocbuild/bbs-3.19-bioc/R/site-library’ * installing *source* package ‘rfaRm’ ... ** using staged installation ** R ** inst ** byte-compile and prepare package for lazy loading ** help *** installing help indices ** building package indices ** installing vignettes ** testing if installed package can be loaded from temporary location ** testing if installed package can be loaded from final location ** testing if installed package keeps a record of temporary installation path * DONE (rfaRm)
rfaRm.Rcheck/tests/runTests.Rout
R version 4.4.1 (2024-06-14) -- "Race for Your Life" Copyright (C) 2024 The R Foundation for Statistical Computing Platform: x86_64-pc-linux-gnu R is free software and comes with ABSOLUTELY NO WARRANTY. You are welcome to redistribute it under certain conditions. Type 'license()' or 'licence()' for distribution details. R is a collaborative project with many contributors. Type 'contributors()' for more information and 'citation()' on how to cite R or R packages in publications. Type 'demo()' for some demos, 'help()' for on-line help, or 'help.start()' for an HTML browser interface to help. Type 'q()' to quit R. > BiocGenerics:::testPackage("rfaRm") Linking to librsvg 2.52.5 No encoding supplied: defaulting to UTF-8. format width height colorspace matte filesize density 1 SVG 700 550 sRGB TRUE 21504 72x72 format width height colorspace matte filesize density 1 GIF 600 2084 sRGB FALSE 63951 72x72 Running sequence search query. This might take a long time. RUNIT TEST PROTOCOL -- Thu Oct 17 04:21:46 2024 *********************************************** Number of test functions: 0 Number of errors: 0 Number of failures: 0 1 Test Suite : rfaRm RUnit Tests - 0 test functions, 0 errors, 0 failures Number of test functions: 0 Number of errors: 0 Number of failures: 0 > > proc.time() user system elapsed 6.793 0.526 26.761
rfaRm.Rcheck/rfaRm-Ex.timings
name | user | system | elapsed | |
rfamConsensusSecondaryStructure | 0.426 | 0.036 | 3.257 | |
rfamCovarianceModel | 0.161 | 0.020 | 0.836 | |
rfamFamilyAccessionToID | 0.030 | 0.012 | 0.134 | |
rfamFamilyIDToAccession | 0.021 | 0.012 | 0.122 | |
rfamFamilySummary | 0.165 | 0.029 | 0.732 | |
rfamPDBMapping | 0.155 | 0.076 | 0.624 | |
rfamSecondaryStructurePlot | 5.846 | 0.070 | 6.325 | |
rfamSecondaryStructureXMLSVG | 0.045 | 0.016 | 0.584 | |
rfamSeedAlignment | 0.475 | 0.108 | 3.958 | |
rfamSeedTree | 0.134 | 0.000 | 0.580 | |
rfamSeedTreeImage | 0.095 | 0.008 | 0.665 | |
rfamSequenceRegions | 0.238 | 0.012 | 48.212 | |
rfamSequenceSearch | 0.095 | 0.028 | 13.205 | |
rfamTextSearchFamilyAccession | 0.070 | 0.004 | 3.286 | |