| Back to Multiple platform build/check report for BioC 3.19: simplified long |
|
This page was generated on 2024-10-18 20:42 -0400 (Fri, 18 Oct 2024).
| Hostname | OS | Arch (*) | R version | Installed pkgs |
|---|---|---|---|---|
| nebbiolo1 | Linux (Ubuntu 22.04.3 LTS) | x86_64 | 4.4.1 (2024-06-14) -- "Race for Your Life" | 4763 |
| palomino7 | Windows Server 2022 Datacenter | x64 | 4.4.1 (2024-06-14 ucrt) -- "Race for Your Life" | 4500 |
| merida1 | macOS 12.7.5 Monterey | x86_64 | 4.4.1 (2024-06-14) -- "Race for Your Life" | 4530 |
| kjohnson1 | macOS 13.6.6 Ventura | arm64 | 4.4.1 (2024-06-14) -- "Race for Your Life" | 4480 |
| Click on any hostname to see more info about the system (e.g. compilers) (*) as reported by 'uname -p', except on Windows and Mac OS X | ||||
| Package 1636/2300 | Hostname | OS / Arch | INSTALL | BUILD | CHECK | BUILD BIN | ||||||||
| pwalign 1.0.0 (landing page) Hervé Pagès
| nebbiolo1 | Linux (Ubuntu 22.04.3 LTS) / x86_64 | OK | OK | OK | |||||||||
| palomino7 | Windows Server 2022 Datacenter / x64 | OK | OK | OK | OK | |||||||||
| merida1 | macOS 12.7.5 Monterey / x86_64 | OK | OK | OK | OK | |||||||||
| kjohnson1 | macOS 13.6.6 Ventura / arm64 | OK | OK | OK | OK | |||||||||
|
To the developers/maintainers of the pwalign package: - Allow up to 24 hours (and sometimes 48 hours) for your latest push to git@git.bioconductor.org:packages/pwalign.git to reflect on this report. See Troubleshooting Build Report for more information. - Use the following Renviron settings to reproduce errors and warnings. - If 'R CMD check' started to fail recently on the Linux builder(s) over a missing dependency, add the missing dependency to 'Suggests:' in your DESCRIPTION file. See Renviron.bioc for more information. |
| Package: pwalign |
| Version: 1.0.0 |
| Command: /Library/Frameworks/R.framework/Resources/bin/R CMD check --install=check:pwalign.install-out.txt --library=/Library/Frameworks/R.framework/Resources/library --no-vignettes --timings pwalign_1.0.0.tar.gz |
| StartedAt: 2024-10-18 08:18:09 -0400 (Fri, 18 Oct 2024) |
| EndedAt: 2024-10-18 08:20:22 -0400 (Fri, 18 Oct 2024) |
| EllapsedTime: 133.0 seconds |
| RetCode: 0 |
| Status: OK |
| CheckDir: pwalign.Rcheck |
| Warnings: 0 |
##############################################################################
##############################################################################
###
### Running command:
###
### /Library/Frameworks/R.framework/Resources/bin/R CMD check --install=check:pwalign.install-out.txt --library=/Library/Frameworks/R.framework/Resources/library --no-vignettes --timings pwalign_1.0.0.tar.gz
###
##############################################################################
##############################################################################
* using log directory ‘/Users/biocbuild/bbs-3.19-bioc/meat/pwalign.Rcheck’
* using R version 4.4.1 (2024-06-14)
* using platform: aarch64-apple-darwin20
* R was compiled by
Apple clang version 14.0.0 (clang-1400.0.29.202)
GNU Fortran (GCC) 12.2.0
* running under: macOS Ventura 13.6.6
* using session charset: UTF-8
* using option ‘--no-vignettes’
* checking for file ‘pwalign/DESCRIPTION’ ... OK
* this is package ‘pwalign’ version ‘1.0.0’
* package encoding: UTF-8
* checking package namespace information ... OK
* checking package dependencies ... NOTE
Package which this enhances but not available for checking: ‘Rmpi’
* checking if this is a source package ... OK
* checking if there is a namespace ... OK
* checking for hidden files and directories ... OK
* checking for portable file names ... OK
* checking for sufficient/correct file permissions ... OK
* checking whether package ‘pwalign’ can be installed ... OK
* used C compiler: ‘Apple clang version 15.0.0 (clang-1500.0.40.1)’
* used SDK: ‘MacOSX11.3.sdk’
* checking installed package size ... OK
* checking package directory ... OK
* checking ‘build’ directory ... OK
* checking DESCRIPTION meta-information ... OK
* checking top-level files ... OK
* checking for left-over files ... OK
* checking index information ... OK
* checking package subdirectories ... OK
* checking code files for non-ASCII characters ... OK
* checking R files for syntax errors ... OK
* checking whether the package can be loaded ... OK
* checking whether the package can be loaded with stated dependencies ... OK
* checking whether the package can be unloaded cleanly ... OK
* checking whether the namespace can be loaded with stated dependencies ... OK
* checking whether the namespace can be unloaded cleanly ... OK
* checking whether startup messages can be suppressed ... OK
* checking dependencies in R code ... OK
* checking S3 generic/method consistency ... OK
* checking replacement functions ... OK
* checking foreign function calls ... OK
* checking R code for possible problems ... OK
* checking Rd files ... OK
* checking Rd metadata ... OK
* checking Rd cross-references ... OK
* checking for missing documentation entries ... OK
* checking for code/documentation mismatches ... OK
* checking Rd \usage sections ... OK
* checking Rd contents ... OK
* checking for unstated dependencies in examples ... OK
* checking contents of ‘data’ directory ... OK
* checking data for non-ASCII characters ... OK
* checking data for ASCII and uncompressed saves ... OK
* checking line endings in C/C++/Fortran sources/headers ... OK
* checking compiled code ... NOTE
Note: information on .o files is not available
* checking sizes of PDF files under ‘inst/doc’ ... OK
* checking files in ‘vignettes’ ... OK
* checking examples ... OK
Examples with CPU (user + system) or elapsed time > 5s
user system elapsed
stringDist 6.571 0.09 6.853
* checking for unstated dependencies in ‘tests’ ... OK
* checking tests ...
Running ‘run_unitTests.R’
OK
* checking for unstated dependencies in vignettes ... OK
* checking package vignettes ... OK
* checking running R code from vignettes ... SKIPPED
* checking re-building of vignette outputs ... SKIPPED
* checking PDF version of manual ... OK
* DONE
Status: 2 NOTEs
See
‘/Users/biocbuild/bbs-3.19-bioc/meat/pwalign.Rcheck/00check.log’
for details.
pwalign.Rcheck/00install.out
############################################################################## ############################################################################## ### ### Running command: ### ### /Library/Frameworks/R.framework/Resources/bin/R CMD INSTALL pwalign ### ############################################################################## ############################################################################## * installing to library ‘/Library/Frameworks/R.framework/Versions/4.4-arm64/Resources/library’ * installing *source* package ‘pwalign’ ... ** using staged installation ** libs using C compiler: ‘Apple clang version 15.0.0 (clang-1500.0.40.1)’ using SDK: ‘MacOSX11.3.sdk’ clang -arch arm64 -I"/Library/Frameworks/R.framework/Resources/include" -DNDEBUG -I'/Library/Frameworks/R.framework/Versions/4.4-arm64/Resources/library/S4Vectors/include' -I'/Library/Frameworks/R.framework/Versions/4.4-arm64/Resources/library/IRanges/include' -I'/Library/Frameworks/R.framework/Versions/4.4-arm64/Resources/library/XVector/include' -I'/Library/Frameworks/R.framework/Versions/4.4-arm64/Resources/library/Biostrings/include' -I/opt/R/arm64/include -fPIC -falign-functions=64 -Wall -g -O2 -c Biostrings_stubs.c -o Biostrings_stubs.o clang -arch arm64 -I"/Library/Frameworks/R.framework/Resources/include" -DNDEBUG -I'/Library/Frameworks/R.framework/Versions/4.4-arm64/Resources/library/S4Vectors/include' -I'/Library/Frameworks/R.framework/Versions/4.4-arm64/Resources/library/IRanges/include' -I'/Library/Frameworks/R.framework/Versions/4.4-arm64/Resources/library/XVector/include' -I'/Library/Frameworks/R.framework/Versions/4.4-arm64/Resources/library/Biostrings/include' -I/opt/R/arm64/include -fPIC -falign-functions=64 -Wall -g -O2 -c IRanges_stubs.c -o IRanges_stubs.o clang -arch arm64 -I"/Library/Frameworks/R.framework/Resources/include" -DNDEBUG -I'/Library/Frameworks/R.framework/Versions/4.4-arm64/Resources/library/S4Vectors/include' -I'/Library/Frameworks/R.framework/Versions/4.4-arm64/Resources/library/IRanges/include' -I'/Library/Frameworks/R.framework/Versions/4.4-arm64/Resources/library/XVector/include' -I'/Library/Frameworks/R.framework/Versions/4.4-arm64/Resources/library/Biostrings/include' -I/opt/R/arm64/include -fPIC -falign-functions=64 -Wall -g -O2 -c R_init_pairwiseAlignment.c -o R_init_pairwiseAlignment.o clang -arch arm64 -I"/Library/Frameworks/R.framework/Resources/include" -DNDEBUG -I'/Library/Frameworks/R.framework/Versions/4.4-arm64/Resources/library/S4Vectors/include' -I'/Library/Frameworks/R.framework/Versions/4.4-arm64/Resources/library/IRanges/include' -I'/Library/Frameworks/R.framework/Versions/4.4-arm64/Resources/library/XVector/include' -I'/Library/Frameworks/R.framework/Versions/4.4-arm64/Resources/library/Biostrings/include' -I/opt/R/arm64/include -fPIC -falign-functions=64 -Wall -g -O2 -c S4Vectors_stubs.c -o S4Vectors_stubs.o clang -arch arm64 -I"/Library/Frameworks/R.framework/Resources/include" -DNDEBUG -I'/Library/Frameworks/R.framework/Versions/4.4-arm64/Resources/library/S4Vectors/include' -I'/Library/Frameworks/R.framework/Versions/4.4-arm64/Resources/library/IRanges/include' -I'/Library/Frameworks/R.framework/Versions/4.4-arm64/Resources/library/XVector/include' -I'/Library/Frameworks/R.framework/Versions/4.4-arm64/Resources/library/Biostrings/include' -I/opt/R/arm64/include -fPIC -falign-functions=64 -Wall -g -O2 -c XVector_stubs.c -o XVector_stubs.o clang -arch arm64 -I"/Library/Frameworks/R.framework/Resources/include" -DNDEBUG -I'/Library/Frameworks/R.framework/Versions/4.4-arm64/Resources/library/S4Vectors/include' -I'/Library/Frameworks/R.framework/Versions/4.4-arm64/Resources/library/IRanges/include' -I'/Library/Frameworks/R.framework/Versions/4.4-arm64/Resources/library/XVector/include' -I'/Library/Frameworks/R.framework/Versions/4.4-arm64/Resources/library/Biostrings/include' -I/opt/R/arm64/include -fPIC -falign-functions=64 -Wall -g -O2 -c align_pairwiseAlignment.c -o align_pairwiseAlignment.o clang -arch arm64 -I"/Library/Frameworks/R.framework/Resources/include" -DNDEBUG -I'/Library/Frameworks/R.framework/Versions/4.4-arm64/Resources/library/S4Vectors/include' -I'/Library/Frameworks/R.framework/Versions/4.4-arm64/Resources/library/IRanges/include' -I'/Library/Frameworks/R.framework/Versions/4.4-arm64/Resources/library/XVector/include' -I'/Library/Frameworks/R.framework/Versions/4.4-arm64/Resources/library/Biostrings/include' -I/opt/R/arm64/include -fPIC -falign-functions=64 -Wall -g -O2 -c align_utils.c -o align_utils.o clang -arch arm64 -dynamiclib -Wl,-headerpad_max_install_names -undefined dynamic_lookup -L/Library/Frameworks/R.framework/Resources/lib -L/opt/R/arm64/lib -o pwalign.so Biostrings_stubs.o IRanges_stubs.o R_init_pairwiseAlignment.o S4Vectors_stubs.o XVector_stubs.o align_pairwiseAlignment.o align_utils.o -F/Library/Frameworks/R.framework/.. -framework R -Wl,-framework -Wl,CoreFoundation installing to /Library/Frameworks/R.framework/Versions/4.4-arm64/Resources/library/00LOCK-pwalign/00new/pwalign/libs ** R ** data ** inst ** byte-compile and prepare package for lazy loading Creating a new generic function for ‘insertion’ in package ‘pwalign’ Creating a new generic function for ‘deletion’ in package ‘pwalign’ Creating a new generic function for ‘unaligned’ in package ‘pwalign’ Creating a new generic function for ‘aligned’ in package ‘pwalign’ Creating a new generic function for ‘indel’ in package ‘pwalign’ Creating a new generic function for ‘nindel’ in package ‘pwalign’ Creating a new generic function for ‘PairwiseAlignments’ in package ‘pwalign’ Creating a new generic function for ‘alignedPattern’ in package ‘pwalign’ Creating a new generic function for ‘alignedSubject’ in package ‘pwalign’ Creating a new generic function for ‘PairwiseAlignmentsSingleSubject’ in package ‘pwalign’ Creating a new generic function for ‘nedit’ in package ‘pwalign’ Creating a new generic function for ‘mismatchTable’ in package ‘pwalign’ Creating a new generic function for ‘mismatchSummary’ in package ‘pwalign’ Creating a new generic function for ‘compareStrings’ in package ‘pwalign’ Creating a new generic function for ‘pid’ in package ‘pwalign’ Creating a new generic function for ‘pairwiseAlignment’ in package ‘pwalign’ Creating a new generic function for ‘stringDist’ in package ‘pwalign’ ** help *** installing help indices ** building package indices ** installing vignettes ** testing if installed package can be loaded from temporary location ** checking absolute paths in shared objects and dynamic libraries ** testing if installed package can be loaded from final location ** testing if installed package keeps a record of temporary installation path * DONE (pwalign)
pwalign.Rcheck/tests/run_unitTests.Rout
R version 4.4.1 (2024-06-14) -- "Race for Your Life"
Copyright (C) 2024 The R Foundation for Statistical Computing
Platform: aarch64-apple-darwin20
R is free software and comes with ABSOLUTELY NO WARRANTY.
You are welcome to redistribute it under certain conditions.
Type 'license()' or 'licence()' for distribution details.
R is a collaborative project with many contributors.
Type 'contributors()' for more information and
'citation()' on how to cite R or R packages in publications.
Type 'demo()' for some demos, 'help()' for on-line help, or
'help.start()' for an HTML browser interface to help.
Type 'q()' to quit R.
> require("pwalign") || stop("unable to load pwalign package")
Loading required package: pwalign
Loading required package: BiocGenerics
Attaching package: 'BiocGenerics'
The following objects are masked from 'package:stats':
IQR, mad, sd, var, xtabs
The following objects are masked from 'package:base':
Filter, Find, Map, Position, Reduce, anyDuplicated, aperm, append,
as.data.frame, basename, cbind, colnames, dirname, do.call,
duplicated, eval, evalq, get, grep, grepl, intersect, is.unsorted,
lapply, mapply, match, mget, order, paste, pmax, pmax.int, pmin,
pmin.int, rank, rbind, rownames, sapply, setdiff, table, tapply,
union, unique, unsplit, which.max, which.min
Loading required package: S4Vectors
Loading required package: stats4
Attaching package: 'S4Vectors'
The following object is masked from 'package:utils':
findMatches
The following objects are masked from 'package:base':
I, expand.grid, unname
Loading required package: IRanges
Loading required package: Biostrings
Loading required package: XVector
Loading required package: GenomeInfoDb
Attaching package: 'Biostrings'
The following object is masked from 'package:base':
strsplit
Attaching package: 'pwalign'
The following objects are masked from 'package:Biostrings':
PairwiseAlignments, PairwiseAlignmentsSingleSubject, aligned,
alignedPattern, alignedSubject, compareStrings, deletion,
errorSubstitutionMatrices, indel, insertion, mismatchSummary,
mismatchTable, nedit, nindel, nucleotideSubstitutionMatrix,
pairwiseAlignment, pid, qualitySubstitutionMatrices, stringDist,
unaligned, writePairwiseAlignments
[1] TRUE
> pwalign:::.test()
RUNIT TEST PROTOCOL -- Fri Oct 18 08:20:09 2024
***********************************************
Number of test functions: 7
Number of errors: 0
Number of failures: 0
1 Test Suite :
pwalign RUnit Tests - 7 test functions, 0 errors, 0 failures
Number of test functions: 7
Number of errors: 0
Number of failures: 0
>
> proc.time()
user system elapsed
9.916 1.060 11.259
pwalign.Rcheck/pwalign-Ex.timings
| name | user | system | elapsed | |
| AlignedXStringSet-class | 0.088 | 0.004 | 0.093 | |
| InDel-class | 0.092 | 0.008 | 0.101 | |
| PairwiseAlignments-class | 0.536 | 0.040 | 0.583 | |
| PairwiseAlignments-io | 2.271 | 0.187 | 2.588 | |
| align-utils | 0.047 | 0.005 | 0.054 | |
| pairwiseAlignment | 1.266 | 0.090 | 1.465 | |
| phiX174Phage | 0.796 | 0.080 | 0.918 | |
| pid | 0.322 | 0.041 | 0.383 | |
| predefined_scoring_matrices | 0.230 | 0.007 | 0.247 | |
| stringDist | 6.571 | 0.090 | 6.853 | |
| substitution_matrices | 0.558 | 0.050 | 0.618 | |