Back to Multiple platform build/check report for BioC 3.19:   simplified   long
ABCDEFGHIJKLMNO[P]QRSTUVWXYZ

This page was generated on 2024-10-18 20:42 -0400 (Fri, 18 Oct 2024).

HostnameOSArch (*)R versionInstalled pkgs
nebbiolo1Linux (Ubuntu 22.04.3 LTS)x86_644.4.1 (2024-06-14) -- "Race for Your Life" 4763
palomino7Windows Server 2022 Datacenterx644.4.1 (2024-06-14 ucrt) -- "Race for Your Life" 4500
merida1macOS 12.7.5 Montereyx86_644.4.1 (2024-06-14) -- "Race for Your Life" 4530
kjohnson1macOS 13.6.6 Venturaarm644.4.1 (2024-06-14) -- "Race for Your Life" 4480
Click on any hostname to see more info about the system (e.g. compilers)      (*) as reported by 'uname -p', except on Windows and Mac OS X

Package 1627/2300HostnameOS / ArchINSTALLBUILDCHECKBUILD BIN
psichomics 1.30.0  (landing page)
Nuno Saraiva-Agostinho
Snapshot Date: 2024-10-16 14:00 -0400 (Wed, 16 Oct 2024)
git_url: https://git.bioconductor.org/packages/psichomics
git_branch: RELEASE_3_19
git_last_commit: 67f272c
git_last_commit_date: 2024-04-30 10:54:27 -0400 (Tue, 30 Apr 2024)
nebbiolo1Linux (Ubuntu 22.04.3 LTS) / x86_64  OK    OK    OK  UNNEEDED, same version is already published
palomino7Windows Server 2022 Datacenter / x64  OK    OK    OK    OK  UNNEEDED, same version is already published
merida1macOS 12.7.5 Monterey / x86_64  OK    OK    ERROR    OK  
kjohnson1macOS 13.6.6 Ventura / arm64  OK    OK    OK    OK  UNNEEDED, same version is already published


CHECK results for psichomics on kjohnson1

To the developers/maintainers of the psichomics package:
- Allow up to 24 hours (and sometimes 48 hours) for your latest push to git@git.bioconductor.org:packages/psichomics.git to reflect on this report. See Troubleshooting Build Report for more information.
- Use the following Renviron settings to reproduce errors and warnings.
- If 'R CMD check' started to fail recently on the Linux builder(s) over a missing dependency, add the missing dependency to 'Suggests:' in your DESCRIPTION file. See Renviron.bioc for more information.

raw results


Summary

Package: psichomics
Version: 1.30.0
Command: /Library/Frameworks/R.framework/Resources/bin/R CMD check --install=check:psichomics.install-out.txt --library=/Library/Frameworks/R.framework/Resources/library --no-vignettes --timings psichomics_1.30.0.tar.gz
StartedAt: 2024-10-18 08:10:54 -0400 (Fri, 18 Oct 2024)
EndedAt: 2024-10-18 08:20:44 -0400 (Fri, 18 Oct 2024)
EllapsedTime: 589.5 seconds
RetCode: 0
Status:   OK  
CheckDir: psichomics.Rcheck
Warnings: 0

Command output

##############################################################################
##############################################################################
###
### Running command:
###
###   /Library/Frameworks/R.framework/Resources/bin/R CMD check --install=check:psichomics.install-out.txt --library=/Library/Frameworks/R.framework/Resources/library --no-vignettes --timings psichomics_1.30.0.tar.gz
###
##############################################################################
##############################################################################


* using log directory ‘/Users/biocbuild/bbs-3.19-bioc/meat/psichomics.Rcheck’
* using R version 4.4.1 (2024-06-14)
* using platform: aarch64-apple-darwin20
* R was compiled by
    Apple clang version 14.0.0 (clang-1400.0.29.202)
    GNU Fortran (GCC) 12.2.0
* running under: macOS Ventura 13.6.6
* using session charset: UTF-8
* using option ‘--no-vignettes’
* checking for file ‘psichomics/DESCRIPTION’ ... OK
* this is package ‘psichomics’ version ‘1.30.0’
* package encoding: UTF-8
* checking package namespace information ... OK
* checking package dependencies ... OK
* checking if this is a source package ... OK
* checking if there is a namespace ... OK
* checking for hidden files and directories ... NOTE
Found the following hidden files and directories:
  .devcontainer
These were most likely included in error. See section ‘Package
structure’ in the ‘Writing R Extensions’ manual.
* checking for portable file names ... OK
* checking for sufficient/correct file permissions ... OK
* checking whether package ‘psichomics’ can be installed ... OK
* used C++ compiler: ‘Apple clang version 15.0.0 (clang-1500.0.40.1)’
* used SDK: ‘MacOSX11.3.sdk’
* checking installed package size ... OK
* checking package directory ... OK
* checking ‘build’ directory ... OK
* checking DESCRIPTION meta-information ... OK
* checking top-level files ... OK
* checking for left-over files ... OK
* checking index information ... OK
* checking package subdirectories ... OK
* checking code files for non-ASCII characters ... OK
* checking R files for syntax errors ... OK
* checking whether the package can be loaded ... OK
* checking whether the package can be loaded with stated dependencies ... OK
* checking whether the package can be unloaded cleanly ... OK
* checking whether the namespace can be loaded with stated dependencies ... OK
* checking whether the namespace can be unloaded cleanly ... OK
* checking whether startup messages can be suppressed ... OK
* checking dependencies in R code ... OK
* checking S3 generic/method consistency ... OK
* checking replacement functions ... OK
* checking foreign function calls ... OK
* checking R code for possible problems ... OK
* checking Rd files ... OK
* checking Rd metadata ... OK
* checking Rd cross-references ... OK
* checking for missing documentation entries ... OK
* checking for code/documentation mismatches ... OK
* checking Rd \usage sections ... NOTE
Documented arguments not in \usage in Rd file 'createSparklines.Rd':
  ‘id’

Documented arguments not in \usage in Rd file 'renderGeneticInfo.Rd':
  ‘ns’

Functions with \usage entries need to have the appropriate \alias
entries, and all their arguments documented.
The \usage entries must correspond to syntactically valid R code.
See chapter ‘Writing R documentation files’ in the ‘Writing R
Extensions’ manual.
* checking Rd contents ... OK
* checking for unstated dependencies in examples ... OK
* checking line endings in C/C++/Fortran sources/headers ... OK
* checking compiled code ... NOTE
Note: information on .o files is not available
* checking files in ‘vignettes’ ... OK
* checking examples ... OK
Examples with CPU (user + system) or elapsed time > 5s
                          user system elapsed
convertGeneIdentifiers  22.176  1.160  27.373
listSplicingAnnotations 17.507  0.968  21.069
loadAnnotation           5.863  0.306   6.923
* checking for unstated dependencies in ‘tests’ ... OK
* checking tests ...
  Running ‘spelling.R’
  Running ‘testthat.R’
 OK
* checking for unstated dependencies in vignettes ... OK
* checking package vignettes ... OK
* checking running R code from vignettes ... SKIPPED
* checking re-building of vignette outputs ... SKIPPED
* checking PDF version of manual ... OK
* DONE

Status: 3 NOTEs
See
  ‘/Users/biocbuild/bbs-3.19-bioc/meat/psichomics.Rcheck/00check.log’
for details.


Installation output

psichomics.Rcheck/00install.out

##############################################################################
##############################################################################
###
### Running command:
###
###   /Library/Frameworks/R.framework/Resources/bin/R CMD INSTALL psichomics
###
##############################################################################
##############################################################################


* installing to library ‘/Library/Frameworks/R.framework/Versions/4.4-arm64/Resources/library’
* installing *source* package ‘psichomics’ ...
** using staged installation
** libs
using C++ compiler: ‘Apple clang version 15.0.0 (clang-1500.0.40.1)’
using SDK: ‘MacOSX11.3.sdk’
clang++ -arch arm64 -std=gnu++17 -I"/Library/Frameworks/R.framework/Resources/include" -DNDEBUG  -I'/Library/Frameworks/R.framework/Versions/4.4-arm64/Resources/library/Rcpp/include' -I/opt/R/arm64/include    -fPIC  -falign-functions=64 -Wall -g -O2   -c RcppExports.cpp -o RcppExports.o
clang++ -arch arm64 -std=gnu++17 -I"/Library/Frameworks/R.framework/Resources/include" -DNDEBUG  -I'/Library/Frameworks/R.framework/Versions/4.4-arm64/Resources/library/Rcpp/include' -I/opt/R/arm64/include    -fPIC  -falign-functions=64 -Wall -g -O2   -c progressBar.cpp -o progressBar.o
clang++ -arch arm64 -std=gnu++17 -I"/Library/Frameworks/R.framework/Resources/include" -DNDEBUG  -I'/Library/Frameworks/R.framework/Versions/4.4-arm64/Resources/library/Rcpp/include' -I/opt/R/arm64/include    -fPIC  -falign-functions=64 -Wall -g -O2   -c psiFastCalc.cpp -o psiFastCalc.o
clang++ -arch arm64 -std=gnu++17 -I"/Library/Frameworks/R.framework/Resources/include" -DNDEBUG  -I'/Library/Frameworks/R.framework/Versions/4.4-arm64/Resources/library/Rcpp/include' -I/opt/R/arm64/include    -fPIC  -falign-functions=64 -Wall -g -O2   -c vastToolsParser.cpp -o vastToolsParser.o
clang++ -arch arm64 -std=gnu++17 -dynamiclib -Wl,-headerpad_max_install_names -undefined dynamic_lookup -L/Library/Frameworks/R.framework/Resources/lib -L/opt/R/arm64/lib -o psichomics.so RcppExports.o progressBar.o psiFastCalc.o vastToolsParser.o -F/Library/Frameworks/R.framework/.. -framework R -Wl,-framework -Wl,CoreFoundation
installing to /Library/Frameworks/R.framework/Versions/4.4-arm64/Resources/library/00LOCK-psichomics/00new/psichomics/libs
** R
** inst
** byte-compile and prepare package for lazy loading
Creating a generic function for ‘colSums’ from package ‘base’ in package ‘psichomics’
** help
*** installing help indices
*** copying figures
** building package indices
** installing vignettes
** testing if installed package can be loaded from temporary location
** checking absolute paths in shared objects and dynamic libraries
** testing if installed package can be loaded from final location
** testing if installed package keeps a record of temporary installation path
* DONE (psichomics)

Tests output

psichomics.Rcheck/tests/spelling.Rout


R version 4.4.1 (2024-06-14) -- "Race for Your Life"
Copyright (C) 2024 The R Foundation for Statistical Computing
Platform: aarch64-apple-darwin20

R is free software and comes with ABSOLUTELY NO WARRANTY.
You are welcome to redistribute it under certain conditions.
Type 'license()' or 'licence()' for distribution details.

R is a collaborative project with many contributors.
Type 'contributors()' for more information and
'citation()' on how to cite R or R packages in publications.

Type 'demo()' for some demos, 'help()' for on-line help, or
'help.start()' for an HTML browser interface to help.
Type 'q()' to quit R.

> if(requireNamespace('spelling', quietly = TRUE))
+   spelling::spell_check_test(vignettes = TRUE, error = FALSE,
+                              skip_on_cran = TRUE)
NULL
> 
> proc.time()
   user  system elapsed 
  0.234   0.083   0.324 

psichomics.Rcheck/tests/testthat.Rout


R version 4.4.1 (2024-06-14) -- "Race for Your Life"
Copyright (C) 2024 The R Foundation for Statistical Computing
Platform: aarch64-apple-darwin20

R is free software and comes with ABSOLUTELY NO WARRANTY.
You are welcome to redistribute it under certain conditions.
Type 'license()' or 'licence()' for distribution details.

R is a collaborative project with many contributors.
Type 'contributors()' for more information and
'citation()' on how to cite R or R packages in publications.

Type 'demo()' for some demos, 'help()' for on-line help, or
'help.start()' for an HTML browser interface to help.
Type 'q()' to quit R.

> library(testthat)
> library(psichomics)
Loading required package: shiny
Loading required package: shinyBS
Setting options('download.file.method.GEOquery'='auto')
Setting options('GEOquery.inmemory.gpl'=FALSE)

psichomics 1.30.0: start the visual interface by running psichomics()
Full documentation and tutorials at https://nuno-agostinho.github.io/psichomics
> 
> test_check("psichomics")
  |                                        |   0% 
  |========                                |  20% 
  |================                        |  40% 
  |========================                |  60% 
  |================================        |  80% 
  |========================================| 100% 
  |                                        |   0% 
  |========                                |  20% 
  |================                        |  40% 
  |========================                |  60% 
  |================================        |  80% 
  |========================================| 100% 
  |                                        |   0% 
  |========                                |  20% 
  |================                        |  40% 
  |========================                |  60% 
  |================================        |  80% 
  |========================================| 100% 
  |                                        |   0% 
  |========                                |  20% 
  |================                        |  40% 
  |========================                |  60% 
  |================================        |  80% 
  |========================================| 100% 





























Retrieving rMATS annotation...

Parsing rMATS annotation...

Retrieving rMATS annotation...

Parsing rMATS annotation...

Retrieving MISO annotation...

Parsing MISO annotation...
  |                                        |   0% 
  |========                                |  20% 
  |================                        |  40% 
  |========================                |  60% 
  |================================        |  80% 
  |========================================| 100% 
  |                                        |   0% 
  |========                                |  20% 
  |================                        |  40% 
  |========================                |  60% 
  |================================        |  80% 
  |========================================| 100% 
  |                                        |   0% 
  |========                                |  20% 
  |================                        |  40% 
  |========================                |  60% 
  |================================        |  80% 
  |========================================| 100% 
  |                                        |   0% 
  |========                                |  20% 
  |================                        |  40% 
  |========================                |  60% 
  |================================        |  80% 
  |========================================| 100% 
  |                                        |   0% 
  |========                                |  20% 
  |================                        |  40% 
  |========================                |  60% 
  |================================        |  80% 
  |========================================| 100% 
  |                                        |   0% 
  |========                                |  20% 
  |================                        |  40% 
  |========================                |  60% 
  |================================        |  80% 
  |========================================| 100% 
  |                                        |   0% 
  |========                                |  20% 
  |================                        |  40% 
  |========================                |  60% 
  |================================        |  80% 
  |========================================| 100% 
  |                                        |   0% 
  |========                                |  20% 
  |================                        |  40% 
  |========================                |  60% 
  |================================        |  80% 
  |========================================| 100% 

Retrieving SUPPA annotation...

Parsing SUPPA annotation...

Retrieving VAST-TOOLS annotation...

Parsing VAST-TOOLS annotation...

ALT3

ALT5

COMBI

EXSK

IR

MERGE3m

MIC

MULTI
[ FAIL 0 | WARN 0 | SKIP 4 | PASS 1418 ]

══ Skipped tests (4) ═══════════════════════════════════════════════════════════
• Couldn't resolve host name (1): 'testGeneInfo.R:99:5'
• On Bioconductor (2): 'testDiscardLowCoveragePSIs.R:62:5',
  'testGeneInfo.R:50:5'
• On CRAN (1): 'testSRAloading.R:4:5'

[ FAIL 0 | WARN 0 | SKIP 4 | PASS 1418 ]
> 
> proc.time()
   user  system elapsed 
 28.842   2.172  35.652 

Example timings

psichomics.Rcheck/psichomics-Ex.timings

nameusersystemelapsed
addObjectAttrs0.0000.0010.001
assignValuePerSubject0.0210.0080.029
blendColours0.0010.0010.002
calculateLoadingsContribution0.0130.0050.020
convertGeneIdentifiers22.176 1.16027.373
correlateGEandAS0.0210.0050.026
createGroupByAttribute0.0020.0000.003
createJunctionsTemplate0.0020.0010.002
customRowMeans0.0010.0010.003
diffAnalyses0.0840.0070.091
downloadFiles0.0000.0000.001
ensemblToUniprot0.0230.0020.363
filterGeneExpr0.0080.0010.009
filterGroups0.0010.0000.002
filterPSI0.0130.0040.017
getAttributesTime0.0020.0000.002
getDownloadsFolder0.0010.0000.000
getFirebrowseDateFormat0.0000.0000.001
getGeneList0.0050.0010.006
getGtexDataTypes0.0010.0010.001
getGtexTissues000
getNumerics0.0010.0010.002
getSampleFromSubject0.0010.0000.002
getSplicingEventFromGenes0.0050.0010.006
getSplicingEventTypes0.0010.0000.001
getSubjectFromSample0.0010.0000.000
getTCGAdataTypes0.0340.0040.483
getValidEvents0.0030.0010.004
groupPerElem0.0010.0000.001
hchart.survfit0.2620.1050.389
isFirebrowseUp0.0060.0010.093
labelBasedOnCutoff0.0010.0010.001
leveneTest0.0090.0000.009
listAllAnnotations3.6340.2444.452
listSplicingAnnotations17.507 0.96821.069
loadAnnotation5.8630.3066.923
loadGtexData000
loadLocalFiles000
loadSRAproject000
loadTCGAdata0.0100.0020.188
missingDataModal0.0000.0000.001
normaliseGeneExpression0.0300.0020.033
optimalSurvivalCutoff0.0960.0010.101
parseCategoricalGroups0.0010.0000.001
parseFirebrowseMetadata0.0480.0050.497
parseMatsEvent0.0050.0010.005
parseMatsGeneric0.0210.0030.026
parseMisoAnnotation0.1230.0160.142
parseMisoEvent0.0040.0010.004
parseMisoEventID0.0060.0020.008
parseMisoGeneric0.0270.0030.030
parseMisoId0.0000.0000.001
parseSplicingEvent0.0060.0020.007
parseSuppaEvent0.0030.0010.004
parseSuppaGeneric0.0150.0020.017
parseTcgaSampleInfo0.0050.0010.007
parseUrlsFromFirebrowseResponse0.0300.0010.327
parseVastToolsEvent0.0050.0000.005
parseVastToolsSE0.0150.0000.016
performICA0.0070.0030.010
performPCA0.0020.0010.002
plot.GEandAScorrelation0.5610.0180.582
plotDistribution0.6850.0670.785
plotGeneExprPerSample0.0930.0280.122
plotGroupIndependence0.1970.0040.205
plotICA0.1130.0110.131
plotLibrarySize0.1930.0270.226
plotPCA0.2440.1200.388
plotPCAvariance0.0470.0280.077
plotProtein0.6000.0650.990
plotRowStats0.4530.0110.482
plotSingleICA0.2240.0870.320
plotSplicingEvent0.0450.0020.050
plotSurvivalCurves0.0840.0340.123
plotSurvivalPvaluesByCutoff0.4150.0370.476
plotTranscripts0.0200.0021.000
prepareAnnotationFromEvents0.1620.0070.171
prepareFirebrowseArchives000
prepareJunctionQuantSTAR000
prepareSRAmetadata000
processSurvTerms0.0090.0010.009
psichomics000
quantifySplicing0.0510.0050.057
queryEnsembl0.0300.0030.326
queryEnsemblByGene0.1120.0142.047
queryFirebrowseData0.0490.0030.636
queryPubMed0.0310.0060.962
queryUniprot0.0800.0010.281
readFile0.0020.0000.002
renameDuplicated0.0010.0000.002
renderBoxplot0.0780.0300.111
survdiffTerms0.0080.0010.010
survfit.survTerms0.0290.0020.031
testGroupIndependence0.0040.0000.005
testSurvival0.0320.0010.033
textSuggestions0.0010.0010.001
trimWhitespace0.0000.0000.001