| Back to Multiple platform build/check report for BioC 3.19: simplified long |
|
This page was generated on 2024-06-11 14:44 -0400 (Tue, 11 Jun 2024).
| Hostname | OS | Arch (*) | R version | Installed pkgs |
|---|---|---|---|---|
| nebbiolo1 | Linux (Ubuntu 22.04.3 LTS) | x86_64 | 4.4.0 (2024-04-24) -- "Puppy Cup" | 4757 |
| palomino3 | Windows Server 2022 Datacenter | x64 | 4.4.0 (2024-04-24 ucrt) -- "Puppy Cup" | 4491 |
| lconway | macOS 12.7.1 Monterey | x86_64 | 4.4.0 (2024-04-24) -- "Puppy Cup" | 4522 |
| kjohnson3 | macOS 13.6.5 Ventura | arm64 | 4.4.0 (2024-04-24) -- "Puppy Cup" | 4468 |
| Click on any hostname to see more info about the system (e.g. compilers) (*) as reported by 'uname -p', except on Windows and Mac OS X | ||||
| Package 1589/2300 | Hostname | OS / Arch | INSTALL | BUILD | CHECK | BUILD BIN | ||||||||
| podkat 1.36.0 (landing page) Ulrich Bodenhofer
| nebbiolo1 | Linux (Ubuntu 22.04.3 LTS) / x86_64 | OK | OK | OK | |||||||||
| palomino3 | Windows Server 2022 Datacenter / x64 | OK | OK | OK | OK | |||||||||
| lconway | macOS 12.7.1 Monterey / x86_64 | OK | OK | OK | OK | |||||||||
| kjohnson3 | macOS 13.6.5 Ventura / arm64 | OK | OK | OK | OK | |||||||||
|
To the developers/maintainers of the podkat package: - Allow up to 24 hours (and sometimes 48 hours) for your latest push to git@git.bioconductor.org:packages/podkat.git to reflect on this report. See Troubleshooting Build Report for more information. - Use the following Renviron settings to reproduce errors and warnings. - If 'R CMD check' started to fail recently on the Linux builder(s) over a missing dependency, add the missing dependency to 'Suggests:' in your DESCRIPTION file. See Renviron.bioc for more information. |
| Package: podkat |
| Version: 1.36.0 |
| Command: /Library/Frameworks/R.framework/Resources/bin/R CMD check --install=check:podkat.install-out.txt --library=/Library/Frameworks/R.framework/Resources/library --no-vignettes --timings podkat_1.36.0.tar.gz |
| StartedAt: 2024-06-11 01:32:41 -0400 (Tue, 11 Jun 2024) |
| EndedAt: 2024-06-11 01:41:24 -0400 (Tue, 11 Jun 2024) |
| EllapsedTime: 522.7 seconds |
| RetCode: 0 |
| Status: OK |
| CheckDir: podkat.Rcheck |
| Warnings: 0 |
##############################################################################
##############################################################################
###
### Running command:
###
### /Library/Frameworks/R.framework/Resources/bin/R CMD check --install=check:podkat.install-out.txt --library=/Library/Frameworks/R.framework/Resources/library --no-vignettes --timings podkat_1.36.0.tar.gz
###
##############################################################################
##############################################################################
* using log directory ‘/Users/biocbuild/bbs-3.19-bioc/meat/podkat.Rcheck’
* using R version 4.4.0 (2024-04-24)
* using platform: aarch64-apple-darwin20
* R was compiled by
Apple clang version 14.0.0 (clang-1400.0.29.202)
GNU Fortran (GCC) 12.2.0
* running under: macOS Ventura 13.6.5
* using session charset: UTF-8
* using option ‘--no-vignettes’
* checking for file ‘podkat/DESCRIPTION’ ... OK
* checking extension type ... Package
* this is package ‘podkat’ version ‘1.36.0’
* checking package namespace information ... OK
* checking package dependencies ... OK
* checking if this is a source package ... OK
* checking if there is a namespace ... OK
* checking for hidden files and directories ... OK
* checking for portable file names ... OK
* checking for sufficient/correct file permissions ... OK
* checking whether package ‘podkat’ can be installed ... OK
* used C++ compiler: ‘Apple clang version 15.0.0 (clang-1500.1.0.2.5)’
* used SDK: ‘MacOSX11.3.sdk’
* checking installed package size ... OK
* checking package directory ... OK
* checking ‘build’ directory ... OK
* checking DESCRIPTION meta-information ... OK
* checking top-level files ... OK
* checking for left-over files ... OK
* checking index information ... OK
* checking package subdirectories ... OK
* checking code files for non-ASCII characters ... OK
* checking R files for syntax errors ... OK
* checking whether the package can be loaded ... OK
* checking whether the package can be loaded with stated dependencies ... OK
* checking whether the package can be unloaded cleanly ... OK
* checking whether the namespace can be loaded with stated dependencies ... OK
* checking whether the namespace can be unloaded cleanly ... OK
* checking dependencies in R code ... OK
* checking S3 generic/method consistency ... OK
* checking replacement functions ... OK
* checking foreign function calls ... OK
* checking R code for possible problems ... OK
* checking Rd files ... OK
* checking Rd metadata ... OK
* checking Rd cross-references ... OK
* checking for missing documentation entries ... OK
* checking for code/documentation mismatches ... OK
* checking Rd \usage sections ... OK
* checking Rd contents ... OK
* checking for unstated dependencies in examples ... OK
* checking contents of ‘data’ directory ... OK
* checking data for non-ASCII characters ... OK
* checking data for ASCII and uncompressed saves ... OK
* checking line endings in C/C++/Fortran sources/headers ... OK
* checking line endings in Makefiles ... OK
* checking compilation flags in Makevars ... OK
* checking for GNU extensions in Makefiles ... NOTE
GNU make is a SystemRequirements.
* checking for portable use of $(BLAS_LIBS) and $(LAPACK_LIBS) ... OK
* checking use of PKG_*FLAGS in Makefiles ... OK
* checking compiled code ... NOTE
Note: information on .o files is not available
File ‘/Library/Frameworks/R.framework/Versions/4.4-arm64/Resources/library/podkat/libs/podkat.so’:
Found ‘___assert_rtn’, possibly from ‘assert’ (C)
Found ‘___stderrp’, possibly from ‘stderr’ (C)
Found ‘___stdoutp’, possibly from ‘stdout’ (C)
Found ‘_abort’, possibly from ‘abort’ (C)
Found ‘_exit’, possibly from ‘exit’ (C)
Compiled code should not call entry points which might terminate R nor
write to stdout/stderr instead of to the console, nor use Fortran I/O
nor system RNGs nor [v]sprintf. The detected symbols are linked into
the code but might come from libraries and not actually be called.
See ‘Writing portable packages’ in the ‘Writing R Extensions’ manual.
* checking sizes of PDF files under ‘inst/doc’ ... OK
* checking files in ‘vignettes’ ... OK
* checking examples ... OK
Examples with CPU (user + system) or elapsed time > 5s
user system elapsed
unmaskedRegions 34.274 2.493 50.241
assocTest-methods 12.024 0.309 16.265
plot-methods 7.695 0.198 10.820
GenotypeMatrix-class 4.158 0.103 5.131
split-methods 3.427 0.160 5.154
* checking for unstated dependencies in vignettes ... OK
* checking package vignettes ... OK
* checking running R code from vignettes ... SKIPPED
* checking re-building of vignette outputs ... SKIPPED
* checking PDF version of manual ... OK
* DONE
Status: 2 NOTEs
See
‘/Users/biocbuild/bbs-3.19-bioc/meat/podkat.Rcheck/00check.log’
for details.
podkat.Rcheck/00install.out
############################################################################## ############################################################################## ### ### Running command: ### ### /Library/Frameworks/R.framework/Resources/bin/R CMD INSTALL podkat ### ############################################################################## ############################################################################## * installing to library ‘/Library/Frameworks/R.framework/Versions/4.4-arm64/Resources/library’ * installing *source* package ‘podkat’ ... ** using staged installation ** libs using C++ compiler: ‘Apple clang version 15.0.0 (clang-1500.1.0.2.5)’ using SDK: ‘MacOSX11.3.sdk’ clang++ -arch arm64 -std=gnu++17 -I"/Library/Frameworks/R.framework/Resources/include" -DNDEBUG -D_FILE_OFFSET_BITS=64 -I'/Library/Frameworks/R.framework/Versions/4.4-arm64/Resources/library/Rcpp/include' -I'/Library/Frameworks/R.framework/Versions/4.4-arm64/Resources/library/Rhtslib/include' -I/opt/R/arm64/include -fPIC -falign-functions=64 -Wall -g -O2 -c R_init_podkat.cpp -o R_init_podkat.o clang++ -arch arm64 -std=gnu++17 -I"/Library/Frameworks/R.framework/Resources/include" -DNDEBUG -D_FILE_OFFSET_BITS=64 -I'/Library/Frameworks/R.framework/Versions/4.4-arm64/Resources/library/Rcpp/include' -I'/Library/Frameworks/R.framework/Versions/4.4-arm64/Resources/library/Rhtslib/include' -I/opt/R/arm64/include -fPIC -falign-functions=64 -Wall -g -O2 -c bernoulliExact.cpp -o bernoulliExact.o clang++ -arch arm64 -std=gnu++17 -I"/Library/Frameworks/R.framework/Resources/include" -DNDEBUG -D_FILE_OFFSET_BITS=64 -I'/Library/Frameworks/R.framework/Versions/4.4-arm64/Resources/library/Rcpp/include' -I'/Library/Frameworks/R.framework/Versions/4.4-arm64/Resources/library/Rhtslib/include' -I/opt/R/arm64/include -fPIC -falign-functions=64 -Wall -g -O2 -c checkAndFixGenotype.cpp -o checkAndFixGenotype.o clang++ -arch arm64 -std=gnu++17 -I"/Library/Frameworks/R.framework/Resources/include" -DNDEBUG -D_FILE_OFFSET_BITS=64 -I'/Library/Frameworks/R.framework/Versions/4.4-arm64/Resources/library/Rcpp/include' -I'/Library/Frameworks/R.framework/Versions/4.4-arm64/Resources/library/Rhtslib/include' -I/opt/R/arm64/include -fPIC -falign-functions=64 -Wall -g -O2 -c cumMax.cpp -o cumMax.o clang++ -arch arm64 -std=gnu++17 -I"/Library/Frameworks/R.framework/Resources/include" -DNDEBUG -D_FILE_OFFSET_BITS=64 -I'/Library/Frameworks/R.framework/Versions/4.4-arm64/Resources/library/Rcpp/include' -I'/Library/Frameworks/R.framework/Versions/4.4-arm64/Resources/library/Rhtslib/include' -I/opt/R/arm64/include -fPIC -falign-functions=64 -Wall -g -O2 -c doubleMale.cpp -o doubleMale.o clang++ -arch arm64 -std=gnu++17 -I"/Library/Frameworks/R.framework/Resources/include" -DNDEBUG -D_FILE_OFFSET_BITS=64 -I'/Library/Frameworks/R.framework/Versions/4.4-arm64/Resources/library/Rcpp/include' -I'/Library/Frameworks/R.framework/Versions/4.4-arm64/Resources/library/Rhtslib/include' -I/opt/R/arm64/include -fPIC -falign-functions=64 -Wall -g -O2 -c kernels.cpp -o kernels.o clang++ -arch arm64 -std=gnu++17 -I"/Library/Frameworks/R.framework/Resources/include" -DNDEBUG -D_FILE_OFFSET_BITS=64 -I'/Library/Frameworks/R.framework/Versions/4.4-arm64/Resources/library/Rcpp/include' -I'/Library/Frameworks/R.framework/Versions/4.4-arm64/Resources/library/Rhtslib/include' -I/opt/R/arm64/include -fPIC -falign-functions=64 -Wall -g -O2 -c pValues.cpp -o pValues.o clang++ -arch arm64 -std=gnu++17 -I"/Library/Frameworks/R.framework/Resources/include" -DNDEBUG -D_FILE_OFFSET_BITS=64 -I'/Library/Frameworks/R.framework/Versions/4.4-arm64/Resources/library/Rcpp/include' -I'/Library/Frameworks/R.framework/Versions/4.4-arm64/Resources/library/Rhtslib/include' -I/opt/R/arm64/include -fPIC -falign-functions=64 -Wall -g -O2 -c partitionRegions.cpp -o partitionRegions.o clang++ -arch arm64 -std=gnu++17 -I"/Library/Frameworks/R.framework/Resources/include" -DNDEBUG -D_FILE_OFFSET_BITS=64 -I'/Library/Frameworks/R.framework/Versions/4.4-arm64/Resources/library/Rcpp/include' -I'/Library/Frameworks/R.framework/Versions/4.4-arm64/Resources/library/Rhtslib/include' -I/opt/R/arm64/include -fPIC -falign-functions=64 -Wall -g -O2 -c qfc.cpp -o qfc.o clang++ -arch arm64 -std=gnu++17 -I"/Library/Frameworks/R.framework/Resources/include" -DNDEBUG -D_FILE_OFFSET_BITS=64 -I'/Library/Frameworks/R.framework/Versions/4.4-arm64/Resources/library/Rcpp/include' -I'/Library/Frameworks/R.framework/Versions/4.4-arm64/Resources/library/Rhtslib/include' -I/opt/R/arm64/include -fPIC -falign-functions=64 -Wall -g -O2 -c readGenotypeMatrix.cpp -o readGenotypeMatrix.o clang++ -arch arm64 -std=gnu++17 -I"/Library/Frameworks/R.framework/Resources/include" -DNDEBUG -D_FILE_OFFSET_BITS=64 -I'/Library/Frameworks/R.framework/Versions/4.4-arm64/Resources/library/Rcpp/include' -I'/Library/Frameworks/R.framework/Versions/4.4-arm64/Resources/library/Rhtslib/include' -I/opt/R/arm64/include -fPIC -falign-functions=64 -Wall -g -O2 -c readVariantInfo.cpp -o readVariantInfo.o clang++ -arch arm64 -std=gnu++17 -dynamiclib -Wl,-headerpad_max_install_names -undefined dynamic_lookup -L/Library/Frameworks/R.framework/Resources/lib -L/opt/R/arm64/lib -o podkat.so R_init_podkat.o bernoulliExact.o checkAndFixGenotype.o cumMax.o doubleMale.o kernels.o pValues.o partitionRegions.o qfc.o readGenotypeMatrix.o readVariantInfo.o /Library/Frameworks/R.framework/Versions/4.4-arm64/Resources/library/Rhtslib/usrlib/libhts.a -lcurl -lbz2 -llzma -lz -F/Library/Frameworks/R.framework/.. -framework R -Wl,-framework -Wl,CoreFoundation installing to /Library/Frameworks/R.framework/Versions/4.4-arm64/Resources/library/00LOCK-podkat/00new/podkat/libs ** R ** data ** inst ** byte-compile and prepare package for lazy loading Creating a generic function for ‘p.adjust’ from package ‘stats’ in package ‘podkat’ ** help *** installing help indices ** building package indices ** installing vignettes ** testing if installed package can be loaded from temporary location ** checking absolute paths in shared objects and dynamic libraries ** testing if installed package can be loaded from final location ** testing if installed package keeps a record of temporary installation path * DONE (podkat)
podkat.Rcheck/podkat-Ex.timings
| name | user | system | elapsed | |
| AssocTestResult-class | 0.662 | 0.061 | 1.119 | |
| AssocTestResultRanges-class | 1.582 | 0.081 | 2.134 | |
| GenotypeMatrix-class | 4.158 | 0.103 | 5.131 | |
| NullModel-class | 2.449 | 0.084 | 3.611 | |
| VariantInfo-class | 0.325 | 0.007 | 0.504 | |
| assocTest-methods | 12.024 | 0.309 | 16.265 | |
| computeKernel | 0.003 | 0.001 | 0.003 | |
| filterResult-methods | 1.404 | 0.025 | 2.046 | |
| genotypeMatrix-methods | 0.787 | 0.024 | 1.169 | |
| hgA | 0.028 | 0.003 | 0.055 | |
| nullModel-methods | 0.697 | 0.062 | 1.342 | |
| p.adjust-methods | 1.062 | 0.019 | 1.682 | |
| partitionRegions-methods | 0.735 | 0.017 | 0.885 | |
| plot-methods | 7.695 | 0.198 | 10.820 | |
| podkat-package | 1.057 | 0.040 | 1.281 | |
| print-methods | 1.093 | 0.036 | 1.301 | |
| qqplot-methods | 1.650 | 0.022 | 2.032 | |
| readGenotypeMatrix-methods | 0.277 | 0.005 | 0.407 | |
| readRegionsFromBedFile | 0.036 | 0.004 | 0.067 | |
| readSampleNamesFromVcfHeader | 0.045 | 0.002 | 0.067 | |
| readVariantInfo-methods | 0.331 | 0.007 | 0.512 | |
| sort-methods | 1.086 | 0.021 | 1.561 | |
| split-methods | 3.427 | 0.160 | 5.154 | |
| unmasked-datasets | 0.435 | 0.012 | 0.627 | |
| unmaskedRegions | 34.274 | 2.493 | 50.241 | |
| weightFuncs | 0.006 | 0.002 | 0.008 | |
| weights-methods | 3.150 | 0.107 | 3.980 | |