| Back to Multiple platform build/check report for BioC 3.19: simplified long |
|
This page was generated on 2024-06-11 14:42 -0400 (Tue, 11 Jun 2024).
| Hostname | OS | Arch (*) | R version | Installed pkgs |
|---|---|---|---|---|
| nebbiolo1 | Linux (Ubuntu 22.04.3 LTS) | x86_64 | 4.4.0 (2024-04-24) -- "Puppy Cup" | 4757 |
| palomino3 | Windows Server 2022 Datacenter | x64 | 4.4.0 (2024-04-24 ucrt) -- "Puppy Cup" | 4491 |
| lconway | macOS 12.7.1 Monterey | x86_64 | 4.4.0 (2024-04-24) -- "Puppy Cup" | 4522 |
| kjohnson3 | macOS 13.6.5 Ventura | arm64 | 4.4.0 (2024-04-24) -- "Puppy Cup" | 4468 |
| Click on any hostname to see more info about the system (e.g. compilers) (*) as reported by 'uname -p', except on Windows and Mac OS X | ||||
| Package 1585/2300 | Hostname | OS / Arch | INSTALL | BUILD | CHECK | BUILD BIN | ||||||||
| plyranges 1.24.0 (landing page) Michael Love
| nebbiolo1 | Linux (Ubuntu 22.04.3 LTS) / x86_64 | OK | OK | OK | |||||||||
| palomino3 | Windows Server 2022 Datacenter / x64 | OK | OK | OK | OK | |||||||||
| lconway | macOS 12.7.1 Monterey / x86_64 | OK | OK | OK | OK | |||||||||
| kjohnson3 | macOS 13.6.5 Ventura / arm64 | OK | OK | ERROR | OK | |||||||||
|
To the developers/maintainers of the plyranges package: - Allow up to 24 hours (and sometimes 48 hours) for your latest push to git@git.bioconductor.org:packages/plyranges.git to reflect on this report. See Troubleshooting Build Report for more information. - Use the following Renviron settings to reproduce errors and warnings. - If 'R CMD check' started to fail recently on the Linux builder(s) over a missing dependency, add the missing dependency to 'Suggests:' in your DESCRIPTION file. See Renviron.bioc for more information. |
| Package: plyranges |
| Version: 1.24.0 |
| Command: /Library/Frameworks/R.framework/Resources/bin/R CMD check --install=check:plyranges.install-out.txt --library=/Library/Frameworks/R.framework/Resources/library --no-vignettes --timings plyranges_1.24.0.tar.gz |
| StartedAt: 2024-06-09 22:15:58 -0400 (Sun, 09 Jun 2024) |
| EndedAt: 2024-06-09 22:21:12 -0400 (Sun, 09 Jun 2024) |
| EllapsedTime: 313.5 seconds |
| RetCode: 0 |
| Status: OK |
| CheckDir: plyranges.Rcheck |
| Warnings: 0 |
##############################################################################
##############################################################################
###
### Running command:
###
### /Library/Frameworks/R.framework/Resources/bin/R CMD check --install=check:plyranges.install-out.txt --library=/Library/Frameworks/R.framework/Resources/library --no-vignettes --timings plyranges_1.24.0.tar.gz
###
##############################################################################
##############################################################################
* using log directory ‘/Users/biocbuild/bbs-3.19-bioc/meat/plyranges.Rcheck’
* using R version 4.4.0 (2024-04-24)
* using platform: x86_64-apple-darwin20
* R was compiled by
Apple clang version 14.0.0 (clang-1400.0.29.202)
GNU Fortran (GCC) 12.2.0
* running under: macOS Monterey 12.7.1
* using session charset: UTF-8
* using option ‘--no-vignettes’
* checking for file ‘plyranges/DESCRIPTION’ ... OK
* checking extension type ... Package
* this is package ‘plyranges’ version ‘1.24.0’
* package encoding: UTF-8
* checking package namespace information ... OK
* checking package dependencies ... OK
* checking if this is a source package ... OK
* checking if there is a namespace ... OK
* checking for hidden files and directories ... OK
* checking for portable file names ... OK
* checking for sufficient/correct file permissions ... OK
* checking whether package ‘plyranges’ can be installed ... OK
* checking installed package size ... OK
* checking package directory ... OK
* checking ‘build’ directory ... OK
* checking DESCRIPTION meta-information ... OK
* checking top-level files ... OK
* checking for left-over files ... OK
* checking index information ... OK
* checking package subdirectories ... OK
* checking code files for non-ASCII characters ... OK
* checking R files for syntax errors ... OK
* checking whether the package can be loaded ... OK
* checking whether the package can be loaded with stated dependencies ... OK
* checking whether the package can be unloaded cleanly ... OK
* checking whether the namespace can be loaded with stated dependencies ... OK
* checking whether the namespace can be unloaded cleanly ... OK
* checking dependencies in R code ... OK
* checking S3 generic/method consistency ... OK
* checking replacement functions ... OK
* checking foreign function calls ... OK
* checking R code for possible problems ... OK
* checking Rd files ... NOTE
checkRd: (-1) group_by-ranges.Rd:57: Lost braces in \itemize; meant \describe ?
checkRd: (-1) group_by-ranges.Rd:58: Lost braces in \itemize; meant \describe ?
checkRd: (-1) ranges-anchor.Rd:58: Lost braces in \itemize; meant \describe ?
checkRd: (-1) ranges-anchor.Rd:59: Lost braces in \itemize; meant \describe ?
checkRd: (-1) ranges-anchor.Rd:60: Lost braces in \itemize; meant \describe ?
checkRd: (-1) ranges-anchor.Rd:61-62: Lost braces in \itemize; meant \describe ?
checkRd: (-1) ranges-anchor.Rd:63-64: Lost braces in \itemize; meant \describe ?
* checking Rd metadata ... OK
* checking Rd cross-references ... OK
* checking for missing documentation entries ... OK
* checking for code/documentation mismatches ... OK
* checking Rd \usage sections ... OK
* checking Rd contents ... OK
* checking for unstated dependencies in examples ... OK
* checking files in ‘vignettes’ ... OK
* checking examples ... OK
* checking for unstated dependencies in ‘tests’ ... OK
* checking tests ...
Running ‘testthat.R’
OK
* checking for unstated dependencies in vignettes ... OK
* checking package vignettes ... OK
* checking running R code from vignettes ... SKIPPED
* checking re-building of vignette outputs ... SKIPPED
* checking PDF version of manual ... OK
* DONE
Status: 1 NOTE
See
‘/Users/biocbuild/bbs-3.19-bioc/meat/plyranges.Rcheck/00check.log’
for details.
plyranges.Rcheck/00install.out
############################################################################## ############################################################################## ### ### Running command: ### ### /Library/Frameworks/R.framework/Resources/bin/R CMD INSTALL plyranges ### ############################################################################## ############################################################################## * installing to library ‘/Library/Frameworks/R.framework/Versions/4.4-x86_64/Resources/library’ * installing *source* package ‘plyranges’ ... ** using staged installation ** R ** inst ** byte-compile and prepare package for lazy loading ** help *** installing help indices *** copying figures ** building package indices ** installing vignettes ** testing if installed package can be loaded from temporary location ** testing if installed package can be loaded from final location ** testing if installed package keeps a record of temporary installation path * DONE (plyranges)
plyranges.Rcheck/tests/testthat.Rout
R version 4.4.0 (2024-04-24) -- "Puppy Cup"
Copyright (C) 2024 The R Foundation for Statistical Computing
Platform: x86_64-apple-darwin20
R is free software and comes with ABSOLUTELY NO WARRANTY.
You are welcome to redistribute it under certain conditions.
Type 'license()' or 'licence()' for distribution details.
R is a collaborative project with many contributors.
Type 'contributors()' for more information and
'citation()' on how to cite R or R packages in publications.
Type 'demo()' for some demos, 'help()' for on-line help, or
'help.start()' for an HTML browser interface to help.
Type 'q()' to quit R.
> library(testthat)
> library(plyranges)
Loading required package: BiocGenerics
Attaching package: 'BiocGenerics'
The following objects are masked from 'package:stats':
IQR, mad, sd, var, xtabs
The following objects are masked from 'package:base':
Filter, Find, Map, Position, Reduce, anyDuplicated, aperm, append,
as.data.frame, basename, cbind, colnames, dirname, do.call,
duplicated, eval, evalq, get, grep, grepl, intersect, is.unsorted,
lapply, mapply, match, mget, order, paste, pmax, pmax.int, pmin,
pmin.int, rank, rbind, rownames, sapply, setdiff, table, tapply,
union, unique, unsplit, which.max, which.min
Loading required package: IRanges
Loading required package: S4Vectors
Loading required package: stats4
Attaching package: 'S4Vectors'
The following object is masked from 'package:utils':
findMatches
The following objects are masked from 'package:base':
I, expand.grid, unname
Loading required package: GenomicRanges
Loading required package: GenomeInfoDb
Attaching package: 'plyranges'
The following object is masked from 'package:IRanges':
slice
The following object is masked from 'package:stats':
filter
>
> test_check("plyranges")
[ FAIL 0 | WARN 8 | SKIP 0 | PASS 395 ]
[ FAIL 0 | WARN 8 | SKIP 0 | PASS 395 ]
>
> proc.time()
user system elapsed
50.620 2.018 52.794
plyranges.Rcheck/plyranges-Ex.timings
| name | user | system | elapsed | |
| add-nearest-distance | 0.303 | 0.020 | 0.322 | |
| as_ranges | 0.106 | 0.008 | 0.115 | |
| compute_coverage | 0.021 | 0.002 | 0.023 | |
| element-setops | 0.125 | 0.014 | 0.139 | |
| filter-ranges | 0.684 | 0.020 | 0.706 | |
| group_by-ranges | 0.288 | 0.003 | 0.291 | |
| io-bam-read | 0.654 | 0.043 | 0.703 | |
| io-bed-read | 3.462 | 0.827 | 4.304 | |
| io-bed-write | 0.000 | 0.000 | 0.001 | |
| io-bigwig-read | 0.123 | 0.008 | 0.132 | |
| io-bigwig-write | 0.001 | 0.000 | 0.000 | |
| io-gff-read | 0.452 | 0.041 | 0.494 | |
| io-gff-write | 0.000 | 0.000 | 0.001 | |
| io-wig-read | 0.376 | 0.034 | 0.411 | |
| mutate-ranges | 0.777 | 0.023 | 0.801 | |
| n | 0.301 | 0.002 | 0.302 | |
| n_distinct | 0.04 | 0.00 | 0.04 | |
| overlap-joins | 0.207 | 0.001 | 0.209 | |
| ranges-anchor | 0.130 | 0.001 | 0.132 | |
| ranges-arrange | 0.054 | 0.001 | 0.055 | |
| ranges-bind | 0.181 | 0.008 | 0.189 | |
| ranges-chop | 0.385 | 0.008 | 0.394 | |
| ranges-construct | 0.130 | 0.003 | 0.133 | |
| ranges-count-overlaps | 0.076 | 0.001 | 0.078 | |
| ranges-disjoin | 0.777 | 0.004 | 0.782 | |
| ranges-expand | 0.603 | 0.008 | 0.612 | |
| ranges-filter-overlaps | 0.152 | 0.001 | 0.155 | |
| ranges-flank | 0.098 | 0.001 | 0.099 | |
| ranges-follow | 0.186 | 0.003 | 0.188 | |
| ranges-info | 0.061 | 0.002 | 0.062 | |
| ranges-interweave | 0.183 | 0.002 | 0.184 | |
| ranges-names | 0.162 | 0.002 | 0.163 | |
| ranges-nearest | 0.519 | 0.004 | 0.525 | |
| ranges-overlaps-self | 0.143 | 0.002 | 0.144 | |
| ranges-overlaps | 0.169 | 0.003 | 0.171 | |
| ranges-pairs | 0.433 | 0.004 | 0.438 | |
| ranges-precede | 0.201 | 0.002 | 0.203 | |
| ranges-reduce | 0.978 | 0.006 | 0.984 | |
| ranges-select | 0.063 | 0.002 | 0.065 | |
| ranges-setops | 0.724 | 0.002 | 0.728 | |
| ranges-shift | 0.176 | 0.002 | 0.179 | |
| ranges-summarise | 0.134 | 0.001 | 0.135 | |
| ranges-tile | 0.079 | 0.001 | 0.081 | |
| slice-ranges | 0.593 | 0.003 | 0.596 | |
| stretch | 0.222 | 0.001 | 0.224 | |