Back to Multiple platform build/check report for BioC 3.19: simplified long |
|
This page was generated on 2023-10-27 11:35:06 -0400 (Fri, 27 Oct 2023).
Hostname | OS | Arch (*) | R version | Installed pkgs |
---|---|---|---|---|
nebbiolo1 | Linux (Ubuntu 22.04.2 LTS) | x86_64 | R Under development (unstable) (2023-10-22 r85388) -- "Unsuffered Consequences" | 4594 |
palomino3 | Windows Server 2022 Datacenter | x64 | R Under development (unstable) (2023-10-23 r85389 ucrt) -- "Unsuffered Consequences" | 4308 |
merida1 | macOS 12.6.4 Monterey | x86_64 | R Under development (unstable) (2023-10-23 r85395) -- "Unsuffered Consequences" | 3776 |
Click on any hostname to see more info about the system (e.g. compilers) (*) as reported by 'uname -p', except on Windows and Mac OS X |
Package 1500/2217 | Hostname | OS / Arch | INSTALL | BUILD | CHECK | BUILD BIN | ||||||||
phemd 1.19.0 (landing page) William S Chen
| nebbiolo1 | Linux (Ubuntu 22.04.2 LTS) / x86_64 | OK | OK | WARNINGS | |||||||||
palomino3 | Windows Server 2022 Datacenter / x64 | OK | OK | WARNINGS | OK | |||||||||
merida1 | macOS 12.6.4 Monterey / x86_64 | OK | ERROR | skipped | skipped | |||||||||
To the developers/maintainers of the phemd package: - Allow up to 24 hours (and sometimes 48 hours) for your latest push to git@git.bioconductor.org:packages/phemd.git to reflect on this report. See Troubleshooting Build Report for more information. - Use the following Renviron settings to reproduce errors and warnings. - If 'R CMD check' started to fail recently on the Linux builder(s) over a missing dependency, add the missing dependency to 'Suggests:' in your DESCRIPTION file. See Renviron.bioc for more information. |
Package: phemd |
Version: 1.19.0 |
Command: rm -rf phemd.buildbin-libdir && mkdir phemd.buildbin-libdir && F:\biocbuild\bbs-3.19-bioc\R\bin\R.exe CMD INSTALL --build --library=phemd.buildbin-libdir phemd_1.19.0.tar.gz |
StartedAt: 2023-10-27 11:16:08 -0400 (Fri, 27 Oct 2023) |
EndedAt: 2023-10-27 11:17:08 -0400 (Fri, 27 Oct 2023) |
EllapsedTime: 60.8 seconds |
RetCode: 0 |
Status: OK |
PackageFile: phemd_1.19.0.zip |
PackageFileSize: 1.093 MiB |
############################################################################## ############################################################################## ### ### Running command: ### ### rm -rf phemd.buildbin-libdir && mkdir phemd.buildbin-libdir && F:\biocbuild\bbs-3.19-bioc\R\bin\R.exe CMD INSTALL --build --library=phemd.buildbin-libdir phemd_1.19.0.tar.gz ### ############################################################################## ############################################################################## * installing *source* package 'phemd' ... ** using staged installation ** R ** data *** moving datasets to lazyload DB ** inst ** byte-compile and prepare package for lazy loading ** help *** installing help indices ** building package indices ** installing vignettes ** testing if installed package can be loaded from temporary location ** testing if installed package can be loaded from final location ** testing if installed package keeps a record of temporary installation path * MD5 sums packaged installation of 'phemd' as phemd_1.19.0.zip * DONE (phemd)