| Back to Multiple platform build/check report for BioC 3.19: simplified long | 
 | 
This page was generated on 2024-06-11 14:42 -0400 (Tue, 11 Jun 2024).
| Hostname | OS | Arch (*) | R version | Installed pkgs | 
|---|---|---|---|---|
| nebbiolo1 | Linux (Ubuntu 22.04.3 LTS) | x86_64 | 4.4.0 (2024-04-24) -- "Puppy Cup" | 4757 | 
| palomino3 | Windows Server 2022 Datacenter | x64 | 4.4.0 (2024-04-24 ucrt) -- "Puppy Cup" | 4491 | 
| lconway | macOS 12.7.1 Monterey | x86_64 | 4.4.0 (2024-04-24) -- "Puppy Cup" | 4522 | 
| kjohnson3 | macOS 13.6.5 Ventura | arm64 | 4.4.0 (2024-04-24) -- "Puppy Cup" | 4468 | 
| Click on any hostname to see more info about the system (e.g. compilers) (*) as reported by 'uname -p', except on Windows and Mac OS X | ||||
| Package 1542/2300 | Hostname | OS / Arch | INSTALL | BUILD | CHECK | BUILD BIN | ||||||||
| pepStat 1.38.0  (landing page) Gregory C Imholte 
 | nebbiolo1 | Linux (Ubuntu 22.04.3 LTS) / x86_64 | OK | OK | OK |  | ||||||||
| palomino3 | Windows Server 2022 Datacenter / x64 | OK | OK | OK | OK |  | ||||||||
| lconway | macOS 12.7.1 Monterey / x86_64 | OK | OK | OK | OK |  | ||||||||
| kjohnson3 | macOS 13.6.5 Ventura / arm64 | OK | OK | OK | OK |  | ||||||||
| To the developers/maintainers of the pepStat package: - Allow up to 24 hours (and sometimes 48 hours) for your latest push to git@git.bioconductor.org:packages/pepStat.git to reflect on this report. See Troubleshooting Build Report for more information. - Use the following Renviron settings to reproduce errors and warnings. - If 'R CMD check' started to fail recently on the Linux builder(s) over a missing dependency, add the missing dependency to 'Suggests:' in your DESCRIPTION file. See Renviron.bioc for more information. | 
| Package: pepStat | 
| Version: 1.38.0 | 
| Command: /Library/Frameworks/R.framework/Resources/bin/R CMD check --install=check:pepStat.install-out.txt --library=/Library/Frameworks/R.framework/Resources/library --no-vignettes --timings pepStat_1.38.0.tar.gz | 
| StartedAt: 2024-06-09 22:11:13 -0400 (Sun, 09 Jun 2024) | 
| EndedAt: 2024-06-09 22:13:38 -0400 (Sun, 09 Jun 2024) | 
| EllapsedTime: 145.4 seconds | 
| RetCode: 0 | 
| Status: OK | 
| CheckDir: pepStat.Rcheck | 
| Warnings: 0 | 
##############################################################################
##############################################################################
###
### Running command:
###
###   /Library/Frameworks/R.framework/Resources/bin/R CMD check --install=check:pepStat.install-out.txt --library=/Library/Frameworks/R.framework/Resources/library --no-vignettes --timings pepStat_1.38.0.tar.gz
###
##############################################################################
##############################################################################
* using log directory ‘/Users/biocbuild/bbs-3.19-bioc/meat/pepStat.Rcheck’
* using R version 4.4.0 (2024-04-24)
* using platform: x86_64-apple-darwin20
* R was compiled by
    Apple clang version 14.0.0 (clang-1400.0.29.202)
    GNU Fortran (GCC) 12.2.0
* running under: macOS Monterey 12.7.1
* using session charset: UTF-8
* using option ‘--no-vignettes’
* checking for file ‘pepStat/DESCRIPTION’ ... OK
* checking extension type ... Package
* this is package ‘pepStat’ version ‘1.38.0’
* checking package namespace information ... OK
* checking package dependencies ... OK
* checking if this is a source package ... OK
* checking if there is a namespace ... OK
* checking for hidden files and directories ... OK
* checking for portable file names ... OK
* checking for sufficient/correct file permissions ... OK
* checking whether package ‘pepStat’ can be installed ... OK
* checking installed package size ... OK
* checking package directory ... OK
* checking ‘build’ directory ... OK
* checking DESCRIPTION meta-information ... NOTE
Malformed Description field: should contain one or more complete sentences.
* checking top-level files ... OK
* checking for left-over files ... OK
* checking index information ... OK
* checking package subdirectories ... OK
* checking code files for non-ASCII characters ... OK
* checking R files for syntax errors ... OK
* checking whether the package can be loaded ... OK
* checking whether the package can be loaded with stated dependencies ... OK
* checking whether the package can be unloaded cleanly ... OK
* checking whether the namespace can be loaded with stated dependencies ... NOTE
Warning: no function found corresponding to methods exports from ‘pepStat’ for: ‘end’, ‘start’, ‘values’
A namespace must be able to be loaded with just the base namespace
loaded: otherwise if the namespace gets loaded by a saved object, the
session will be unable to start.
Probably some imports need to be declared in the NAMESPACE file.
* checking whether the namespace can be unloaded cleanly ... OK
* checking dependencies in R code ... OK
* checking S3 generic/method consistency ... OK
* checking replacement functions ... OK
* checking foreign function calls ... OK
* checking R code for possible problems ... NOTE
.findFDR : <anonymous>: no visible global function definition for
  ‘median’
.sanitize_mapping_file2: no visible global function definition for
  ‘read.csv’
create_db: no visible global function definition for ‘mcols<-’
create_db: no visible global function definition for ‘mcols’
getPlotCoords: no visible global function definition for ‘values’
getWeightedEstimator : <anonymous>: no visible global function
  definition for ‘lm.fit’
getWeightedEstimator : <anonymous>: no visible global function
  definition for ‘lm.wfit’
getWeightedEstimator : <anonymous> : <anonymous>: no visible global
  function definition for ‘sd’
getZpep: no visible global function definition for ‘values’
getZpep : <anonymous>: no visible global function definition for
  ‘values’
plotArrayImage: no visible global function definition for
  ‘dev.interactive’
plotArrayImage: no visible global function definition for
  ‘devAskNewPage’
plotArrayImage: no visible global function definition for ‘dev.hold’
plotArrayImage: no visible global function definition for ‘dev.flush’
plotArrayResiduals: no visible global function definition for
  ‘dev.interactive’
plotArrayResiduals: no visible global function definition for
  ‘devAskNewPage’
plotArrayResiduals: no visible global function definition for
  ‘dev.hold’
plotArrayResiduals: no visible global function definition for
  ‘dev.flush’
summarizePeptides: no visible global function definition for ‘values<-’
summarizePeptides: no visible global function definition for ‘values’
coerce,peptideSet-ExpressionSet: no visible global function definition
  for ‘annotation’
end,peptideSet: no visible global function definition for ‘end’
featureID,peptideSet: no visible global function definition for
  ‘values’
pepZscore,GRanges: no visible global function definition for ‘values’
peptide,peptideSet: no visible global function definition for ‘values’
peptide<-,peptideSet-character: no visible global function definition
  for ‘values’
peptide<-,peptideSet-character: no visible global function definition
  for ‘values<-’
position,peptideSet: no visible global function definition for ‘start’
position,peptideSet: no visible global function definition for ‘end’
start,peptideSet: no visible global function definition for ‘start’
values,peptideSet: no visible global function definition for ‘values’
values<-,peptideSet: no visible global function definition for
  ‘values<-’
write.pSet,peptideSet: no visible global function definition for
  ‘start’
write.pSet,peptideSet: no visible global function definition for ‘end’
write.pSet,peptideSet: no visible global function definition for
  ‘write.csv’
Undefined global functions or variables:
  annotation dev.flush dev.hold dev.interactive devAskNewPage end
  lm.fit lm.wfit mcols mcols<- median read.csv sd start values values<-
  write.csv
Consider adding
  importFrom("grDevices", "dev.flush", "dev.hold", "dev.interactive",
             "devAskNewPage")
  importFrom("stats", "end", "lm.fit", "lm.wfit", "median", "sd",
             "start")
  importFrom("utils", "read.csv", "write.csv")
to your NAMESPACE file.
* checking Rd files ... OK
* checking Rd metadata ... OK
* checking Rd cross-references ... OK
* checking for missing documentation entries ... OK
* checking for code/documentation mismatches ... OK
* checking Rd \usage sections ... OK
* checking Rd contents ... OK
* checking for unstated dependencies in examples ... OK
* checking sizes of PDF files under ‘inst/doc’ ... OK
* checking installed files from ‘inst/doc’ ... OK
* checking files in ‘vignettes’ ... OK
* checking examples ... OK
* checking for unstated dependencies in vignettes ... OK
* checking package vignettes ... OK
* checking running R code from vignettes ... SKIPPED
* checking re-building of vignette outputs ... SKIPPED
* checking PDF version of manual ... OK
* DONE
Status: 3 NOTEs
See
  ‘/Users/biocbuild/bbs-3.19-bioc/meat/pepStat.Rcheck/00check.log’
for details.
pepStat.Rcheck/00install.out
############################################################################## ############################################################################## ### ### Running command: ### ### /Library/Frameworks/R.framework/Resources/bin/R CMD INSTALL pepStat ### ############################################################################## ############################################################################## * installing to library ‘/Library/Frameworks/R.framework/Versions/4.4-x86_64/Resources/library’ * installing *source* package ‘pepStat’ ... ** using staged installation ** R ** inst ** byte-compile and prepare package for lazy loading No methods found in package ‘GenomicRanges’ for request: ‘mcols<-’ when loading ‘pepStat’ No methods found in package ‘GenomicRanges’ for request: ‘mcols’ when loading ‘pepStat’ No methods found in package ‘IRanges’ for request: ‘values<-’ when loading ‘pepStat’ No methods found in package ‘IRanges’ for request: ‘values’ when loading ‘pepStat’ ** help *** installing help indices ** building package indices ** installing vignettes ** testing if installed package can be loaded from temporary location No methods found in package ‘GenomicRanges’ for request: ‘mcols<-’ when loading ‘pepStat’ No methods found in package ‘GenomicRanges’ for request: ‘mcols’ when loading ‘pepStat’ No methods found in package ‘IRanges’ for request: ‘values<-’ when loading ‘pepStat’ No methods found in package ‘IRanges’ for request: ‘values’ when loading ‘pepStat’ ** testing if installed package can be loaded from final location No methods found in package ‘GenomicRanges’ for request: ‘mcols<-’ when loading ‘pepStat’ No methods found in package ‘GenomicRanges’ for request: ‘mcols’ when loading ‘pepStat’ No methods found in package ‘IRanges’ for request: ‘values<-’ when loading ‘pepStat’ No methods found in package ‘IRanges’ for request: ‘values’ when loading ‘pepStat’ ** testing if installed package keeps a record of temporary installation path * DONE (pepStat)
pepStat.Rcheck/pepStat-Ex.timings
| name | user | system | elapsed | |
| create_db | 0.100 | 0.002 | 0.102 | |
| makeCalls | 4.476 | 0.102 | 4.596 | |
| makePeptideSet | 1.519 | 0.040 | 1.562 | |
| normalizeArray | 3.796 | 0.055 | 3.858 | |
| plotArray | 3.661 | 0.052 | 3.724 | |
| restab | 3.920 | 0.049 | 3.979 | |
| shinyPepStat | 0 | 0 | 0 | |
| slidingMean | 4.040 | 0.060 | 4.114 | |
| summarizePeptides | 4.018 | 0.052 | 4.086 | |