| Back to Multiple platform build/check report for BioC 3.19: simplified long |
|
This page was generated on 2024-06-11 14:42 -0400 (Tue, 11 Jun 2024).
| Hostname | OS | Arch (*) | R version | Installed pkgs |
|---|---|---|---|---|
| nebbiolo1 | Linux (Ubuntu 22.04.3 LTS) | x86_64 | 4.4.0 (2024-04-24) -- "Puppy Cup" | 4757 |
| palomino3 | Windows Server 2022 Datacenter | x64 | 4.4.0 (2024-04-24 ucrt) -- "Puppy Cup" | 4491 |
| lconway | macOS 12.7.1 Monterey | x86_64 | 4.4.0 (2024-04-24) -- "Puppy Cup" | 4522 |
| kjohnson3 | macOS 13.6.5 Ventura | arm64 | 4.4.0 (2024-04-24) -- "Puppy Cup" | 4468 |
| Click on any hostname to see more info about the system (e.g. compilers) (*) as reported by 'uname -p', except on Windows and Mac OS X | ||||
| Package 1499/2300 | Hostname | OS / Arch | INSTALL | BUILD | CHECK | BUILD BIN | ||||||||
| packFinder 1.16.0 (landing page) Jack Gisby
| nebbiolo1 | Linux (Ubuntu 22.04.3 LTS) / x86_64 | OK | OK | OK | |||||||||
| palomino3 | Windows Server 2022 Datacenter / x64 | OK | OK | OK | OK | |||||||||
| lconway | macOS 12.7.1 Monterey / x86_64 | OK | OK | OK | OK | |||||||||
| kjohnson3 | macOS 13.6.5 Ventura / arm64 | OK | OK | OK | OK | |||||||||
|
To the developers/maintainers of the packFinder package: - Allow up to 24 hours (and sometimes 48 hours) for your latest push to git@git.bioconductor.org:packages/packFinder.git to reflect on this report. See Troubleshooting Build Report for more information. - Use the following Renviron settings to reproduce errors and warnings. - If 'R CMD check' started to fail recently on the Linux builder(s) over a missing dependency, add the missing dependency to 'Suggests:' in your DESCRIPTION file. See Renviron.bioc for more information. |
| Package: packFinder |
| Version: 1.16.0 |
| Command: /Library/Frameworks/R.framework/Resources/bin/R CMD check --install=check:packFinder.install-out.txt --library=/Library/Frameworks/R.framework/Resources/library --no-vignettes --timings packFinder_1.16.0.tar.gz |
| StartedAt: 2024-06-09 22:02:28 -0400 (Sun, 09 Jun 2024) |
| EndedAt: 2024-06-09 22:03:26 -0400 (Sun, 09 Jun 2024) |
| EllapsedTime: 57.8 seconds |
| RetCode: 0 |
| Status: OK |
| CheckDir: packFinder.Rcheck |
| Warnings: 0 |
##############################################################################
##############################################################################
###
### Running command:
###
### /Library/Frameworks/R.framework/Resources/bin/R CMD check --install=check:packFinder.install-out.txt --library=/Library/Frameworks/R.framework/Resources/library --no-vignettes --timings packFinder_1.16.0.tar.gz
###
##############################################################################
##############################################################################
* using log directory ‘/Users/biocbuild/bbs-3.19-bioc/meat/packFinder.Rcheck’
* using R version 4.4.0 (2024-04-24)
* using platform: x86_64-apple-darwin20
* R was compiled by
Apple clang version 14.0.0 (clang-1400.0.29.202)
GNU Fortran (GCC) 12.2.0
* running under: macOS Monterey 12.7.1
* using session charset: UTF-8
* using option ‘--no-vignettes’
* checking for file ‘packFinder/DESCRIPTION’ ... OK
* checking extension type ... Package
* this is package ‘packFinder’ version ‘1.16.0’
* package encoding: UTF-8
* checking package namespace information ... OK
* checking package dependencies ... OK
* checking if this is a source package ... OK
* checking if there is a namespace ... OK
* checking for hidden files and directories ... OK
* checking for portable file names ... OK
* checking for sufficient/correct file permissions ... OK
* checking whether package ‘packFinder’ can be installed ... OK
* checking installed package size ... OK
* checking package directory ... OK
* checking ‘build’ directory ... OK
* checking DESCRIPTION meta-information ... OK
* checking top-level files ... OK
* checking for left-over files ... OK
* checking index information ... OK
* checking package subdirectories ... OK
* checking code files for non-ASCII characters ... OK
* checking R files for syntax errors ... OK
* checking whether the package can be loaded ... OK
* checking whether the package can be loaded with stated dependencies ... OK
* checking whether the package can be unloaded cleanly ... OK
* checking whether the namespace can be loaded with stated dependencies ... OK
* checking whether the namespace can be unloaded cleanly ... OK
* checking dependencies in R code ... OK
* checking S3 generic/method consistency ... OK
* checking replacement functions ... OK
* checking foreign function calls ... OK
* checking R code for possible problems ... OK
* checking Rd files ... NOTE
checkRd: (-1) readBlast.Rd:100: Lost braces
100 | code{\link{blastAnalysis}}, code{\link{blastAnnotate}},
| ^
checkRd: (-1) readBlast.Rd:100: Lost braces
100 | code{\link{blastAnalysis}}, code{\link{blastAnnotate}},
| ^
checkRd: (-1) readBlast.Rd:101: Lost braces
101 | code{\link{packAlign}},
| ^
checkRd: (-1) readBlast.Rd:102: Lost braces
102 | code{\link{readUc}}, code{\link{packClust}}
| ^
checkRd: (-1) readBlast.Rd:102: Lost braces
102 | code{\link{readUc}}, code{\link{packClust}}
| ^
checkRd: (-1) readUc.Rd:98: Lost braces
98 | code{\link{tirClust}}, code{\link{packAlign}},
| ^
checkRd: (-1) readUc.Rd:98: Lost braces
98 | code{\link{tirClust}}, code{\link{packAlign}},
| ^
checkRd: (-1) readUc.Rd:99: Lost braces
99 | code{\link{readBlast}}, code{\link{packClust}}
| ^
checkRd: (-1) readUc.Rd:99: Lost braces
99 | code{\link{readBlast}}, code{\link{packClust}}
| ^
checkRd: (-1) tirClust.Rd:86: Lost braces
86 | code{\link{packClust}}, code{\link{packAlign}},
| ^
checkRd: (-1) tirClust.Rd:86: Lost braces
86 | code{\link{packClust}}, code{\link{packAlign}},
| ^
* checking Rd metadata ... OK
* checking Rd cross-references ... OK
* checking for missing documentation entries ... OK
* checking for code/documentation mismatches ... OK
* checking Rd \usage sections ... OK
* checking Rd contents ... OK
* checking for unstated dependencies in examples ... OK
* checking contents of ‘data’ directory ... OK
* checking data for non-ASCII characters ... OK
* checking data for ASCII and uncompressed saves ... OK
* checking files in ‘vignettes’ ... OK
* checking examples ... OK
* checking for unstated dependencies in ‘tests’ ... OK
* checking tests ...
Running ‘testthat.R’
OK
* checking for unstated dependencies in vignettes ... OK
* checking package vignettes ... OK
* checking running R code from vignettes ... SKIPPED
* checking re-building of vignette outputs ... SKIPPED
* checking PDF version of manual ... OK
* DONE
Status: 1 NOTE
See
‘/Users/biocbuild/bbs-3.19-bioc/meat/packFinder.Rcheck/00check.log’
for details.
packFinder.Rcheck/00install.out
############################################################################## ############################################################################## ### ### Running command: ### ### /Library/Frameworks/R.framework/Resources/bin/R CMD INSTALL packFinder ### ############################################################################## ############################################################################## * installing to library ‘/Library/Frameworks/R.framework/Versions/4.4-x86_64/Resources/library’ * installing *source* package ‘packFinder’ ... ** using staged installation ** R ** data ** inst ** byte-compile and prepare package for lazy loading ** help *** installing help indices ** building package indices ** installing vignettes ** testing if installed package can be loaded from temporary location ** testing if installed package can be loaded from final location ** testing if installed package keeps a record of temporary installation path * DONE (packFinder)
packFinder.Rcheck/tests/testthat.Rout
R version 4.4.0 (2024-04-24) -- "Puppy Cup"
Copyright (C) 2024 The R Foundation for Statistical Computing
Platform: x86_64-apple-darwin20
R is free software and comes with ABSOLUTELY NO WARRANTY.
You are welcome to redistribute it under certain conditions.
Type 'license()' or 'licence()' for distribution details.
R is a collaborative project with many contributors.
Type 'contributors()' for more information and
'citation()' on how to cite R or R packages in publications.
Type 'demo()' for some demos, 'help()' for on-line help, or
'help.start()' for an HTML browser interface to help.
Type 'q()' to quit R.
> library(testthat)
> library(packFinder)
>
> test_check("packFinder")
DNAStringSet object of length 1:
width seq names
[1] 3800001 GGTGTTAAAAGGTTCTTGAGTG...TAGTCAGGTTTCTAACAGAAAA Chr3
[1] "File successfully written to tempTestOutput/packMatches.csv"
[1] "FASTA written to tempTestOutput/packMatches.fasta"
2024-06-09 22:03:16.367 R[63214:34121674] XType: com.apple.fonts is not accessible.
2024-06-09 22:03:16.368 R[63214:34121674] XType: XTFontStaticRegistry is enabled.
[ FAIL 0 | WARN 0 | SKIP 0 | PASS 31 ]
>
> proc.time()
user system elapsed
6.948 0.431 7.390
packFinder.Rcheck/packFinder-Ex.timings
| name | user | system | elapsed | |
| arabidopsisThalianaRefseq | 4.608 | 0.210 | 4.830 | |
| blastAnalysis | 0.000 | 0.001 | 0.005 | |
| blastAnnotate | 0.005 | 0.002 | 0.006 | |
| collapseSeqs | 0.566 | 0.008 | 0.576 | |
| filterWildcards | 0.094 | 0.006 | 0.100 | |
| getPackSeqs | 1.169 | 0.009 | 1.180 | |
| getPacksFromCsv | 0.003 | 0.003 | 0.006 | |
| getPacksFromFasta | 0.079 | 0.006 | 0.087 | |
| getPacksFromGRanges | 0.100 | 0.003 | 0.104 | |
| getTsds | 0.094 | 0.006 | 0.100 | |
| identifyPotentialPackElements | 0.568 | 0.006 | 0.574 | |
| identifyTirMatches | 0.097 | 0.005 | 0.103 | |
| makeBlastDb | 0.000 | 0.001 | 0.000 | |
| packAlign | 0.075 | 0.006 | 0.083 | |
| packBlast | 0.000 | 0.001 | 0.000 | |
| packClust | 0.083 | 0.008 | 0.094 | |
| packMatches | 1.046 | 0.008 | 1.058 | |
| packSearch | 1.028 | 0.006 | 1.036 | |
| packsToCsv | 0.004 | 0.002 | 0.007 | |
| packsToFasta | 0.104 | 0.008 | 0.113 | |
| packsToGRanges | 0.018 | 0.001 | 0.020 | |
| readBlast | 0.005 | 0.001 | 0.007 | |
| readUc | 0.004 | 0.002 | 0.006 | |
| tirClust | 0.611 | 0.030 | 0.642 | |