| Back to Multiple platform build/check report for BioC 3.19: simplified long |
|
This page was generated on 2024-05-09 11:41:16 -0400 (Thu, 09 May 2024).
| Hostname | OS | Arch (*) | R version | Installed pkgs |
|---|---|---|---|---|
| nebbiolo1 | Linux (Ubuntu 22.04.3 LTS) | x86_64 | 4.4.0 (2024-04-24) -- "Puppy Cup" | 4748 |
| palomino3 | Windows Server 2022 Datacenter | x64 | 4.4.0 (2024-04-24 ucrt) -- "Puppy Cup" | 4484 |
| lconway | macOS 12.7.1 Monterey | x86_64 | 4.4.0 (2024-04-24) -- "Puppy Cup" | 4514 |
| kunpeng2 | Linux (openEuler 22.03 LTS-SP1) | aarch64 | 4.4.0 beta (2024-04-15 r86425) -- "Puppy Cup" | 4480 |
| Click on any hostname to see more info about the system (e.g. compilers) (*) as reported by 'uname -p', except on Windows and Mac OS X | ||||
| Package 1614/2300 | Hostname | OS / Arch | INSTALL | BUILD | CHECK | BUILD BIN | ||||||||
| pRoloc 1.44.0 (landing page) Laurent Gatto
| nebbiolo1 | Linux (Ubuntu 22.04.3 LTS) / x86_64 | OK | OK | OK | |||||||||
| palomino3 | Windows Server 2022 Datacenter / x64 | OK | OK | OK | OK | |||||||||
| lconway | macOS 12.7.1 Monterey / x86_64 | OK | OK | OK | OK | |||||||||
| kunpeng2 | Linux (openEuler 22.03 LTS-SP1) / aarch64 | OK | OK | OK | ||||||||||
| kjohnson3 | macOS 13.6.5 Ventura / arm64 | see weekly results here | ||||||||||||
|
To the developers/maintainers of the pRoloc package: - Allow up to 24 hours (and sometimes 48 hours) for your latest push to git@git.bioconductor.org:packages/pRoloc.git to reflect on this report. See Troubleshooting Build Report for more information. - Use the following Renviron settings to reproduce errors and warnings. - If 'R CMD check' started to fail recently on the Linux builder(s) over a missing dependency, add the missing dependency to 'Suggests:' in your DESCRIPTION file. See Renviron.bioc for more information. - See Martin Grigorov's blog post for how to debug Linux ARM64 related issues on a x86_64 host. |
| Package: pRoloc |
| Version: 1.44.0 |
| Command: /home/biocbuild/R/R-beta-2024-04-15_r86425/bin/R CMD check --install=check:pRoloc.install-out.txt --library=/home/biocbuild/R/R-beta-2024-04-15_r86425/site-library --no-vignettes --timings pRoloc_1.44.0.tar.gz |
| StartedAt: 2024-05-09 10:43:53 -0000 (Thu, 09 May 2024) |
| EndedAt: 2024-05-09 10:57:24 -0000 (Thu, 09 May 2024) |
| EllapsedTime: 811.4 seconds |
| RetCode: 0 |
| Status: OK |
| CheckDir: pRoloc.Rcheck |
| Warnings: 0 |
##############################################################################
##############################################################################
###
### Running command:
###
### /home/biocbuild/R/R-beta-2024-04-15_r86425/bin/R CMD check --install=check:pRoloc.install-out.txt --library=/home/biocbuild/R/R-beta-2024-04-15_r86425/site-library --no-vignettes --timings pRoloc_1.44.0.tar.gz
###
##############################################################################
##############################################################################
* using log directory ‘/home/biocbuild/bbs-3.19-bioc/meat/pRoloc.Rcheck’
* using R version 4.4.0 beta (2024-04-15 r86425)
* using platform: aarch64-unknown-linux-gnu
* R was compiled by
gcc (GCC) 10.3.1
GNU Fortran (GCC) 10.3.1
* running under: openEuler 22.03 (LTS-SP1)
* using session charset: UTF-8
* using option ‘--no-vignettes’
* checking for file ‘pRoloc/DESCRIPTION’ ... OK
* checking extension type ... Package
* this is package ‘pRoloc’ version ‘1.44.0’
* checking package namespace information ... OK
* checking package dependencies ... OK
* checking if this is a source package ... OK
* checking if there is a namespace ... OK
* checking for hidden files and directories ... OK
* checking for portable file names ... OK
* checking for sufficient/correct file permissions ... OK
* checking whether package ‘pRoloc’ can be installed ... OK
* used C++ compiler: ‘g++ (GCC) 10.3.1’
* checking installed package size ... NOTE
installed size is 5.3Mb
sub-directories of 1Mb or more:
R 1.2Mb
libs 2.7Mb
* checking package directory ... OK
* checking ‘build’ directory ... OK
* checking DESCRIPTION meta-information ... OK
* checking top-level files ... OK
* checking for left-over files ... OK
* checking index information ... OK
* checking package subdirectories ... OK
* checking code files for non-ASCII characters ... OK
* checking R files for syntax errors ... OK
* checking whether the package can be loaded ... OK
* checking whether the package can be loaded with stated dependencies ... OK
* checking whether the package can be unloaded cleanly ... OK
* checking whether the namespace can be loaded with stated dependencies ... OK
* checking whether the namespace can be unloaded cleanly ... OK
* checking loading without being on the library search path ... OK
* checking whether startup messages can be suppressed ... OK
* checking dependencies in R code ... NOTE
':::' calls which should be '::':
‘MLInterfaces:::.macroF1’ ‘MLInterfaces:::.precision’
‘MLInterfaces:::.recall’ ‘MLInterfaces:::es2df’
See the note in ?`:::` about the use of this operator.
Unexported object imported by a ':::' call: ‘caret:::predict.plsda’
See the note in ?`:::` about the use of this operator.
There are ::: calls to the package's namespace in its code. A package
almost never needs to use ::: for its own objects:
‘getAttributesOfInterest0’ ‘getAttributesOfInterestX’
* checking S3 generic/method consistency ... OK
* checking replacement functions ... OK
* checking foreign function calls ... OK
* checking R code for possible problems ... NOTE
Found the following possibly unsafe calls:
File ‘pRoloc/R/annotation.R’:
unlockBinding("params", .pRolocEnv)
* checking Rd files ... OK
* checking Rd metadata ... OK
* checking Rd cross-references ... OK
* checking for missing documentation entries ... OK
* checking for code/documentation mismatches ... OK
* checking Rd \usage sections ... OK
* checking Rd contents ... OK
* checking for unstated dependencies in examples ... OK
* checking contents of ‘data’ directory ... OK
* checking data for non-ASCII characters ... OK
* checking data for ASCII and uncompressed saves ... OK
* checking line endings in C/C++/Fortran sources/headers ... OK
* checking line endings in Makefiles ... OK
* checking compilation flags in Makevars ... OK
* checking for GNU extensions in Makefiles ... OK
* checking for portable use of $(BLAS_LIBS) and $(LAPACK_LIBS) ... OK
* checking use of PKG_*FLAGS in Makefiles ... OK
* checking compiled code ... NOTE
Note: information on .o files is not available
* checking files in ‘vignettes’ ... OK
* checking examples ... OK
Examples with CPU (user + system) or elapsed time > 5s
user system elapsed
perTurboClassification 16.489 0.179 16.721
plot2D 9.432 0.333 8.064
SpatProtVis-class 8.215 0.407 8.640
nnetClassification 7.982 0.156 8.161
rfClassification 7.626 0.275 7.926
svmClassification 7.504 0.351 7.881
ksvmClassification 6.556 0.187 6.766
ClustDistList-class 6.018 0.391 13.809
ClustDist-class 5.597 0.307 11.767
clustDist 5.381 0.267 12.622
addGoAnnotations 4.760 0.167 12.244
AnnotationParams-class 1.499 0.144 14.259
* checking for unstated dependencies in ‘tests’ ... OK
* checking tests ...
Running ‘testthat.R’
OK
* checking for unstated dependencies in vignettes ... OK
* checking package vignettes ... OK
* checking running R code from vignettes ... SKIPPED
* checking re-building of vignette outputs ... SKIPPED
* checking PDF version of manual ... OK
* DONE
Status: 4 NOTEs
See
‘/home/biocbuild/bbs-3.19-bioc/meat/pRoloc.Rcheck/00check.log’
for details.
pRoloc.Rcheck/00install.out
############################################################################## ############################################################################## ### ### Running command: ### ### /home/biocbuild/R/R-beta-2024-04-15_r86425/bin/R CMD INSTALL pRoloc ### ############################################################################## ############################################################################## * installing to library ‘/home/biocbuild/R/R-beta-2024-04-15_r86425/site-library’ * installing *source* package ‘pRoloc’ ... ** using staged installation ** libs using C++ compiler: ‘g++ (GCC) 10.3.1’ g++ -std=gnu++17 -I"/home/biocbuild/R/R-beta-2024-04-15_r86425/include" -DNDEBUG -I'/home/biocbuild/R/R-beta-2024-04-15_r86425/site-library/Rcpp/include' -I'/home/biocbuild/R/R-beta-2024-04-15_r86425/site-library/RcppArmadillo/include' -I/usr/local/include -fPIC -g -O2 -Wall -c RcppExports.cpp -o RcppExports.o g++ -std=gnu++17 -I"/home/biocbuild/R/R-beta-2024-04-15_r86425/include" -DNDEBUG -I'/home/biocbuild/R/R-beta-2024-04-15_r86425/site-library/Rcpp/include' -I'/home/biocbuild/R/R-beta-2024-04-15_r86425/site-library/RcppArmadillo/include' -I/usr/local/include -fPIC -g -O2 -Wall -c dmvtCpp.cpp -o dmvtCpp.o g++ -std=gnu++17 -I"/home/biocbuild/R/R-beta-2024-04-15_r86425/include" -DNDEBUG -I'/home/biocbuild/R/R-beta-2024-04-15_r86425/site-library/Rcpp/include' -I'/home/biocbuild/R/R-beta-2024-04-15_r86425/site-library/RcppArmadillo/include' -I/usr/local/include -fPIC -g -O2 -Wall -c pRoloc.cpp -o pRoloc.o g++ -std=gnu++17 -shared -L/home/biocbuild/R/R-beta-2024-04-15_r86425/lib -L/usr/local/lib -o pRoloc.so RcppExports.o dmvtCpp.o pRoloc.o -lopenblas -lgfortran -lm -L/home/biocbuild/R/R-beta-2024-04-15_r86425/lib -lR installing to /home/biocbuild/R/R-beta-2024-04-15_r86425/site-library/00LOCK-pRoloc/00new/pRoloc/libs ** R ** data ** inst ** byte-compile and prepare package for lazy loading ** help *** installing help indices ** building package indices ** installing vignettes ** testing if installed package can be loaded from temporary location ** checking absolute paths in shared objects and dynamic libraries ** testing if installed package can be loaded from final location ** testing if installed package keeps a record of temporary installation path * DONE (pRoloc)
pRoloc.Rcheck/tests/testthat.Rout
R version 4.4.0 beta (2024-04-15 r86425) -- "Puppy Cup"
Copyright (C) 2024 The R Foundation for Statistical Computing
Platform: aarch64-unknown-linux-gnu
R is free software and comes with ABSOLUTELY NO WARRANTY.
You are welcome to redistribute it under certain conditions.
Type 'license()' or 'licence()' for distribution details.
R is a collaborative project with many contributors.
Type 'contributors()' for more information and
'citation()' on how to cite R or R packages in publications.
Type 'demo()' for some demos, 'help()' for on-line help, or
'help.start()' for an HTML browser interface to help.
Type 'q()' to quit R.
>
> # The setting of R_TESTS exists to work around an R bug. See
> # https://github.com/hadley/testthat/issues/144
> # We should remove it when the issue is resolved.
> Sys.setenv("R_TESTS" = "")
>
> library("testthat")
> library("pRoloc")
Loading required package: MSnbase
Loading required package: BiocGenerics
Attaching package: 'BiocGenerics'
The following objects are masked from 'package:stats':
IQR, mad, sd, var, xtabs
The following objects are masked from 'package:base':
Filter, Find, Map, Position, Reduce, anyDuplicated, aperm, append,
as.data.frame, basename, cbind, colnames, dirname, do.call,
duplicated, eval, evalq, get, grep, grepl, intersect, is.unsorted,
lapply, mapply, match, mget, order, paste, pmax, pmax.int, pmin,
pmin.int, rank, rbind, rownames, sapply, setdiff, table, tapply,
union, unique, unsplit, which.max, which.min
Loading required package: Biobase
Welcome to Bioconductor
Vignettes contain introductory material; view with
'browseVignettes()'. To cite Bioconductor, see
'citation("Biobase")', and for packages 'citation("pkgname")'.
Loading required package: mzR
Loading required package: Rcpp
Loading required package: S4Vectors
Loading required package: stats4
Attaching package: 'S4Vectors'
The following object is masked from 'package:utils':
findMatches
The following objects are masked from 'package:base':
I, expand.grid, unname
Loading required package: ProtGenerics
Attaching package: 'ProtGenerics'
The following object is masked from 'package:stats':
smooth
This is MSnbase version 2.30.1
Visit https://lgatto.github.io/MSnbase/ to get started.
Consider switching to the 'R for Mass Spectrometry'
packages - see https://RforMassSpectrometry.org for details.
Attaching package: 'MSnbase'
The following object is masked from 'package:base':
trimws
Loading required package: MLInterfaces
Loading required package: annotate
Loading required package: AnnotationDbi
Loading required package: IRanges
Loading required package: XML
Attaching package: 'annotate'
The following object is masked from 'package:mzR':
nChrom
Loading required package: cluster
Loading required package: BiocParallel
This is pRoloc version 1.44.0
Visit https://lgatto.github.io/pRoloc/ to get started.
> library("pRolocdata")
This is pRolocdata version 1.41.0.
Use 'pRolocdata()' to list available data sets.
>
> test_check("pRoloc")
Object of class "SpatProtVis"
Data: dunkley2006
Visualisation methods: PCA, MDS, kpca
Done.
Connecting to Biomart...
Object of class "AnnotationParams"
Using the 'ENSEMBL_MART_ENSEMBL' BioMart database
Using the 'hsapiens_gene_ensembl' dataset
Using 'uniprotswissprot' as filter
Created on Thu May 9 10:55:22 2024
GO Term Evidence Code
Experimental Evidence Codes
EXP: Inferred from Experiment
IDA: Inferred from Direct Assay
IPI: Inferred from Physical Interaction
IMP: Inferred from Mutant Phenotype
IGI: Inferred from Genetic Interaction
IEP: Inferred from Expression Pattern
Computational Analysis Evidence Codes
ISS: Inferred from Sequence or Structural Similarity
ISO: Inferred from Sequence Orthology
ISA: Inferred from Sequence Alignment
ISM: Inferred from Sequence Model
IGC: Inferred from Genomic Context
IBA: Inferred from Biological aspect of Ancestor
IBD: Inferred from Biological aspect of Descendant
IKR: Inferred from Key Residues
IRD: Inferred from Rapid Divergence
RCA: inferred from Reviewed Computational Analysis
Author Statement Evidence Codes
TAS: Traceable Author Statement
NAS: Non-traceable Author Statement
Curator Statement Evidence Codes
IC: Inferred by Curator
ND: No biological Data available
Automatically-assigned Evidence Codes
IEA: Inferred from Electronic Annotation
Obsolete Evidence Codes
NR: Not Recorded
Connecting to Biomart...
organelleMarkers
ORG1 ORG2 ORG3 ORG4 ORG5
3 2 3 1 1
organelleMarkers
ORG1 ORG2 ORG3 ORG4 ORG5
5 2 1 1 1
organelleMarkers
ORG1 unknown
3 7
organelleMarkers
ORG1 unknown
2 8
[1] "markers"
[1] "xx"
[1] "markers"
[1] "xx"
[1] "markers"
[1] "xx"
[1] "markers"
# weights: 269
initial value 666.839513
iter 10 value 207.573433
iter 20 value 34.513121
iter 30 value 1.438035
iter 40 value 0.496168
iter 50 value 0.419018
iter 60 value 0.386372
iter 70 value 0.360129
iter 80 value 0.324298
iter 90 value 0.294123
iter 100 value 0.252996
final value 0.252996
stopped after 100 iterations
[1] "xx"
# weights: 269
initial value 666.839513
iter 10 value 207.573433
iter 20 value 34.513121
iter 30 value 1.438035
iter 40 value 0.496168
iter 50 value 0.419018
iter 60 value 0.386372
iter 70 value 0.360129
iter 80 value 0.324298
iter 90 value 0.294123
iter 100 value 0.252996
final value 0.252996
stopped after 100 iterations
[1] "markers"
[1] "xx"
[1] "pd.markers"
Common markers: 0
Unique x markers: 49
Unique y markers: 34
Common unkowns: 11
Unique x unknowns: 40
Unique y unknowns: 66
my
mx ER lumen ER membrane Golgi Mitochondrion PM Plastid Ribosome
ER lumen 14 0 0 0 0 0 0
ER membrane 0 45 0 0 0 0 0
Golgi 0 0 28 0 0 0 0
Mitochondrion 0 0 0 55 0 0 0
PM 0 0 0 0 46 0 0
Plastid 0 0 0 0 0 20 0
Ribosome 0 0 0 0 0 0 19
TGN 0 0 0 0 0 0 0
unknown 0 0 0 0 0 0 0
vacuole 0 0 0 0 0 0 0
my
mx TGN unknown vacuole
ER lumen 0 0 0
ER membrane 0 0 0
Golgi 0 0 0
Mitochondrion 0 0 0
PM 0 0 0
Plastid 0 0 0
Ribosome 0 0 0
TGN 13 0 0
unknown 0 428 0
vacuole 0 0 21
[ FAIL 0 | WARN 7 | SKIP 0 | PASS 146 ]
[ FAIL 0 | WARN 7 | SKIP 0 | PASS 146 ]
>
> proc.time()
user system elapsed
138.917 2.262 166.755
pRoloc.Rcheck/pRoloc-Ex.timings
| name | user | system | elapsed | |
| AnnotationParams-class | 1.499 | 0.144 | 14.259 | |
| ClustDist-class | 5.597 | 0.307 | 11.767 | |
| ClustDistList-class | 6.018 | 0.391 | 13.809 | |
| GenRegRes-class | 0.000 | 0.001 | 0.001 | |
| QSep-class | 0.452 | 0.026 | 0.479 | |
| SpatProtVis-class | 8.215 | 0.407 | 8.640 | |
| addGoAnnotations | 4.760 | 0.167 | 12.244 | |
| addMarkers | 0.232 | 0.020 | 0.252 | |
| checkFeatureNamesOverlap | 0.461 | 0.028 | 0.493 | |
| checkFvarOverlap | 0.065 | 0.012 | 0.077 | |
| chi2-methods | 0.006 | 0.000 | 0.006 | |
| classWeights | 0.139 | 0.003 | 0.143 | |
| clustDist | 5.381 | 0.267 | 12.622 | |
| empPvalues | 0.111 | 0.012 | 0.123 | |
| fDataToUnknown | 0.071 | 0.000 | 0.072 | |
| filterBinMSnSet | 0.225 | 0.016 | 0.241 | |
| filterZeroCols | 0.145 | 0.008 | 0.154 | |
| getGOFromFeatures | 0.511 | 0.040 | 0.552 | |
| getMarkerClasses | 0.054 | 0.004 | 0.057 | |
| getMarkers | 0.088 | 0.008 | 0.096 | |
| getPredictions | 0.351 | 0.008 | 0.361 | |
| getStockcol | 0.118 | 0.000 | 0.118 | |
| goIdToTerm | 2.382 | 0.044 | 2.432 | |
| highlightOnPlot | 0.380 | 0.028 | 0.411 | |
| knnClassification | 1.628 | 0.131 | 1.766 | |
| knntlClassification | 0 | 0 | 0 | |
| ksvmClassification | 6.556 | 0.187 | 6.766 | |
| makeGoSet | 0.915 | 0.030 | 0.949 | |
| markerMSnSet | 0.330 | 0.016 | 0.347 | |
| markers | 0.080 | 0.004 | 0.084 | |
| minMarkers | 0.060 | 0.000 | 0.061 | |
| mixing_posterior_check | 0 | 0 | 0 | |
| move2Ds | 2.504 | 0.128 | 2.640 | |
| mrkConsProfiles | 0.295 | 0.004 | 0.301 | |
| mrkHClust | 0.103 | 0.007 | 0.110 | |
| nbClassification | 3.649 | 0.087 | 3.749 | |
| nicheMeans2D | 0 | 0 | 0 | |
| nndist-methods | 0.244 | 0.012 | 0.256 | |
| nnetClassification | 7.982 | 0.156 | 8.161 | |
| orgQuants | 0.271 | 0.000 | 0.272 | |
| pRolocmarkers | 0.013 | 0.000 | 0.017 | |
| perTurboClassification | 16.489 | 0.179 | 16.721 | |
| phenoDisco | 0.000 | 0.000 | 0.001 | |
| plot2D | 9.432 | 0.333 | 8.064 | |
| plot2Ds | 0.436 | 0.068 | 0.506 | |
| plotConsProfiles | 0.537 | 0.032 | 0.571 | |
| plotDist | 0.229 | 0.004 | 0.234 | |
| plsdaClassification | 0 | 0 | 0 | |
| rfClassification | 7.626 | 0.275 | 7.926 | |
| sampleMSnSet | 0.078 | 0.004 | 0.082 | |
| showGOEvidenceCodes | 0.001 | 0.000 | 0.000 | |
| spatial2D | 0 | 0 | 0 | |
| svmClassification | 7.504 | 0.351 | 7.881 | |
| testMSnSet | 0.380 | 0.019 | 0.401 | |
| testMarkers | 0.038 | 0.004 | 0.042 | |
| thetas | 0.01 | 0.00 | 0.01 | |
| zerosInBinMSnSet | 4.592 | 0.212 | 4.818 | |