Back to Multiple platform build/check report for BioC 3.19: simplified long |
|
This page was generated on 2024-06-11 14:44 -0400 (Tue, 11 Jun 2024).
Hostname | OS | Arch (*) | R version | Installed pkgs |
---|---|---|---|---|
nebbiolo1 | Linux (Ubuntu 22.04.3 LTS) | x86_64 | 4.4.0 (2024-04-24) -- "Puppy Cup" | 4757 |
palomino3 | Windows Server 2022 Datacenter | x64 | 4.4.0 (2024-04-24 ucrt) -- "Puppy Cup" | 4491 |
lconway | macOS 12.7.1 Monterey | x86_64 | 4.4.0 (2024-04-24) -- "Puppy Cup" | 4522 |
kjohnson3 | macOS 13.6.5 Ventura | arm64 | 4.4.0 (2024-04-24) -- "Puppy Cup" | 4468 |
Click on any hostname to see more info about the system (e.g. compilers) (*) as reported by 'uname -p', except on Windows and Mac OS X |
Package 1475/2300 | Hostname | OS / Arch | INSTALL | BUILD | CHECK | BUILD BIN | ||||||||
ontoProc 1.26.0 (landing page) Vincent Carey
| nebbiolo1 | Linux (Ubuntu 22.04.3 LTS) / x86_64 | OK | OK | OK | |||||||||
palomino3 | Windows Server 2022 Datacenter / x64 | OK | OK | OK | OK | |||||||||
lconway | macOS 12.7.1 Monterey / x86_64 | OK | OK | OK | OK | |||||||||
kjohnson3 | macOS 13.6.5 Ventura / arm64 | OK | OK | OK | OK | |||||||||
To the developers/maintainers of the ontoProc package: - Allow up to 24 hours (and sometimes 48 hours) for your latest push to git@git.bioconductor.org:packages/ontoProc.git to reflect on this report. See Troubleshooting Build Report for more information. - Use the following Renviron settings to reproduce errors and warnings. - If 'R CMD check' started to fail recently on the Linux builder(s) over a missing dependency, add the missing dependency to 'Suggests:' in your DESCRIPTION file. See Renviron.bioc for more information. |
Package: ontoProc |
Version: 1.26.0 |
Command: /Library/Frameworks/R.framework/Resources/bin/R CMD check --install=check:ontoProc.install-out.txt --library=/Library/Frameworks/R.framework/Resources/library --no-vignettes --timings ontoProc_1.26.0.tar.gz |
StartedAt: 2024-06-11 00:21:32 -0400 (Tue, 11 Jun 2024) |
EndedAt: 2024-06-11 00:39:42 -0400 (Tue, 11 Jun 2024) |
EllapsedTime: 1090.4 seconds |
RetCode: 0 |
Status: OK |
CheckDir: ontoProc.Rcheck |
Warnings: 0 |
############################################################################## ############################################################################## ### ### Running command: ### ### /Library/Frameworks/R.framework/Resources/bin/R CMD check --install=check:ontoProc.install-out.txt --library=/Library/Frameworks/R.framework/Resources/library --no-vignettes --timings ontoProc_1.26.0.tar.gz ### ############################################################################## ############################################################################## * using log directory ‘/Users/biocbuild/bbs-3.19-bioc/meat/ontoProc.Rcheck’ * using R version 4.4.0 (2024-04-24) * using platform: aarch64-apple-darwin20 * R was compiled by Apple clang version 14.0.0 (clang-1400.0.29.202) GNU Fortran (GCC) 12.2.0 * running under: macOS Ventura 13.6.5 * using session charset: UTF-8 * using option ‘--no-vignettes’ * checking for file ‘ontoProc/DESCRIPTION’ ... OK * this is package ‘ontoProc’ version ‘1.26.0’ * package encoding: UTF-8 * checking package namespace information ... OK * checking package dependencies ... OK * checking if this is a source package ... OK * checking if there is a namespace ... OK * checking for hidden files and directories ... OK * checking for portable file names ... OK * checking for sufficient/correct file permissions ... OK * checking whether package ‘ontoProc’ can be installed ... OK * checking installed package size ... NOTE installed size is 10.0Mb sub-directories of 1Mb or more: app 1.9Mb data 1.8Mb ontoRda 2.8Mb owl 2.9Mb * checking package directory ... OK * checking ‘build’ directory ... OK * checking DESCRIPTION meta-information ... OK * checking top-level files ... OK * checking for left-over files ... OK * checking index information ... OK * checking package subdirectories ... OK * checking code files for non-ASCII characters ... OK * checking R files for syntax errors ... OK * checking whether the package can be loaded ... OK * checking whether the package can be loaded with stated dependencies ... OK * checking whether the package can be unloaded cleanly ... OK * checking whether the namespace can be loaded with stated dependencies ... OK * checking whether the namespace can be unloaded cleanly ... OK * checking dependencies in R code ... OK * checking S3 generic/method consistency ... OK * checking replacement functions ... OK * checking foreign function calls ... OK * checking R code for possible problems ... NOTE CLfeat : prupdate: no visible binding for global variable ‘PROSYM’ CLfeat : prupdate: no visible binding for global variable ‘PRID’ CLfeat : prupdate: no visible binding for global variable ‘SYMBOL’ ctmarks : server: no visible binding for global variable ‘text’ ctmarks : server: no visible binding for global variable ‘packDesc2022’ ctmarks : server: no visible binding for global variable ‘packDesc2021’ ctmarks: no visible binding for global variable ‘cumu’ dropStop: no visible binding for global variable ‘stopWords’ getOnto: no visible binding for global variable ‘rdatadateadded’ getOnto: no visible binding for global variable ‘title’ getOnto: no visible binding for global variable ‘description’ ldfToTerm: no visible binding for global variable ‘PROSYM’ sym2CellOnto: no visible binding for global variable ‘PROSYM’ sym2CellOnto: no visible binding for global variable ‘SYMBOL’ Undefined global functions or variables: PRID PROSYM SYMBOL cumu description packDesc2021 packDesc2022 rdatadateadded stopWords text title Consider adding importFrom("graphics", "text", "title") to your NAMESPACE file. * checking Rd files ... OK * checking Rd metadata ... OK * checking Rd cross-references ... OK * checking for missing documentation entries ... OK * checking for code/documentation mismatches ... OK * checking Rd \usage sections ... NOTE S3 methods shown with full name in Rd file 'plot.owlents.Rd': ‘plot.owlents’ The \usage entries for S3 methods should use the \method markup and not their full name. See chapter ‘Writing R documentation files’ in the ‘Writing R Extensions’ manual. * checking Rd contents ... OK * checking for unstated dependencies in examples ... OK * checking contents of ‘data’ directory ... OK * checking data for non-ASCII characters ... NOTE Note: found 162 marked UTF-8 strings * checking data for ASCII and uncompressed saves ... OK * checking files in ‘vignettes’ ... OK * checking examples ... OK Examples with CPU (user + system) or elapsed time > 5s user system elapsed sym2CellOnto 53.047 1.282 75.469 CLfeats 36.782 1.611 49.401 siblings_TAG 27.533 1.399 40.443 plot.owlents 18.462 0.574 26.715 fastGrep 16.540 0.570 22.765 getLeavesFromTerm 15.478 0.569 22.703 common_classes 14.890 0.811 19.360 owl2cache 13.385 0.444 19.672 ancestors 13.129 0.660 17.142 nomenCheckup 13.273 0.503 19.738 cleanCLOnames 12.985 0.485 15.796 findCommonAncestors 11.539 0.548 15.238 TermSet-class 10.836 0.506 13.913 liberalMap 9.173 0.480 15.838 mapOneNaive 9.158 0.464 15.426 getOnto 9.005 0.468 14.652 make_graphNEL_from_ontology_plot 8.764 0.450 14.878 selectFromMap 8.645 0.453 11.810 secLevGen 8.101 0.425 12.747 onto_plot2 7.764 0.468 12.389 subclasses 4.070 0.073 5.544 ancestors_names 3.772 0.154 5.298 * checking for unstated dependencies in ‘tests’ ... OK * checking tests ... Running ‘test.R’ OK * checking for unstated dependencies in vignettes ... OK * checking package vignettes ... OK * checking running R code from vignettes ... SKIPPED * checking re-building of vignette outputs ... SKIPPED * checking PDF version of manual ... OK * DONE Status: 4 NOTEs See ‘/Users/biocbuild/bbs-3.19-bioc/meat/ontoProc.Rcheck/00check.log’ for details.
ontoProc.Rcheck/00install.out
############################################################################## ############################################################################## ### ### Running command: ### ### /Library/Frameworks/R.framework/Resources/bin/R CMD INSTALL ontoProc ### ############################################################################## ############################################################################## * installing to library ‘/Library/Frameworks/R.framework/Versions/4.4-arm64/Resources/library’ * installing *source* package ‘ontoProc’ ... ** using staged installation ** R ** data ** inst ** byte-compile and prepare package for lazy loading ** help *** installing help indices ** building package indices ** installing vignettes ** testing if installed package can be loaded from temporary location ** testing if installed package can be loaded from final location ** testing if installed package keeps a record of temporary installation path * DONE (ontoProc)
ontoProc.Rcheck/tests/test.Rout
R version 4.4.0 (2024-04-24) -- "Puppy Cup" Copyright (C) 2024 The R Foundation for Statistical Computing Platform: aarch64-apple-darwin20 R is free software and comes with ABSOLUTELY NO WARRANTY. You are welcome to redistribute it under certain conditions. Type 'license()' or 'licence()' for distribution details. R is a collaborative project with many contributors. Type 'contributors()' for more information and 'citation()' on how to cite R or R packages in publications. Type 'demo()' for some demos, 'help()' for on-line help, or 'help.start()' for an HTML browser interface to help. Type 'q()' to quit R. > > library(ontoProc) Loading required package: ontologyIndex > library(testthat) > > test_check("ontoProc") [ FAIL 0 | WARN 0 | SKIP 0 | PASS 13 ] > > > proc.time() user system elapsed 92.228 4.722 262.014
ontoProc.Rcheck/ontoProc-Ex.timings
name | user | system | elapsed | |
CLfeats | 36.782 | 1.611 | 49.401 | |
PROSYM | 0.267 | 0.007 | 0.341 | |
TermSet-class | 10.836 | 0.506 | 13.913 | |
allGOterms | 0.102 | 0.003 | 0.131 | |
ancestors | 13.129 | 0.660 | 17.142 | |
ancestors_names | 3.772 | 0.154 | 5.298 | |
cellTypeToGO | 1.738 | 0.123 | 2.376 | |
children_names | 3.252 | 0.060 | 4.366 | |
cleanCLOnames | 12.985 | 0.485 | 15.796 | |
common_classes | 14.890 | 0.811 | 19.360 | |
ctmarks | 0 | 0 | 0 | |
cyclicSigset | 0.007 | 0.001 | 0.016 | |
demoApp | 0 | 0 | 0 | |
dropStop | 0.003 | 0.003 | 0.008 | |
fastGrep | 16.540 | 0.570 | 22.765 | |
findCommonAncestors | 11.539 | 0.548 | 15.238 | |
getLeavesFromTerm | 15.478 | 0.569 | 22.703 | |
getOnto | 9.005 | 0.468 | 14.652 | |
humrna | 0.007 | 0.002 | 0.017 | |
ldfToTerms | 3.031 | 0.071 | 4.480 | |
liberalMap | 9.173 | 0.480 | 15.838 | |
makeSelectInput | 0.001 | 0.000 | 0.001 | |
make_graphNEL_from_ontology_plot | 8.764 | 0.450 | 14.878 | |
mapOneNaive | 9.158 | 0.464 | 15.426 | |
minicorpus | 0.001 | 0.002 | 0.003 | |
nomenCheckup | 13.273 | 0.503 | 19.738 | |
onto_plot2 | 7.764 | 0.468 | 12.389 | |
onto_roots | 0 | 0 | 0 | |
owl2cache | 13.385 | 0.444 | 19.672 | |
packDesc2019 | 0.004 | 0.003 | 0.006 | |
packDesc2021 | 0.003 | 0.002 | 0.005 | |
packDesc2022 | 0.002 | 0.002 | 0.008 | |
packDesc2023 | 0.003 | 0.002 | 0.007 | |
parents | 3.223 | 0.067 | 4.492 | |
plot.owlents | 18.462 | 0.574 | 26.715 | |
recognizedPredicates | 0 | 0 | 0 | |
secLevGen | 8.101 | 0.425 | 12.747 | |
selectFromMap | 8.645 | 0.453 | 11.810 | |
setup_entities | 3.568 | 0.068 | 4.697 | |
seur3kTab | 0.005 | 0.002 | 0.013 | |
siblings_TAG | 27.533 | 1.399 | 40.443 | |
stopWords | 0.002 | 0.002 | 0.007 | |
subclasses | 4.070 | 0.073 | 5.544 | |
sym2CellOnto | 53.047 | 1.282 | 75.469 | |
valid_ontonames | 0 | 0 | 0 | |