| Back to Multiple platform build/check report for BioC 3.19: simplified long | 
 | 
This page was generated on 2024-10-18 20:38 -0400 (Fri, 18 Oct 2024).
| Hostname | OS | Arch (*) | R version | Installed pkgs | 
|---|---|---|---|---|
| nebbiolo1 | Linux (Ubuntu 22.04.3 LTS) | x86_64 | 4.4.1 (2024-06-14) -- "Race for Your Life" | 4763 | 
| palomino7 | Windows Server 2022 Datacenter | x64 | 4.4.1 (2024-06-14 ucrt) -- "Race for Your Life" | 4500 | 
| merida1 | macOS 12.7.5 Monterey | x86_64 | 4.4.1 (2024-06-14) -- "Race for Your Life" | 4530 | 
| kjohnson1 | macOS 13.6.6 Ventura | arm64 | 4.4.1 (2024-06-14) -- "Race for Your Life" | 4480 | 
| Click on any hostname to see more info about the system (e.g. compilers) (*) as reported by 'uname -p', except on Windows and Mac OS X | ||||
| Package 1418/2300 | Hostname | OS / Arch | INSTALL | BUILD | CHECK | BUILD BIN | ||||||||
| netDx 1.16.0  (landing page) Shraddha Pai 
 | nebbiolo1 | Linux (Ubuntu 22.04.3 LTS) / x86_64 | OK | OK | OK |  | ||||||||
| palomino7 | Windows Server 2022 Datacenter / x64 | ... NOT SUPPORTED ... | ||||||||||||
| merida1 | macOS 12.7.5 Monterey / x86_64 | OK | ERROR | skipped | skipped | |||||||||
| kjohnson1 | macOS 13.6.6 Ventura / arm64 | OK | ERROR | skipped | skipped | |||||||||
| To the developers/maintainers of the netDx package: - Allow up to 24 hours (and sometimes 48 hours) for your latest push to git@git.bioconductor.org:packages/netDx.git to reflect on this report. See Troubleshooting Build Report for more information. - Use the following Renviron settings to reproduce errors and warnings. - If 'R CMD check' started to fail recently on the Linux builder(s) over a missing dependency, add the missing dependency to 'Suggests:' in your DESCRIPTION file. See Renviron.bioc for more information. | 
| Package: netDx | 
| Version: 1.16.0 | 
| Command: /home/biocbuild/bbs-3.19-bioc/R/bin/R CMD check --install=check:netDx.install-out.txt --library=/home/biocbuild/bbs-3.19-bioc/R/site-library --timings netDx_1.16.0.tar.gz | 
| StartedAt: 2024-10-17 03:03:15 -0400 (Thu, 17 Oct 2024) | 
| EndedAt: 2024-10-17 03:39:31 -0400 (Thu, 17 Oct 2024) | 
| EllapsedTime: 2175.5 seconds | 
| RetCode: 0 | 
| Status: OK | 
| CheckDir: netDx.Rcheck | 
| Warnings: 0 | 
##############################################################################
##############################################################################
###
### Running command:
###
###   /home/biocbuild/bbs-3.19-bioc/R/bin/R CMD check --install=check:netDx.install-out.txt --library=/home/biocbuild/bbs-3.19-bioc/R/site-library --timings netDx_1.16.0.tar.gz
###
##############################################################################
##############################################################################
* using log directory ‘/home/biocbuild/bbs-3.19-bioc/meat/netDx.Rcheck’
* using R version 4.4.1 (2024-06-14)
* using platform: x86_64-pc-linux-gnu
* R was compiled by
    gcc (Ubuntu 11.4.0-1ubuntu1~22.04) 11.4.0
    GNU Fortran (Ubuntu 11.4.0-1ubuntu1~22.04) 11.4.0
* running under: Ubuntu 22.04.5 LTS
* using session charset: UTF-8
* checking for file ‘netDx/DESCRIPTION’ ... OK
* this is package ‘netDx’ version ‘1.16.0’
* package encoding: UTF-8
* checking package namespace information ... OK
* checking package dependencies ... OK
* checking if this is a source package ... OK
* checking if there is a namespace ... OK
* checking for hidden files and directories ... NOTE
Found the following hidden files and directories:
  .BBSoptions
These were most likely included in error. See section ‘Package
structure’ in the ‘Writing R Extensions’ manual.
* checking for portable file names ... OK
* checking for sufficient/correct file permissions ... OK
* checking whether package ‘netDx’ can be installed ... OK
* checking installed package size ... OK
* checking package directory ... OK
* checking ‘build’ directory ... OK
* checking DESCRIPTION meta-information ... NOTE
Malformed Description field: should contain one or more complete sentences.
* checking top-level files ... OK
* checking for left-over files ... OK
* checking index information ... OK
* checking package subdirectories ... NOTE
Found the following CITATION file in a non-standard place:
  CITATION.cff
Most likely ‘inst/CITATION’ should be used instead.
* checking code files for non-ASCII characters ... OK
* checking R files for syntax errors ... OK
* checking whether the package can be loaded ... OK
* checking whether the package can be loaded with stated dependencies ... OK
* checking whether the package can be unloaded cleanly ... OK
* checking whether the namespace can be loaded with stated dependencies ... OK
* checking whether the namespace can be unloaded cleanly ... OK
* checking loading without being on the library search path ... OK
* checking whether startup messages can be suppressed ... OK
* checking dependencies in R code ... OK
* checking S3 generic/method consistency ... OK
* checking replacement functions ... OK
* checking foreign function calls ... OK
* checking R code for possible problems ... OK
* checking Rd files ... NOTE
checkRd: (-1) getEnr.Rd:53: Lost braces; missing escapes or markup?
    53 | {(+,-),(-,+),(-,-)} interactions. 
       | ^
checkRd: (-1) predict.Rd:27: Lost braces; missing escapes or markup?
    27 | e.g. keys could include {'clinical','rna','methylation'}, and values within 'rna' could include pathway names {'cell cycle', 'DNA repair'}, etc.,
       |                         ^
checkRd: (-1) predict.Rd:27: Lost braces; missing escapes or markup?
    27 | e.g. keys could include {'clinical','rna','methylation'}, and values within 'rna' could include pathway names {'cell cycle', 'DNA repair'}, etc.,
       |                                                                                                               ^
* checking Rd metadata ... OK
* checking Rd cross-references ... OK
* checking for missing documentation entries ... OK
* checking for code/documentation mismatches ... OK
* checking Rd \usage sections ... OK
* checking Rd contents ... OK
* checking for unstated dependencies in examples ... OK
* checking contents of ‘data’ directory ... OK
* checking data for non-ASCII characters ... OK
* checking data for ASCII and uncompressed saves ... OK
* checking files in ‘vignettes’ ... OK
* checking examples ... OK
Examples with CPU (user + system) or elapsed time > 5s
                             user system elapsed
buildPredictor             20.484  1.981  25.469
createPSN_MultiData        19.011  1.661  31.692
RR_featureTally             8.053  0.540   8.593
smoothMutations_LabelProp   7.386  0.644  31.239
runFeatureSelection         7.330  0.578   4.500
compileFeatures             6.590  0.524  20.994
thresholdSmoothedMutations  4.972  0.644  28.522
enrichLabelNets             1.945  0.245  58.653
getEnr                      0.801  0.140  10.381
makePSN_NamedMatrix         0.079  0.005   8.833
countIntType_batch          0.021  0.000   9.570
* checking for unstated dependencies in ‘tests’ ... OK
* checking tests ...
  Running ‘testthat.R’
 OK
* checking for unstated dependencies in vignettes ... OK
* checking package vignettes ... OK
* checking re-building of vignette outputs ... OK
* checking PDF version of manual ... OK
* DONE
Status: 4 NOTEs
See
  ‘/home/biocbuild/bbs-3.19-bioc/meat/netDx.Rcheck/00check.log’
for details.
netDx.Rcheck/00install.out
############################################################################## ############################################################################## ### ### Running command: ### ### /home/biocbuild/bbs-3.19-bioc/R/bin/R CMD INSTALL netDx ### ############################################################################## ############################################################################## * installing to library ‘/home/biocbuild/bbs-3.19-bioc/R/site-library’ * installing *source* package ‘netDx’ ... ** using staged installation ** R ** data ** inst ** byte-compile and prepare package for lazy loading ** help *** installing help indices ** building package indices ** installing vignettes ** testing if installed package can be loaded from temporary location ** testing if installed package can be loaded from final location ** testing if installed package keeps a record of temporary installation path * DONE (netDx)
netDx.Rcheck/tests/testthat.Rout
R version 4.4.1 (2024-06-14) -- "Race for Your Life"
Copyright (C) 2024 The R Foundation for Statistical Computing
Platform: x86_64-pc-linux-gnu
R is free software and comes with ABSOLUTELY NO WARRANTY.
You are welcome to redistribute it under certain conditions.
Type 'license()' or 'licence()' for distribution details.
R is a collaborative project with many contributors.
Type 'contributors()' for more information and
'citation()' on how to cite R or R packages in publications.
Type 'demo()' for some demos, 'help()' for on-line help, or
'help.start()' for an HTML browser interface to help.
Type 'q()' to quit R.
> library(testthat)
> library(netDx)
Attaching package: 'netDx'
The following object is masked from 'package:stats':
    predict
> 
> test_check("netDx")
         TT_STATUS
STATUS    TEST TRAIN
  LumA      52   178
  notLumA   52   243
         PRED_CLASS
STATUS    LumA notLumA
  LumA      41      11
  notLumA   17      35
[1] TRUE
[ FAIL 0 | WARN 0 | SKIP 0 | PASS 39 ]
> 
> proc.time()
   user  system elapsed 
 68.750   5.765 252.253 
netDx.Rcheck/netDx-Ex.timings
| name | user | system | elapsed | |
| MB.pheno | 0.006 | 0.000 | 0.006 | |
| RR_featureTally | 8.053 | 0.540 | 8.593 | |
| avgNormDiff | 0.045 | 0.000 | 0.045 | |
| buildPredictor | 20.484 | 1.981 | 25.469 | |
| buildPredictor_sparseGenetic | 0.584 | 0.052 | 1.103 | |
| callFeatSel | 0.073 | 0.016 | 0.088 | |
| callOverallSelectedFeatures | 0.076 | 0.024 | 0.100 | |
| cleanPathwayName | 0.000 | 0.000 | 0.001 | |
| cnv_GR | 0.027 | 0.006 | 0.033 | |
| cnv_TTstatus | 0.008 | 0.016 | 0.024 | |
| cnv_netPass | 0.001 | 0.003 | 0.003 | |
| cnv_netScores | 0.002 | 0.022 | 0.024 | |
| cnv_patientNetCount | 0.102 | 0.117 | 0.219 | |
| cnv_pheno | 0.01 | 0.00 | 0.01 | |
| compareShortestPath | 0.032 | 0.000 | 0.032 | |
| compileFeatureScores | 0.001 | 0.007 | 0.008 | |
| compileFeatures | 6.590 | 0.524 | 20.994 | |
| confmat | 0.000 | 0.002 | 0.003 | |
| confusionMatrix | 0.102 | 0.004 | 0.105 | |
| convertToMAE | 0.117 | 0.024 | 0.141 | |
| countIntType | 0.001 | 0.000 | 0.001 | |
| countIntType_batch | 0.021 | 0.000 | 9.570 | |
| countPatientsInNet | 0.003 | 0.000 | 0.002 | |
| createPSN_MultiData | 19.011 | 1.661 | 31.692 | |
| dataList2List | 0.347 | 0.012 | 0.359 | |
| enrichLabelNets | 1.945 | 0.245 | 58.653 | |
| featScores | 0.041 | 0.015 | 0.056 | |
| fetchPathwayDefinitions | 0.322 | 0.023 | 0.576 | |
| genes | 0.002 | 0.000 | 0.003 | |
| getEMapInput | 0.701 | 0.044 | 0.770 | |
| getEMapInput_many | 0.704 | 0.096 | 0.821 | |
| getEnr | 0.801 | 0.140 | 10.381 | |
| getFeatureScores | 0.025 | 0.008 | 0.033 | |
| getFileSep | 0 | 0 | 0 | |
| getGMjar_path | 0.133 | 0.016 | 0.131 | |
| getNetConsensus | 0.012 | 0.000 | 0.012 | |
| getOR | 0.002 | 0.002 | 0.004 | |
| getPatientPredictions | 1.761 | 0.097 | 1.860 | |
| getPatientRankings | 0.086 | 0.009 | 0.094 | |
| getRegionOL | 0.276 | 0.031 | 0.308 | |
| getResults | 0.131 | 0.004 | 0.136 | |
| getSimilarity | 0.199 | 0.004 | 0.204 | |
| makePSN_NamedMatrix | 0.079 | 0.005 | 8.833 | |
| makePSN_RangeSets | 0.032 | 0.000 | 0.032 | |
| makeQueries | 0.011 | 0.004 | 0.015 | |
| makeSymmetric | 0.003 | 0.000 | 0.003 | |
| mapNamedRangesToSets | 0.037 | 0.004 | 0.041 | |
| modelres | 0.000 | 0.003 | 0.003 | |
| normDiff | 0.001 | 0.000 | 0.001 | |
| npheno | 0.002 | 0.000 | 0.002 | |
| pathwayList | 0.003 | 0.004 | 0.007 | |
| pathway_GR | 0.066 | 0.004 | 0.070 | |
| perfCalc | 0.003 | 0.000 | 0.002 | |
| pheno | 0.01 | 0.00 | 0.01 | |
| pheno_full | 0.000 | 0.002 | 0.002 | |
| plotEmap | 0.729 | 0.101 | 0.918 | |
| plotPerf | 1.211 | 0.032 | 1.242 | |
| plotPerf_multi | 0.032 | 0.004 | 0.037 | |
| predRes | 0.004 | 0.000 | 0.004 | |
| predictPatientLabels | 0.008 | 0.000 | 0.007 | |
| pruneNets | 0.011 | 0.000 | 0.011 | |
| randAlphanumString | 0.001 | 0.000 | 0.000 | |
| readPathways | 0.698 | 0.092 | 0.813 | |
| runFeatureSelection | 7.330 | 0.578 | 4.500 | |
| runQuery | 2.853 | 0.207 | 4.086 | |
| setupFeatureDB | 0.089 | 0.012 | 0.101 | |
| silh | 0.005 | 0.000 | 0.005 | |
| sim.eucscale | 0.285 | 0.016 | 0.301 | |
| sim.pearscale | 0.559 | 0.032 | 0.590 | |
| simpleCap | 0 | 0 | 0 | |
| smoothMutations_LabelProp | 7.386 | 0.644 | 31.239 | |
| sparsify2 | 0.827 | 0.196 | 1.023 | |
| sparsify3 | 1.151 | 0.140 | 1.291 | |
| splitTestTrain | 0.019 | 0.004 | 0.023 | |
| splitTestTrain_resampling | 0.006 | 0.000 | 0.006 | |
| tSNEPlotter | 0.913 | 0.064 | 0.977 | |
| thresholdSmoothedMutations | 4.972 | 0.644 | 28.522 | |
| toymodel | 0.935 | 2.021 | 2.956 | |
| updateNets | 0.000 | 0.009 | 0.009 | |
| writeNetsSIF | 0.005 | 0.003 | 0.007 | |
| writeQueryBatchFile | 0.004 | 0.000 | 0.004 | |
| writeQueryFile | 0.007 | 0.000 | 0.007 | |
| xpr | 0.052 | 0.012 | 0.063 | |