| Back to Multiple platform build/check report for BioC 3.19: simplified long |
|
This page was generated on 2024-10-18 20:38 -0400 (Fri, 18 Oct 2024).
| Hostname | OS | Arch (*) | R version | Installed pkgs |
|---|---|---|---|---|
| nebbiolo1 | Linux (Ubuntu 22.04.3 LTS) | x86_64 | 4.4.1 (2024-06-14) -- "Race for Your Life" | 4763 |
| palomino7 | Windows Server 2022 Datacenter | x64 | 4.4.1 (2024-06-14 ucrt) -- "Race for Your Life" | 4500 |
| merida1 | macOS 12.7.5 Monterey | x86_64 | 4.4.1 (2024-06-14) -- "Race for Your Life" | 4530 |
| kjohnson1 | macOS 13.6.6 Ventura | arm64 | 4.4.1 (2024-06-14) -- "Race for Your Life" | 4480 |
| Click on any hostname to see more info about the system (e.g. compilers) (*) as reported by 'uname -p', except on Windows and Mac OS X | ||||
| Package 1378/2300 | Hostname | OS / Arch | INSTALL | BUILD | CHECK | BUILD BIN | ||||||||
| multiHiCcompare 1.22.0 (landing page) Mikhail Dozmorov
| nebbiolo1 | Linux (Ubuntu 22.04.3 LTS) / x86_64 | OK | OK | OK | |||||||||
| palomino7 | Windows Server 2022 Datacenter / x64 | OK | OK | OK | OK | |||||||||
| merida1 | macOS 12.7.5 Monterey / x86_64 | OK | OK | OK | OK | |||||||||
| kjohnson1 | macOS 13.6.6 Ventura / arm64 | OK | OK | OK | OK | |||||||||
|
To the developers/maintainers of the multiHiCcompare package: - Allow up to 24 hours (and sometimes 48 hours) for your latest push to git@git.bioconductor.org:packages/multiHiCcompare.git to reflect on this report. See Troubleshooting Build Report for more information. - Use the following Renviron settings to reproduce errors and warnings. - If 'R CMD check' started to fail recently on the Linux builder(s) over a missing dependency, add the missing dependency to 'Suggests:' in your DESCRIPTION file. See Renviron.bioc for more information. |
| Package: multiHiCcompare |
| Version: 1.22.0 |
| Command: /home/biocbuild/bbs-3.19-bioc/R/bin/R CMD check --install=check:multiHiCcompare.install-out.txt --library=/home/biocbuild/bbs-3.19-bioc/R/site-library --timings multiHiCcompare_1.22.0.tar.gz |
| StartedAt: 2024-10-17 02:55:43 -0400 (Thu, 17 Oct 2024) |
| EndedAt: 2024-10-17 02:59:55 -0400 (Thu, 17 Oct 2024) |
| EllapsedTime: 251.6 seconds |
| RetCode: 0 |
| Status: OK |
| CheckDir: multiHiCcompare.Rcheck |
| Warnings: 0 |
##############################################################################
##############################################################################
###
### Running command:
###
### /home/biocbuild/bbs-3.19-bioc/R/bin/R CMD check --install=check:multiHiCcompare.install-out.txt --library=/home/biocbuild/bbs-3.19-bioc/R/site-library --timings multiHiCcompare_1.22.0.tar.gz
###
##############################################################################
##############################################################################
* using log directory ‘/home/biocbuild/bbs-3.19-bioc/meat/multiHiCcompare.Rcheck’
* using R version 4.4.1 (2024-06-14)
* using platform: x86_64-pc-linux-gnu
* R was compiled by
gcc (Ubuntu 11.4.0-1ubuntu1~22.04) 11.4.0
GNU Fortran (Ubuntu 11.4.0-1ubuntu1~22.04) 11.4.0
* running under: Ubuntu 22.04.5 LTS
* using session charset: UTF-8
* checking for file ‘multiHiCcompare/DESCRIPTION’ ... OK
* this is package ‘multiHiCcompare’ version ‘1.22.0’
* package encoding: UTF-8
* checking package namespace information ... OK
* checking package dependencies ... OK
* checking if this is a source package ... OK
* checking if there is a namespace ... OK
* checking for hidden files and directories ... OK
* checking for portable file names ... OK
* checking for sufficient/correct file permissions ... OK
* checking whether package ‘multiHiCcompare’ can be installed ... OK
* checking installed package size ... OK
* checking package directory ... OK
* checking ‘build’ directory ... OK
* checking DESCRIPTION meta-information ... NOTE
License stub is invalid DCF.
* checking top-level files ... OK
* checking for left-over files ... OK
* checking index information ... OK
* checking package subdirectories ... OK
* checking code files for non-ASCII characters ... OK
* checking R files for syntax errors ... OK
* checking whether the package can be loaded ... OK
* checking whether the package can be loaded with stated dependencies ... OK
* checking whether the package can be unloaded cleanly ... OK
* checking whether the namespace can be loaded with stated dependencies ... OK
* checking whether the namespace can be unloaded cleanly ... OK
* checking loading without being on the library search path ... OK
* checking dependencies in R code ... OK
* checking S3 generic/method consistency ... OK
* checking replacement functions ... OK
* checking foreign function calls ... OK
* checking R code for possible problems ... NOTE
.count_manhattan: no visible global function definition for ‘textxy’
cyclic_loess: no visible binding for global variable ‘chr’
cyclic_loess: no visible binding for global variable ‘region1’
cyclic_loess: no visible binding for global variable ‘region2’
exportJuicebox: no visible binding for global variable ‘logCPM’
exportJuicebox: no visible binding for global variable ‘logFC’
exportJuicebox: no visible binding for global variable ‘p.adj’
fastlo: no visible binding for global variable ‘chr’
fastlo: no visible binding for global variable ‘region1’
fastlo: no visible binding for global variable ‘region2’
hic_exactTest: no visible binding for global variable ‘chr’
hic_exactTest: no visible binding for global variable ‘region1’
hic_exactTest: no visible binding for global variable ‘region2’
hic_filter: no visible binding for global variable ‘hg19_cyto’
hic_glm: no visible binding for global variable ‘chr’
hic_glm: no visible binding for global variable ‘region1’
hic_glm: no visible binding for global variable ‘region2’
make_hicexp: no visible binding for global variable ‘hg19_cyto’
make_hicexp: no visible binding for global variable ‘region2’
make_hicexp: no visible binding for global variable ‘region1’
make_hicexp: no visible binding for global variable ‘chr’
perm_test: no visible binding for global variable ‘chr’
perm_test: no visible global function definition for ‘IRanges’
topDirs: no visible binding for global variable ‘logCPM’
topDirs: no visible binding for global variable ‘logFC’
topDirs: no visible binding for global variable ‘p.adj’
Undefined global functions or variables:
IRanges chr hg19_cyto logCPM logFC p.adj region1 region2 textxy
* checking Rd files ... OK
* checking Rd metadata ... OK
* checking Rd cross-references ... OK
* checking for missing documentation entries ... OK
* checking for code/documentation mismatches ... OK
* checking Rd \usage sections ... OK
* checking Rd contents ... OK
* checking for unstated dependencies in examples ... OK
* checking contents of ‘data’ directory ... OK
* checking data for non-ASCII characters ... OK
* checking LazyData ... OK
* checking data for ASCII and uncompressed saves ... OK
* checking files in ‘vignettes’ ... OK
* checking examples ... OK
* checking for unstated dependencies in ‘tests’ ... OK
* checking tests ...
Running ‘testthat.R’
OK
* checking for unstated dependencies in vignettes ... OK
* checking package vignettes ... OK
* checking re-building of vignette outputs ... OK
* checking PDF version of manual ... OK
* DONE
Status: 2 NOTEs
See
‘/home/biocbuild/bbs-3.19-bioc/meat/multiHiCcompare.Rcheck/00check.log’
for details.
multiHiCcompare.Rcheck/00install.out
############################################################################## ############################################################################## ### ### Running command: ### ### /home/biocbuild/bbs-3.19-bioc/R/bin/R CMD INSTALL multiHiCcompare ### ############################################################################## ############################################################################## * installing to library ‘/home/biocbuild/bbs-3.19-bioc/R/site-library’ * installing *source* package ‘multiHiCcompare’ ... ** using staged installation ** R ** data *** moving datasets to lazyload DB ** inst ** byte-compile and prepare package for lazy loading ** help *** installing help indices ** building package indices ** installing vignettes ** testing if installed package can be loaded from temporary location ** testing if installed package can be loaded from final location ** testing if installed package keeps a record of temporary installation path * DONE (multiHiCcompare)
multiHiCcompare.Rcheck/tests/testthat.Rout
R version 4.4.1 (2024-06-14) -- "Race for Your Life"
Copyright (C) 2024 The R Foundation for Statistical Computing
Platform: x86_64-pc-linux-gnu
R is free software and comes with ABSOLUTELY NO WARRANTY.
You are welcome to redistribute it under certain conditions.
Type 'license()' or 'licence()' for distribution details.
R is a collaborative project with many contributors.
Type 'contributors()' for more information and
'citation()' on how to cite R or R packages in publications.
Type 'demo()' for some demos, 'help()' for on-line help, or
'help.start()' for an HTML browser interface to help.
Type 'q()' to quit R.
> library(testthat)
> library(multiHiCcompare)
>
> test_check("multiHiCcompare")
[ FAIL 0 | WARN 0 | SKIP 0 | PASS 17 ]
>
> proc.time()
user system elapsed
31.801 1.006 32.586
multiHiCcompare.Rcheck/multiHiCcompare-Ex.timings
| name | user | system | elapsed | |
| Hicexp-class | 0.006 | 0.008 | 0.014 | |
| MD_composite | 0.690 | 0.003 | 0.694 | |
| MD_hicexp | 0.490 | 0.017 | 0.506 | |
| cyclic_loess | 1.235 | 0.028 | 1.256 | |
| exportJuicebox | 0.029 | 0.003 | 0.029 | |
| fastlo | 1.856 | 0.000 | 1.840 | |
| hic_exactTest | 0.000 | 0.000 | 0.001 | |
| hic_filter | 0.453 | 0.032 | 0.470 | |
| hic_glm | 0 | 0 | 0 | |
| hic_scale | 0.073 | 0.016 | 0.077 | |
| hic_table | 0.014 | 0.000 | 0.015 | |
| make_hicexp | 0.656 | 0.016 | 0.653 | |
| manhattan_hicexp | 0.354 | 0.012 | 0.360 | |
| meta | 0.008 | 0.000 | 0.009 | |
| normalized | 0.016 | 0.000 | 0.016 | |
| perm_test | 0 | 0 | 0 | |
| plot_counts | 0.048 | 0.000 | 0.047 | |
| plot_pvals | 0.073 | 0.000 | 0.072 | |
| pval_heatmap | 0.748 | 0.023 | 0.766 | |
| resolution | 0.016 | 0.000 | 0.015 | |
| results | 0.007 | 0.000 | 0.007 | |
| topDirs | 0.029 | 0.000 | 0.029 | |