Back to Multiple platform build/check report for BioC 3.19: simplified long |
|
This page was generated on 2024-05-06 11:38:24 -0400 (Mon, 06 May 2024).
Hostname | OS | Arch (*) | R version | Installed pkgs |
---|---|---|---|---|
nebbiolo1 | Linux (Ubuntu 22.04.3 LTS) | x86_64 | 4.4.0 beta (2024-04-15 r86425) -- "Puppy Cup" | 4754 |
palomino3 | Windows Server 2022 Datacenter | x64 | 4.4.0 beta (2024-04-15 r86425 ucrt) -- "Puppy Cup" | 4489 |
lconway | macOS 12.7.1 Monterey | x86_64 | 4.4.0 beta (2024-04-14 r86421) -- "Puppy Cup" | 4520 |
kunpeng2 | Linux (openEuler 22.03 LTS-SP1) | aarch64 | 4.4.0 beta (2024-04-15 r86425) -- "Puppy Cup" | 4480 |
Click on any hostname to see more info about the system (e.g. compilers) (*) as reported by 'uname -p', except on Windows and Mac OS X |
Package 1349/2300 | Hostname | OS / Arch | INSTALL | BUILD | CHECK | BUILD BIN | ||||||||
msgbsR 1.28.0 (landing page) Benjamin Mayne
| nebbiolo1 | Linux (Ubuntu 22.04.3 LTS) / x86_64 | OK | OK | OK | |||||||||
palomino3 | Windows Server 2022 Datacenter / x64 | OK | OK | OK | OK | |||||||||
lconway | macOS 12.7.1 Monterey / x86_64 | OK | OK | OK | OK | |||||||||
kunpeng2 | Linux (openEuler 22.03 LTS-SP1) / aarch64 | OK | OK | OK | ||||||||||
kjohnson3 | macOS 13.6.5 Ventura / arm64 | see weekly results here | ||||||||||||
To the developers/maintainers of the msgbsR package: - Allow up to 24 hours (and sometimes 48 hours) for your latest push to git@git.bioconductor.org:packages/msgbsR.git to reflect on this report. See Troubleshooting Build Report for more information. - Use the following Renviron settings to reproduce errors and warnings. - If 'R CMD check' started to fail recently on the Linux builder(s) over a missing dependency, add the missing dependency to 'Suggests:' in your DESCRIPTION file. See Renviron.bioc for more information. |
Package: msgbsR |
Version: 1.28.0 |
Command: rm -rf msgbsR.buildbin-libdir && mkdir msgbsR.buildbin-libdir && F:\biocbuild\bbs-3.19-bioc\R\bin\R.exe CMD INSTALL --build --library=msgbsR.buildbin-libdir msgbsR_1.28.0.tar.gz |
StartedAt: 2024-05-06 08:17:09 -0400 (Mon, 06 May 2024) |
EndedAt: 2024-05-06 08:18:29 -0400 (Mon, 06 May 2024) |
EllapsedTime: 80.3 seconds |
RetCode: 0 |
Status: OK |
PackageFile: msgbsR_1.28.0.zip |
PackageFileSize: 15.19 MiB |
############################################################################## ############################################################################## ### ### Running command: ### ### rm -rf msgbsR.buildbin-libdir && mkdir msgbsR.buildbin-libdir && F:\biocbuild\bbs-3.19-bioc\R\bin\R.exe CMD INSTALL --build --library=msgbsR.buildbin-libdir msgbsR_1.28.0.tar.gz ### ############################################################################## ############################################################################## * installing *source* package 'msgbsR' ... ** using staged installation ** R ** data ** inst ** byte-compile and prepare package for lazy loading No methods found in package 'BiocGenerics' for request: 'clusterApply' when loading 'easyRNASeq' No methods found in package 'Biostrings' for request: 'type' when loading 'easyRNASeq' ** help *** installing help indices ** building package indices ** installing vignettes ** testing if installed package can be loaded from temporary location No methods found in package 'BiocGenerics' for request: 'clusterApply' when loading 'easyRNASeq' No methods found in package 'Biostrings' for request: 'type' when loading 'easyRNASeq' ** testing if installed package can be loaded from final location No methods found in package 'BiocGenerics' for request: 'clusterApply' when loading 'easyRNASeq' No methods found in package 'Biostrings' for request: 'type' when loading 'easyRNASeq' ** testing if installed package keeps a record of temporary installation path * MD5 sums packaged installation of 'msgbsR' as msgbsR_1.28.0.zip * DONE (msgbsR)