| Back to Multiple platform build/check report for BioC 3.19: simplified long | 
 | 
This page was generated on 2024-05-09 11:41:05 -0400 (Thu, 09 May 2024).
| Hostname | OS | Arch (*) | R version | Installed pkgs | 
|---|---|---|---|---|
| nebbiolo1 | Linux (Ubuntu 22.04.3 LTS) | x86_64 | 4.4.0 (2024-04-24) -- "Puppy Cup" | 4748 | 
| palomino3 | Windows Server 2022 Datacenter | x64 | 4.4.0 (2024-04-24 ucrt) -- "Puppy Cup" | 4484 | 
| lconway | macOS 12.7.1 Monterey | x86_64 | 4.4.0 (2024-04-24) -- "Puppy Cup" | 4514 | 
| kunpeng2 | Linux (openEuler 22.03 LTS-SP1) | aarch64 | 4.4.0 beta (2024-04-15 r86425) -- "Puppy Cup" | 4480 | 
| Click on any hostname to see more info about the system (e.g. compilers) (*) as reported by 'uname -p', except on Windows and Mac OS X | ||||
| Package 1237/2300 | Hostname | OS / Arch | INSTALL | BUILD | CHECK | BUILD BIN | ||||||||
| methylclock 1.10.0  (landing page) Dolors Pelegri-Siso 
 | nebbiolo1 | Linux (Ubuntu 22.04.3 LTS) / x86_64 | OK | OK | OK |  | ||||||||
| palomino3 | Windows Server 2022 Datacenter / x64 | OK | OK | OK | OK |  | ||||||||
| lconway | macOS 12.7.1 Monterey / x86_64 | OK | OK | OK | OK |  | ||||||||
| kunpeng2 | Linux (openEuler 22.03 LTS-SP1) / aarch64 | OK | OK | OK | ||||||||||
| kjohnson3 | macOS 13.6.5 Ventura / arm64 | see weekly results here | ||||||||||||
| To the developers/maintainers of the methylclock package: - Allow up to 24 hours (and sometimes 48 hours) for your latest push to git@git.bioconductor.org:packages/methylclock.git to reflect on this report. See Troubleshooting Build Report for more information. - Use the following Renviron settings to reproduce errors and warnings. - If 'R CMD check' started to fail recently on the Linux builder(s) over a missing dependency, add the missing dependency to 'Suggests:' in your DESCRIPTION file. See Renviron.bioc for more information. - See Martin Grigorov's blog post for how to debug Linux ARM64 related issues on a x86_64 host. | 
| Package: methylclock | 
| Version: 1.10.0 | 
| Command: /home/biocbuild/R/R-beta-2024-04-15_r86425/bin/R CMD check --install=check:methylclock.install-out.txt --library=/home/biocbuild/R/R-beta-2024-04-15_r86425/site-library --no-vignettes --timings methylclock_1.10.0.tar.gz | 
| StartedAt: 2024-05-09 09:16:22 -0000 (Thu, 09 May 2024) | 
| EndedAt: 2024-05-09 09:32:14 -0000 (Thu, 09 May 2024) | 
| EllapsedTime: 952.6 seconds | 
| RetCode: 0 | 
| Status: OK | 
| CheckDir: methylclock.Rcheck | 
| Warnings: 0 | 
##############################################################################
##############################################################################
###
### Running command:
###
###   /home/biocbuild/R/R-beta-2024-04-15_r86425/bin/R CMD check --install=check:methylclock.install-out.txt --library=/home/biocbuild/R/R-beta-2024-04-15_r86425/site-library --no-vignettes --timings methylclock_1.10.0.tar.gz
###
##############################################################################
##############################################################################
* using log directory ‘/home/biocbuild/bbs-3.19-bioc/meat/methylclock.Rcheck’
* using R version 4.4.0 beta (2024-04-15 r86425)
* using platform: aarch64-unknown-linux-gnu
* R was compiled by
    gcc (GCC) 10.3.1
    GNU Fortran (GCC) 10.3.1
* running under: openEuler 22.03 (LTS-SP1)
* using session charset: UTF-8
* using option ‘--no-vignettes’
* checking for file ‘methylclock/DESCRIPTION’ ... OK
* checking extension type ... Package
* this is package ‘methylclock’ version ‘1.10.0’
* package encoding: UTF-8
* checking package namespace information ... OK
* checking package dependencies ... OK
* checking if this is a source package ... OK
* checking if there is a namespace ... OK
* checking for hidden files and directories ... OK
* checking for portable file names ... OK
* checking for sufficient/correct file permissions ... OK
* checking whether package ‘methylclock’ can be installed ... OK
* used C++ compiler: ‘g++ (GCC) 10.3.1’
* checking installed package size ... OK
* checking package directory ... OK
* checking ‘build’ directory ... OK
* checking DESCRIPTION meta-information ... NOTE
License stub is invalid DCF.
* checking top-level files ... OK
* checking for left-over files ... OK
* checking index information ... OK
* checking package subdirectories ... OK
* checking code files for non-ASCII characters ... OK
* checking R files for syntax errors ... OK
* checking whether the package can be loaded ... OK
* checking whether the package can be loaded with stated dependencies ... OK
* checking whether the package can be unloaded cleanly ... OK
* checking whether the namespace can be loaded with stated dependencies ... OK
* checking whether the namespace can be unloaded cleanly ... OK
* checking loading without being on the library search path ... OK
* checking dependencies in R code ... NOTE
Namespace in Imports field not imported from: ‘planet’
  All declared Imports should be used.
Unexported object imported by a ':::' call: ‘minfi:::projectCellType’
  See the note in ?`:::` about the use of this operator.
* checking S3 generic/method consistency ... OK
* checking replacement functions ... OK
* checking foreign function calls ... OK
* checking R code for possible problems ... NOTE
DNAmAge: no visible binding for global variable ‘coefHorvath’
DNAmAge: no visible binding for global variable ‘coefHannum’
DNAmAge: no visible binding for global variable ‘coefLevine’
DNAmAge: no visible binding for global variable ‘coefSkin’
DNAmAge: no visible binding for global variable ‘coefPedBE’
DNAmAge: no visible binding for global variable ‘coefWu’
DNAmAge: no visible binding for global variable ‘coefTL’
DNAmAge: no visible binding for global variable ‘coefBLUP’
DNAmAge: no visible binding for global variable ‘coefEN’
DNAmGA: no visible binding for global variable ‘coefKnightGA’
DNAmGA: no visible binding for global variable ‘coefBohlin’
DNAmGA: no visible binding for global variable ‘coefMayneGA’
DNAmGA: no visible binding for global variable ‘coefLeeGA’
DNAmGA: no visible binding for global variable ‘coefEPIC’
DNAmGA: no visible global function definition for
  ‘meffil.estimate.cell.counts.from.betas’
DNAmGA: no visible global function definition for ‘install.packages’
DNAmGA: no visible global function definition for ‘data’
DNAmGA: no visible binding for global variable ‘plCellCpGsThird’
checkClocks: no visible binding for global variable ‘MethylationData’
checkClocks: no visible binding for global variable ‘coefHorvath’
checkClocks: no visible binding for global variable ‘coefHannum’
checkClocks: no visible binding for global variable ‘coefLevine’
checkClocks: no visible binding for global variable ‘coefSkin’
checkClocks: no visible binding for global variable ‘coefPedBE’
checkClocks: no visible binding for global variable ‘coefWu’
checkClocks: no visible binding for global variable ‘coefTL’
checkClocks: no visible binding for global variable ‘coefBLUP’
checkClocks: no visible binding for global variable ‘coefEN’
checkClocksGA: no visible binding for global variable ‘coefKnightGA’
checkClocksGA: no visible binding for global variable ‘coefBohlin’
checkClocksGA: no visible binding for global variable ‘coefMayneGA’
checkClocksGA: no visible binding for global variable ‘coefLeeGA’
checkClocksGA: no visible binding for global variable ‘coefEPIC’
cpgs_imputation: no visible binding for global variable ‘cpgs.in’
plotCorClocks: no visible binding for global variable ‘method’
plotCorClocks: no visible binding for global variable ‘clock’
plotCorClocks: no visible binding for global variable ‘age’
plotCorClocks: no visible binding for global variable ‘..rr.label..’
plotCorClocks: no visible binding for global variable ‘..p.label..’
plotDNAmAge: no visible binding for global variable ‘..eq.label..’
plotDNAmAge: no visible binding for global variable ‘..rr.label..’
Undefined global functions or variables:
  ..eq.label.. ..p.label.. ..rr.label.. MethylationData age clock
  coefBLUP coefBohlin coefEN coefEPIC coefHannum coefHorvath
  coefKnightGA coefLeeGA coefLevine coefMayneGA coefPedBE coefSkin
  coefTL coefWu cpgs.in data install.packages
  meffil.estimate.cell.counts.from.betas method plCellCpGsThird
Consider adding
  importFrom("utils", "data", "install.packages")
to your NAMESPACE file.
* checking Rd files ... OK
* checking Rd metadata ... OK
* checking Rd cross-references ... OK
* checking for missing documentation entries ... OK
* checking for code/documentation mismatches ... OK
* checking Rd \usage sections ... OK
* checking Rd contents ... OK
* checking for unstated dependencies in examples ... OK
* checking contents of ‘data’ directory ... OK
* checking data for non-ASCII characters ... OK
* checking data for ASCII and uncompressed saves ... OK
* checking line endings in C/C++/Fortran sources/headers ... OK
* checking compiled code ... NOTE
Note: information on .o files is not available
* checking files in ‘vignettes’ ... OK
* checking examples ... OK
Examples with CPU (user + system) or elapsed time > 5s
                                    user system elapsed
commonClockCpgs                   50.289  1.293  85.912
plotDNAmAge                       42.145  1.416  66.947
DNAmAge                           36.465  3.869  66.405
checkClocks                       35.930  0.730  59.388
load_DNAm_Clocks_data             34.637  0.439  55.715
load_DNAmGA_Clocks_data           32.385  0.631  54.268
DNAmGA                            21.085  0.439  35.670
checkClocksGA                     18.878  0.331  32.854
meffilEstimateCellCountsFromBetas 11.056  0.187  15.814
getCellTypeReference               8.352  0.491  11.149
meffilListCellTypeReferences       6.323  0.104   9.449
* checking for unstated dependencies in vignettes ... OK
* checking package vignettes ... OK
* checking running R code from vignettes ... SKIPPED
* checking re-building of vignette outputs ... SKIPPED
* checking PDF version of manual ... OK
* DONE
Status: 4 NOTEs
See
  ‘/home/biocbuild/bbs-3.19-bioc/meat/methylclock.Rcheck/00check.log’
for details.
methylclock.Rcheck/00install.out
##############################################################################
##############################################################################
###
### Running command:
###
###   /home/biocbuild/R/R-beta-2024-04-15_r86425/bin/R CMD INSTALL methylclock
###
##############################################################################
##############################################################################
* installing to library ‘/home/biocbuild/R/R-beta-2024-04-15_r86425/site-library’
* installing *source* package ‘methylclock’ ...
** using staged installation
** libs
using C++ compiler: ‘g++ (GCC) 10.3.1’
g++ -std=gnu++17 -I"/home/biocbuild/R/R-beta-2024-04-15_r86425/include" -DNDEBUG  -I'/home/biocbuild/R/R-beta-2024-04-15_r86425/site-library/Rcpp/include' -I/usr/local/include    -fPIC  -g -O2  -Wall  -c NewModel1Clean.cpp -o NewModel1Clean.o
g++ -std=gnu++17 -I"/home/biocbuild/R/R-beta-2024-04-15_r86425/include" -DNDEBUG  -I'/home/biocbuild/R/R-beta-2024-04-15_r86425/site-library/Rcpp/include' -I/usr/local/include    -fPIC  -g -O2  -Wall  -c NewModel1Clean_emxAPI.cpp -o NewModel1Clean_emxAPI.o
g++ -std=gnu++17 -I"/home/biocbuild/R/R-beta-2024-04-15_r86425/include" -DNDEBUG  -I'/home/biocbuild/R/R-beta-2024-04-15_r86425/site-library/Rcpp/include' -I/usr/local/include    -fPIC  -g -O2  -Wall  -c NewModel1Clean_emxutil.cpp -o NewModel1Clean_emxutil.o
g++ -std=gnu++17 -I"/home/biocbuild/R/R-beta-2024-04-15_r86425/include" -DNDEBUG  -I'/home/biocbuild/R/R-beta-2024-04-15_r86425/site-library/Rcpp/include' -I/usr/local/include    -fPIC  -g -O2  -Wall  -c NewModel1Clean_initialize.cpp -o NewModel1Clean_initialize.o
g++ -std=gnu++17 -I"/home/biocbuild/R/R-beta-2024-04-15_r86425/include" -DNDEBUG  -I'/home/biocbuild/R/R-beta-2024-04-15_r86425/site-library/Rcpp/include' -I/usr/local/include    -fPIC  -g -O2  -Wall  -c NewModel1Clean_terminate.cpp -o NewModel1Clean_terminate.o
g++ -std=gnu++17 -I"/home/biocbuild/R/R-beta-2024-04-15_r86425/include" -DNDEBUG  -I'/home/biocbuild/R/R-beta-2024-04-15_r86425/site-library/Rcpp/include' -I/usr/local/include    -fPIC  -g -O2  -Wall  -c RcppExports.cpp -o RcppExports.o
g++ -std=gnu++17 -I"/home/biocbuild/R/R-beta-2024-04-15_r86425/include" -DNDEBUG  -I'/home/biocbuild/R/R-beta-2024-04-15_r86425/site-library/Rcpp/include' -I/usr/local/include    -fPIC  -g -O2  -Wall  -c bsxfun.cpp -o bsxfun.o
g++ -std=gnu++17 -I"/home/biocbuild/R/R-beta-2024-04-15_r86425/include" -DNDEBUG  -I'/home/biocbuild/R/R-beta-2024-04-15_r86425/site-library/Rcpp/include' -I/usr/local/include    -fPIC  -g -O2  -Wall  -c main.cpp -o main.o
main.cpp:37:14: warning: ‘float argInit_real_T()’ defined but not used [-Wunused-function]
   37 | static float argInit_real_T()
      |              ^~~~~~~~~~~~~~
g++ -std=gnu++17 -I"/home/biocbuild/R/R-beta-2024-04-15_r86425/include" -DNDEBUG  -I'/home/biocbuild/R/R-beta-2024-04-15_r86425/site-library/Rcpp/include' -I/usr/local/include    -fPIC  -g -O2  -Wall  -c repmat.cpp -o repmat.o
g++ -std=gnu++17 -I"/home/biocbuild/R/R-beta-2024-04-15_r86425/include" -DNDEBUG  -I'/home/biocbuild/R/R-beta-2024-04-15_r86425/site-library/Rcpp/include' -I/usr/local/include    -fPIC  -g -O2  -Wall  -c rtGetInf.cpp -o rtGetInf.o
g++ -std=gnu++17 -I"/home/biocbuild/R/R-beta-2024-04-15_r86425/include" -DNDEBUG  -I'/home/biocbuild/R/R-beta-2024-04-15_r86425/site-library/Rcpp/include' -I/usr/local/include    -fPIC  -g -O2  -Wall  -c rtGetNaN.cpp -o rtGetNaN.o
g++ -std=gnu++17 -I"/home/biocbuild/R/R-beta-2024-04-15_r86425/include" -DNDEBUG  -I'/home/biocbuild/R/R-beta-2024-04-15_r86425/site-library/Rcpp/include' -I/usr/local/include    -fPIC  -g -O2  -Wall  -c rt_nonfinite.cpp -o rt_nonfinite.o
g++ -std=gnu++17 -shared -L/home/biocbuild/R/R-beta-2024-04-15_r86425/lib -L/usr/local/lib -o methylclock.so NewModel1Clean.o NewModel1Clean_emxAPI.o NewModel1Clean_emxutil.o NewModel1Clean_initialize.o NewModel1Clean_terminate.o RcppExports.o bsxfun.o main.o repmat.o rtGetInf.o rtGetNaN.o rt_nonfinite.o -L/home/biocbuild/R/R-beta-2024-04-15_r86425/lib -lR
installing to /home/biocbuild/R/R-beta-2024-04-15_r86425/site-library/00LOCK-methylclock/00new/methylclock/libs
** R
** data
** inst
** byte-compile and prepare package for lazy loading
Warning message:
replacing previous import ‘utils::findMatches’ by ‘S4Vectors::findMatches’ when loading ‘ExperimentHubData’ 
** help
*** installing help indices
** building package indices
** installing vignettes
** testing if installed package can be loaded from temporary location
Warning: replacing previous import ‘utils::findMatches’ by ‘S4Vectors::findMatches’ when loading ‘ExperimentHubData’
** checking absolute paths in shared objects and dynamic libraries
** testing if installed package can be loaded from final location
Warning: replacing previous import ‘utils::findMatches’ by ‘S4Vectors::findMatches’ when loading ‘ExperimentHubData’
** testing if installed package keeps a record of temporary installation path
* DONE (methylclock)
methylclock.Rcheck/methylclock-Ex.timings
| name | user | system | elapsed | |
| DNAmAge | 36.465 | 3.869 | 66.405 | |
| DNAmGA | 21.085 | 0.439 | 35.670 | |
| checkClocks | 35.930 | 0.730 | 59.388 | |
| checkClocksGA | 18.878 | 0.331 | 32.854 | |
| commonClockCpgs | 50.289 | 1.293 | 85.912 | |
| getCellTypeReference | 8.352 | 0.491 | 11.149 | |
| load_DNAmGA_Clocks_data | 32.385 | 0.631 | 54.268 | |
| load_DNAm_Clocks_data | 34.637 | 0.439 | 55.715 | |
| meffilEstimateCellCountsFromBetas | 11.056 | 0.187 | 15.814 | |
| meffilListCellTypeReferences | 6.323 | 0.104 | 9.449 | |
| plotCorClocks | 0 | 0 | 0 | |
| plotDNAmAge | 42.145 | 1.416 | 66.947 | |
| progress_data | 0.015 | 0.000 | 0.015 | |
| progress_vars | 0.001 | 0.000 | 0.001 | |