| Back to Multiple platform build/check report for BioC 3.19: simplified long |
|
This page was generated on 2024-06-11 14:43 -0400 (Tue, 11 Jun 2024).
| Hostname | OS | Arch (*) | R version | Installed pkgs |
|---|---|---|---|---|
| nebbiolo1 | Linux (Ubuntu 22.04.3 LTS) | x86_64 | 4.4.0 (2024-04-24) -- "Puppy Cup" | 4757 |
| palomino3 | Windows Server 2022 Datacenter | x64 | 4.4.0 (2024-04-24 ucrt) -- "Puppy Cup" | 4491 |
| lconway | macOS 12.7.1 Monterey | x86_64 | 4.4.0 (2024-04-24) -- "Puppy Cup" | 4522 |
| kjohnson3 | macOS 13.6.5 Ventura | arm64 | 4.4.0 (2024-04-24) -- "Puppy Cup" | 4468 |
| Click on any hostname to see more info about the system (e.g. compilers) (*) as reported by 'uname -p', except on Windows and Mac OS X | ||||
| Package 1241/2300 | Hostname | OS / Arch | INSTALL | BUILD | CHECK | BUILD BIN | ||||||||
| methylKit 1.30.0 (landing page) Altuna Akalin
| nebbiolo1 | Linux (Ubuntu 22.04.3 LTS) / x86_64 | OK | OK | OK | |||||||||
| palomino3 | Windows Server 2022 Datacenter / x64 | OK | OK | OK | OK | |||||||||
| lconway | macOS 12.7.1 Monterey / x86_64 | OK | OK | OK | OK | |||||||||
| kjohnson3 | macOS 13.6.5 Ventura / arm64 | OK | OK | OK | OK | |||||||||
|
To the developers/maintainers of the methylKit package: - Allow up to 24 hours (and sometimes 48 hours) for your latest push to git@git.bioconductor.org:packages/methylKit.git to reflect on this report. See Troubleshooting Build Report for more information. - Use the following Renviron settings to reproduce errors and warnings. - If 'R CMD check' started to fail recently on the Linux builder(s) over a missing dependency, add the missing dependency to 'Suggests:' in your DESCRIPTION file. See Renviron.bioc for more information. |
| Package: methylKit |
| Version: 1.30.0 |
| Command: /Library/Frameworks/R.framework/Resources/bin/R CMD check --install=check:methylKit.install-out.txt --library=/Library/Frameworks/R.framework/Resources/library --no-vignettes --timings methylKit_1.30.0.tar.gz |
| StartedAt: 2024-06-10 21:34:20 -0400 (Mon, 10 Jun 2024) |
| EndedAt: 2024-06-10 21:45:39 -0400 (Mon, 10 Jun 2024) |
| EllapsedTime: 678.7 seconds |
| RetCode: 0 |
| Status: OK |
| CheckDir: methylKit.Rcheck |
| Warnings: 0 |
##############################################################################
##############################################################################
###
### Running command:
###
### /Library/Frameworks/R.framework/Resources/bin/R CMD check --install=check:methylKit.install-out.txt --library=/Library/Frameworks/R.framework/Resources/library --no-vignettes --timings methylKit_1.30.0.tar.gz
###
##############################################################################
##############################################################################
* using log directory ‘/Users/biocbuild/bbs-3.19-bioc/meat/methylKit.Rcheck’
* using R version 4.4.0 (2024-04-24)
* using platform: aarch64-apple-darwin20
* R was compiled by
Apple clang version 14.0.0 (clang-1400.0.29.202)
GNU Fortran (GCC) 12.2.0
* running under: macOS Ventura 13.6.5
* using session charset: UTF-8
* using option ‘--no-vignettes’
* checking for file ‘methylKit/DESCRIPTION’ ... OK
* checking extension type ... Package
* this is package ‘methylKit’ version ‘1.30.0’
* checking package namespace information ... OK
* checking package dependencies ... OK
* checking if this is a source package ... OK
* checking if there is a namespace ... OK
* checking for hidden files and directories ... OK
* checking for portable file names ... OK
* checking for sufficient/correct file permissions ... OK
* checking whether package ‘methylKit’ can be installed ... OK
* used C++ compiler: ‘Apple clang version 15.0.0 (clang-1500.1.0.2.5)’
* used SDK: ‘MacOSX11.3.sdk’
* checking C++ specification ... NOTE
Specified C++11: please drop specification unless essential
* checking installed package size ... OK
* checking package directory ... OK
* checking ‘build’ directory ... OK
* checking DESCRIPTION meta-information ... OK
* checking top-level files ... OK
* checking for left-over files ... OK
* checking index information ... OK
* checking package subdirectories ... NOTE
Problems with news in ‘NEWS’:
Cannot process chunk/lines:
returns the same object for the same content
* checking code files for non-ASCII characters ... OK
* checking R files for syntax errors ... OK
* checking whether the package can be loaded ... OK
* checking whether the package can be loaded with stated dependencies ... OK
* checking whether the package can be unloaded cleanly ... OK
* checking whether the namespace can be loaded with stated dependencies ... OK
* checking whether the namespace can be unloaded cleanly ... OK
* checking dependencies in R code ... NOTE
Namespace in Imports field not imported from: ‘KernSmooth’
All declared Imports should be used.
* checking S3 generic/method consistency ... OK
* checking replacement functions ... OK
* checking foreign function calls ... OK
* checking R code for possible problems ... OK
* checking Rd files ... OK
* checking Rd metadata ... OK
* checking Rd cross-references ... OK
* checking for missing documentation entries ... OK
* checking for code/documentation mismatches ... OK
* checking Rd \usage sections ... OK
* checking Rd contents ... OK
* checking for unstated dependencies in examples ... OK
* checking contents of ‘data’ directory ... OK
* checking data for non-ASCII characters ... OK
* checking data for ASCII and uncompressed saves ... OK
* checking line endings in C/C++/Fortran sources/headers ... OK
* checking line endings in Makefiles ... OK
* checking compilation flags in Makevars ... OK
* checking for GNU extensions in Makefiles ... NOTE
GNU make is a SystemRequirements.
* checking for portable use of $(BLAS_LIBS) and $(LAPACK_LIBS) ... OK
* checking use of PKG_*FLAGS in Makefiles ... OK
* checking compiled code ... NOTE
Note: information on .o files is not available
File ‘/Library/Frameworks/R.framework/Versions/4.4-arm64/Resources/library/methylKit/libs/methylKit.so’:
Found ‘___assert_rtn’, possibly from ‘assert’ (C)
Found ‘___stderrp’, possibly from ‘stderr’ (C)
Found ‘___stdoutp’, possibly from ‘stdout’ (C)
Found ‘_abort’, possibly from ‘abort’ (C)
Found ‘_exit’, possibly from ‘exit’ (C)
Compiled code should not call entry points which might terminate R nor
write to stdout/stderr instead of to the console, nor use Fortran I/O
nor system RNGs nor [v]sprintf. The detected symbols are linked into
the code but might come from libraries and not actually be called.
See ‘Writing portable packages’ in the ‘Writing R Extensions’ manual.
* checking files in ‘vignettes’ ... OK
* checking examples ... OK
Examples with CPU (user + system) or elapsed time > 5s
user system elapsed
calculateDiffMeth-methods 5.709 0.182 8.78
* checking for unstated dependencies in ‘tests’ ... OK
* checking tests ...
Running ‘testthat.R’
OK
* checking for unstated dependencies in vignettes ... OK
* checking package vignettes ... OK
* checking running R code from vignettes ... SKIPPED
* checking re-building of vignette outputs ... SKIPPED
* checking PDF version of manual ... OK
* DONE
Status: 5 NOTEs
See
‘/Users/biocbuild/bbs-3.19-bioc/meat/methylKit.Rcheck/00check.log’
for details.
methylKit.Rcheck/00install.out
############################################################################## ############################################################################## ### ### Running command: ### ### /Library/Frameworks/R.framework/Resources/bin/R CMD INSTALL methylKit ### ############################################################################## ############################################################################## * installing to library ‘/Library/Frameworks/R.framework/Versions/4.4-arm64/Resources/library’ * installing *source* package ‘methylKit’ ... ** using staged installation ** libs using C++ compiler: ‘Apple clang version 15.0.0 (clang-1500.1.0.2.5)’ using C++11 using SDK: ‘MacOSX11.3.sdk’ clang++ -arch arm64 -std=gnu++11 -I"/Library/Frameworks/R.framework/Resources/include" -DNDEBUG -D_FILE_OFFSET_BITS=64 -I'/Library/Frameworks/R.framework/Versions/4.4-arm64/Resources/library/Rcpp/include' -I'/Library/Frameworks/R.framework/Versions/4.4-arm64/Resources/library/Rhtslib/include' -I'/Library/Frameworks/R.framework/Versions/4.4-arm64/Resources/library/zlibbioc/include' -I/opt/R/arm64/include -fPIC -falign-functions=64 -Wall -g -O2 -c RcppExports.cpp -o RcppExports.o clang++ -arch arm64 -std=gnu++11 -I"/Library/Frameworks/R.framework/Resources/include" -DNDEBUG -D_FILE_OFFSET_BITS=64 -I'/Library/Frameworks/R.framework/Versions/4.4-arm64/Resources/library/Rcpp/include' -I'/Library/Frameworks/R.framework/Versions/4.4-arm64/Resources/library/Rhtslib/include' -I'/Library/Frameworks/R.framework/Versions/4.4-arm64/Resources/library/zlibbioc/include' -I/opt/R/arm64/include -fPIC -falign-functions=64 -Wall -g -O2 -c methCall.cpp -o methCall.o clang++ -arch arm64 -std=gnu++11 -dynamiclib -Wl,-headerpad_max_install_names -undefined dynamic_lookup -L/Library/Frameworks/R.framework/Resources/lib -L/opt/R/arm64/lib -o methylKit.so RcppExports.o methCall.o /Library/Frameworks/R.framework/Versions/4.4-arm64/Resources/library/Rhtslib/usrlib/libhts.a -lcurl -lbz2 -llzma -lz -F/Library/Frameworks/R.framework/.. -framework R -Wl,-framework -Wl,CoreFoundation installing to /Library/Frameworks/R.framework/Versions/4.4-arm64/Resources/library/00LOCK-methylKit/00new/methylKit/libs ** R ** data ** inst ** byte-compile and prepare package for lazy loading ** help *** installing help indices ** building package indices ** installing vignettes ** testing if installed package can be loaded from temporary location ** checking absolute paths in shared objects and dynamic libraries ** testing if installed package can be loaded from final location ** testing if installed package keeps a record of temporary installation path * DONE (methylKit)
methylKit.Rcheck/tests/testthat.Rout
R version 4.4.0 (2024-04-24) -- "Puppy Cup"
Copyright (C) 2024 The R Foundation for Statistical Computing
Platform: aarch64-apple-darwin20
R is free software and comes with ABSOLUTELY NO WARRANTY.
You are welcome to redistribute it under certain conditions.
Type 'license()' or 'licence()' for distribution details.
R is a collaborative project with many contributors.
Type 'contributors()' for more information and
'citation()' on how to cite R or R packages in publications.
Type 'demo()' for some demos, 'help()' for on-line help, or
'help.start()' for an HTML browser interface to help.
Type 'q()' to quit R.
> library(testthat)
> library(methylKit)
Loading required package: GenomicRanges
Loading required package: stats4
Loading required package: BiocGenerics
Attaching package: 'BiocGenerics'
The following objects are masked from 'package:stats':
IQR, mad, sd, var, xtabs
The following objects are masked from 'package:base':
Filter, Find, Map, Position, Reduce, anyDuplicated, aperm, append,
as.data.frame, basename, cbind, colnames, dirname, do.call,
duplicated, eval, evalq, get, grep, grepl, intersect, is.unsorted,
lapply, mapply, match, mget, order, paste, pmax, pmax.int, pmin,
pmin.int, rank, rbind, rownames, sapply, setdiff, table, tapply,
union, unique, unsplit, which.max, which.min
Loading required package: S4Vectors
Attaching package: 'S4Vectors'
The following object is masked from 'package:utils':
findMatches
The following objects are masked from 'package:base':
I, expand.grid, unname
Loading required package: IRanges
Loading required package: GenomeInfoDb
>
>
>
> test_check("methylKit")
2024-06-10 21:43:54.360 R[12667:37888551] XType: Using static font registry.
Using internal DSS code...
Using internal DSS code...
[ FAIL 0 | WARN 0 | SKIP 0 | PASS 240 ]
>
> proc.time()
user system elapsed
84.871 3.506 133.565
methylKit.Rcheck/methylKit-Ex.timings
| name | user | system | elapsed | |
| PCASamples-methods | 0.023 | 0.005 | 0.041 | |
| adjustMethylC | 0.081 | 0.012 | 0.146 | |
| assocComp-methods | 0.019 | 0.004 | 0.036 | |
| bedgraph-methods | 0.019 | 0.006 | 0.035 | |
| calculateDiffMeth-methods | 5.709 | 0.182 | 8.780 | |
| calculateDiffMethDSS-methods | 0.406 | 0.006 | 0.617 | |
| clusterSamples-methods | 0.035 | 0.004 | 0.059 | |
| dataSim-methods | 0.015 | 0.003 | 0.029 | |
| diffMethPerChr-methods | 0.026 | 0.003 | 0.038 | |
| extract-methods | 0.030 | 0.003 | 0.046 | |
| filterByCoverage-methods | 0.061 | 0.011 | 0.105 | |
| getAssembly-methods | 0.008 | 0.002 | 0.015 | |
| getContext-methods | 0.007 | 0.003 | 0.017 | |
| getCorrelation-methods | 0.055 | 0.009 | 0.093 | |
| getCoverageStats-methods | 0.012 | 0.004 | 0.023 | |
| getDBPath-methods | 0.042 | 0.010 | 0.073 | |
| getData-methods | 0.014 | 0.003 | 0.031 | |
| getMethylDiff-methods | 0.043 | 0.003 | 0.068 | |
| getMethylationStats-methods | 0.018 | 0.003 | 0.035 | |
| getSampleID-methods | 0.007 | 0.002 | 0.013 | |
| getTreatment-methods | 0.007 | 0.003 | 0.010 | |
| makeMethylDB-methods | 0.000 | 0.001 | 0.000 | |
| methRead-methods | 0.242 | 0.047 | 0.454 | |
| methSeg | 0.000 | 0.000 | 0.001 | |
| methylBase-class | 0.019 | 0.003 | 0.026 | |
| methylBaseDB-class | 0.061 | 0.009 | 0.103 | |
| methylDiff-class | 0.024 | 0.003 | 0.042 | |
| methylDiffDB-class | 2.036 | 0.030 | 3.098 | |
| methylRaw-class | 0.057 | 0.006 | 0.088 | |
| methylRawDB-class | 0.075 | 0.012 | 0.128 | |
| methylRawList-class | 0.008 | 0.002 | 0.016 | |
| methylRawListDB-class | 0.135 | 0.030 | 0.258 | |
| normalizeCoverage-methods | 0.142 | 0.023 | 0.211 | |
| percMethylation-methods | 0.020 | 0.002 | 0.031 | |
| pool-methods | 0.012 | 0.003 | 0.023 | |
| processBismarkAln-methods | 0.053 | 0.017 | 0.109 | |
| readMethylDB-methods | 0.000 | 0.000 | 0.001 | |
| reconstruct-methods | 0.015 | 0.002 | 0.027 | |
| regionCounts | 0.341 | 0.006 | 0.540 | |
| removeComp-methods | 0.024 | 0.003 | 0.049 | |
| reorganize-methods | 0.118 | 0.008 | 0.216 | |
| select-methods | 0.079 | 0.016 | 0.138 | |
| selectByOverlap-methods | 2.524 | 0.081 | 3.477 | |
| show-methods | 0.030 | 0.004 | 0.062 | |
| tileMethylCounts-methods | 0.498 | 0.011 | 0.677 | |
| unite-methods | 0.077 | 0.003 | 0.080 | |