| Back to Multiple platform build/check report for BioC 3.19: simplified long |
|
This page was generated on 2024-10-18 20:42 -0400 (Fri, 18 Oct 2024).
| Hostname | OS | Arch (*) | R version | Installed pkgs |
|---|---|---|---|---|
| nebbiolo1 | Linux (Ubuntu 22.04.3 LTS) | x86_64 | 4.4.1 (2024-06-14) -- "Race for Your Life" | 4763 |
| palomino7 | Windows Server 2022 Datacenter | x64 | 4.4.1 (2024-06-14 ucrt) -- "Race for Your Life" | 4500 |
| merida1 | macOS 12.7.5 Monterey | x86_64 | 4.4.1 (2024-06-14) -- "Race for Your Life" | 4530 |
| kjohnson1 | macOS 13.6.6 Ventura | arm64 | 4.4.1 (2024-06-14) -- "Race for Your Life" | 4480 |
| Click on any hostname to see more info about the system (e.g. compilers) (*) as reported by 'uname -p', except on Windows and Mac OS X | ||||
| Package 1241/2300 | Hostname | OS / Arch | INSTALL | BUILD | CHECK | BUILD BIN | ||||||||
| methylKit 1.30.0 (landing page) Altuna Akalin
| nebbiolo1 | Linux (Ubuntu 22.04.3 LTS) / x86_64 | OK | OK | OK | |||||||||
| palomino7 | Windows Server 2022 Datacenter / x64 | OK | OK | OK | OK | |||||||||
| merida1 | macOS 12.7.5 Monterey / x86_64 | OK | OK | OK | OK | |||||||||
| kjohnson1 | macOS 13.6.6 Ventura / arm64 | OK | OK | OK | OK | |||||||||
|
To the developers/maintainers of the methylKit package: - Allow up to 24 hours (and sometimes 48 hours) for your latest push to git@git.bioconductor.org:packages/methylKit.git to reflect on this report. See Troubleshooting Build Report for more information. - Use the following Renviron settings to reproduce errors and warnings. - If 'R CMD check' started to fail recently on the Linux builder(s) over a missing dependency, add the missing dependency to 'Suggests:' in your DESCRIPTION file. See Renviron.bioc for more information. |
| Package: methylKit |
| Version: 1.30.0 |
| Command: /Library/Frameworks/R.framework/Resources/bin/R CMD check --install=check:methylKit.install-out.txt --library=/Library/Frameworks/R.framework/Resources/library --no-vignettes --timings methylKit_1.30.0.tar.gz |
| StartedAt: 2024-10-18 03:34:29 -0400 (Fri, 18 Oct 2024) |
| EndedAt: 2024-10-18 03:41:38 -0400 (Fri, 18 Oct 2024) |
| EllapsedTime: 429.8 seconds |
| RetCode: 0 |
| Status: OK |
| CheckDir: methylKit.Rcheck |
| Warnings: 0 |
##############################################################################
##############################################################################
###
### Running command:
###
### /Library/Frameworks/R.framework/Resources/bin/R CMD check --install=check:methylKit.install-out.txt --library=/Library/Frameworks/R.framework/Resources/library --no-vignettes --timings methylKit_1.30.0.tar.gz
###
##############################################################################
##############################################################################
* using log directory ‘/Users/biocbuild/bbs-3.19-bioc/meat/methylKit.Rcheck’
* using R version 4.4.1 (2024-06-14)
* using platform: aarch64-apple-darwin20
* R was compiled by
Apple clang version 14.0.0 (clang-1400.0.29.202)
GNU Fortran (GCC) 12.2.0
* running under: macOS Ventura 13.6.6
* using session charset: UTF-8
* using option ‘--no-vignettes’
* checking for file ‘methylKit/DESCRIPTION’ ... OK
* checking extension type ... Package
* this is package ‘methylKit’ version ‘1.30.0’
* checking package namespace information ... OK
* checking package dependencies ... OK
* checking if this is a source package ... OK
* checking if there is a namespace ... OK
* checking for hidden files and directories ... OK
* checking for portable file names ... OK
* checking for sufficient/correct file permissions ... OK
* checking whether package ‘methylKit’ can be installed ... OK
* used C++ compiler: ‘Apple clang version 15.0.0 (clang-1500.0.40.1)’
* used SDK: ‘MacOSX11.3.sdk’
* checking C++ specification ... NOTE
Specified C++11: please drop specification unless essential
* checking installed package size ... OK
* checking package directory ... OK
* checking ‘build’ directory ... OK
* checking DESCRIPTION meta-information ... OK
* checking top-level files ... OK
* checking for left-over files ... OK
* checking index information ... OK
* checking package subdirectories ... NOTE
Problems with news in ‘NEWS’:
Cannot process chunk/lines:
returns the same object for the same content
* checking code files for non-ASCII characters ... OK
* checking R files for syntax errors ... OK
* checking whether the package can be loaded ... OK
* checking whether the package can be loaded with stated dependencies ... OK
* checking whether the package can be unloaded cleanly ... OK
* checking whether the namespace can be loaded with stated dependencies ... OK
* checking whether the namespace can be unloaded cleanly ... OK
* checking dependencies in R code ... NOTE
Namespace in Imports field not imported from: ‘KernSmooth’
All declared Imports should be used.
* checking S3 generic/method consistency ... OK
* checking replacement functions ... OK
* checking foreign function calls ... OK
* checking R code for possible problems ... OK
* checking Rd files ... OK
* checking Rd metadata ... OK
* checking Rd cross-references ... OK
* checking for missing documentation entries ... OK
* checking for code/documentation mismatches ... OK
* checking Rd \usage sections ... OK
* checking Rd contents ... OK
* checking for unstated dependencies in examples ... OK
* checking contents of ‘data’ directory ... OK
* checking data for non-ASCII characters ... OK
* checking data for ASCII and uncompressed saves ... OK
* checking line endings in C/C++/Fortran sources/headers ... OK
* checking line endings in Makefiles ... OK
* checking compilation flags in Makevars ... OK
* checking for GNU extensions in Makefiles ... NOTE
GNU make is a SystemRequirements.
* checking for portable use of $(BLAS_LIBS) and $(LAPACK_LIBS) ... OK
* checking use of PKG_*FLAGS in Makefiles ... OK
* checking compiled code ... NOTE
Note: information on .o files is not available
File ‘/Library/Frameworks/R.framework/Versions/4.4-arm64/Resources/library/methylKit/libs/methylKit.so’:
Found ‘___assert_rtn’, possibly from ‘assert’ (C)
Found ‘___stderrp’, possibly from ‘stderr’ (C)
Found ‘___stdoutp’, possibly from ‘stdout’ (C)
Found ‘_abort’, possibly from ‘abort’ (C)
Found ‘_exit’, possibly from ‘exit’ (C)
Compiled code should not call entry points which might terminate R nor
write to stdout/stderr instead of to the console, nor use Fortran I/O
nor system RNGs nor [v]sprintf. The detected symbols are linked into
the code but might come from libraries and not actually be called.
See ‘Writing portable packages’ in the ‘Writing R Extensions’ manual.
* checking files in ‘vignettes’ ... OK
* checking examples ... OK
Examples with CPU (user + system) or elapsed time > 5s
user system elapsed
calculateDiffMeth-methods 4.783 0.221 5.007
* checking for unstated dependencies in ‘tests’ ... OK
* checking tests ...
Running ‘testthat.R’
OK
* checking for unstated dependencies in vignettes ... OK
* checking package vignettes ... OK
* checking running R code from vignettes ... SKIPPED
* checking re-building of vignette outputs ... SKIPPED
* checking PDF version of manual ... OK
* DONE
Status: 5 NOTEs
See
‘/Users/biocbuild/bbs-3.19-bioc/meat/methylKit.Rcheck/00check.log’
for details.
methylKit.Rcheck/00install.out
############################################################################## ############################################################################## ### ### Running command: ### ### /Library/Frameworks/R.framework/Resources/bin/R CMD INSTALL methylKit ### ############################################################################## ############################################################################## * installing to library ‘/Library/Frameworks/R.framework/Versions/4.4-arm64/Resources/library’ * installing *source* package ‘methylKit’ ... ** using staged installation ** libs using C++ compiler: ‘Apple clang version 15.0.0 (clang-1500.0.40.1)’ using C++11 using SDK: ‘MacOSX11.3.sdk’ clang++ -arch arm64 -std=gnu++11 -I"/Library/Frameworks/R.framework/Resources/include" -DNDEBUG -D_FILE_OFFSET_BITS=64 -I'/Library/Frameworks/R.framework/Versions/4.4-arm64/Resources/library/Rcpp/include' -I'/Library/Frameworks/R.framework/Versions/4.4-arm64/Resources/library/Rhtslib/include' -I'/Library/Frameworks/R.framework/Versions/4.4-arm64/Resources/library/zlibbioc/include' -I/opt/R/arm64/include -fPIC -falign-functions=64 -Wall -g -O2 -c RcppExports.cpp -o RcppExports.o clang++ -arch arm64 -std=gnu++11 -I"/Library/Frameworks/R.framework/Resources/include" -DNDEBUG -D_FILE_OFFSET_BITS=64 -I'/Library/Frameworks/R.framework/Versions/4.4-arm64/Resources/library/Rcpp/include' -I'/Library/Frameworks/R.framework/Versions/4.4-arm64/Resources/library/Rhtslib/include' -I'/Library/Frameworks/R.framework/Versions/4.4-arm64/Resources/library/zlibbioc/include' -I/opt/R/arm64/include -fPIC -falign-functions=64 -Wall -g -O2 -c methCall.cpp -o methCall.o clang++ -arch arm64 -std=gnu++11 -dynamiclib -Wl,-headerpad_max_install_names -undefined dynamic_lookup -L/Library/Frameworks/R.framework/Resources/lib -L/opt/R/arm64/lib -o methylKit.so RcppExports.o methCall.o /Library/Frameworks/R.framework/Versions/4.4-arm64/Resources/library/Rhtslib/usrlib/libhts.a -lcurl -lbz2 -llzma -lz -F/Library/Frameworks/R.framework/.. -framework R -Wl,-framework -Wl,CoreFoundation installing to /Library/Frameworks/R.framework/Versions/4.4-arm64/Resources/library/00LOCK-methylKit/00new/methylKit/libs ** R ** data ** inst ** byte-compile and prepare package for lazy loading ** help *** installing help indices ** building package indices ** installing vignettes ** testing if installed package can be loaded from temporary location ** checking absolute paths in shared objects and dynamic libraries ** testing if installed package can be loaded from final location ** testing if installed package keeps a record of temporary installation path * DONE (methylKit)
methylKit.Rcheck/tests/testthat.Rout
R version 4.4.1 (2024-06-14) -- "Race for Your Life"
Copyright (C) 2024 The R Foundation for Statistical Computing
Platform: aarch64-apple-darwin20
R is free software and comes with ABSOLUTELY NO WARRANTY.
You are welcome to redistribute it under certain conditions.
Type 'license()' or 'licence()' for distribution details.
R is a collaborative project with many contributors.
Type 'contributors()' for more information and
'citation()' on how to cite R or R packages in publications.
Type 'demo()' for some demos, 'help()' for on-line help, or
'help.start()' for an HTML browser interface to help.
Type 'q()' to quit R.
> library(testthat)
> library(methylKit)
Loading required package: GenomicRanges
Loading required package: stats4
Loading required package: BiocGenerics
Attaching package: 'BiocGenerics'
The following objects are masked from 'package:stats':
IQR, mad, sd, var, xtabs
The following objects are masked from 'package:base':
Filter, Find, Map, Position, Reduce, anyDuplicated, aperm, append,
as.data.frame, basename, cbind, colnames, dirname, do.call,
duplicated, eval, evalq, get, grep, grepl, intersect, is.unsorted,
lapply, mapply, match, mget, order, paste, pmax, pmax.int, pmin,
pmin.int, rank, rbind, rownames, sapply, setdiff, table, tapply,
union, unique, unsplit, which.max, which.min
Loading required package: S4Vectors
Attaching package: 'S4Vectors'
The following object is masked from 'package:utils':
findMatches
The following objects are masked from 'package:base':
I, expand.grid, unname
Loading required package: IRanges
Loading required package: GenomeInfoDb
>
>
>
> test_check("methylKit")
2024-10-18 03:40:35.832 R[98103:393120683] XType: Using static font registry.
Using internal DSS code...
Using internal DSS code...
[ FAIL 0 | WARN 0 | SKIP 0 | PASS 240 ]
>
> proc.time()
user system elapsed
77.658 3.499 80.169
methylKit.Rcheck/methylKit-Ex.timings
| name | user | system | elapsed | |
| PCASamples-methods | 0.029 | 0.007 | 0.037 | |
| adjustMethylC | 0.109 | 0.019 | 0.110 | |
| assocComp-methods | 0.036 | 0.006 | 0.025 | |
| bedgraph-methods | 0.042 | 0.007 | 0.029 | |
| calculateDiffMeth-methods | 4.783 | 0.221 | 5.007 | |
| calculateDiffMethDSS-methods | 0.414 | 0.017 | 0.444 | |
| clusterSamples-methods | 0.035 | 0.004 | 0.040 | |
| dataSim-methods | 0.022 | 0.003 | 0.025 | |
| diffMethPerChr-methods | 0.041 | 0.004 | 0.032 | |
| extract-methods | 0.057 | 0.005 | 0.035 | |
| filterByCoverage-methods | 0.098 | 0.012 | 0.076 | |
| getAssembly-methods | 0.019 | 0.004 | 0.013 | |
| getContext-methods | 0.019 | 0.003 | 0.013 | |
| getCorrelation-methods | 0.111 | 0.012 | 0.070 | |
| getCoverageStats-methods | 0.021 | 0.004 | 0.018 | |
| getDBPath-methods | 0.078 | 0.010 | 0.063 | |
| getData-methods | 0.020 | 0.003 | 0.020 | |
| getMethylDiff-methods | 0.051 | 0.009 | 0.039 | |
| getMethylationStats-methods | 0.043 | 0.007 | 0.027 | |
| getSampleID-methods | 0.016 | 0.003 | 0.013 | |
| getTreatment-methods | 0.011 | 0.002 | 0.014 | |
| makeMethylDB-methods | 0.000 | 0.001 | 0.000 | |
| methRead-methods | 0.266 | 0.032 | 0.293 | |
| methSeg | 0.000 | 0.000 | 0.001 | |
| methylBase-class | 0.020 | 0.003 | 0.023 | |
| methylBaseDB-class | 0.097 | 0.013 | 0.084 | |
| methylDiff-class | 0.043 | 0.005 | 0.029 | |
| methylDiffDB-class | 1.702 | 0.028 | 1.652 | |
| methylRaw-class | 0.063 | 0.005 | 0.068 | |
| methylRawDB-class | 0.109 | 0.010 | 0.096 | |
| methylRawList-class | 0.022 | 0.004 | 0.014 | |
| methylRawListDB-class | 0.190 | 0.025 | 0.130 | |
| normalizeCoverage-methods | 0.151 | 0.018 | 0.167 | |
| percMethylation-methods | 0.022 | 0.002 | 0.025 | |
| pool-methods | 0.015 | 0.002 | 0.017 | |
| processBismarkAln-methods | 0.047 | 0.010 | 0.059 | |
| readMethylDB-methods | 0.000 | 0.000 | 0.001 | |
| reconstruct-methods | 0.018 | 0.002 | 0.021 | |
| regionCounts | 0.305 | 0.004 | 0.313 | |
| removeComp-methods | 0.028 | 0.003 | 0.035 | |
| reorganize-methods | 0.172 | 0.014 | 0.255 | |
| select-methods | 0.099 | 0.016 | 0.282 | |
| selectByOverlap-methods | 1.754 | 0.064 | 1.940 | |
| show-methods | 0.032 | 0.003 | 0.037 | |
| tileMethylCounts-methods | 0.568 | 0.014 | 0.584 | |
| unite-methods | 0.148 | 0.013 | 0.160 | |