| Back to Multiple platform build/check report for BioC 3.19: simplified long | 
 | 
This page was generated on 2024-06-11 14:42 -0400 (Tue, 11 Jun 2024).
| Hostname | OS | Arch (*) | R version | Installed pkgs | 
|---|---|---|---|---|
| nebbiolo1 | Linux (Ubuntu 22.04.3 LTS) | x86_64 | 4.4.0 (2024-04-24) -- "Puppy Cup" | 4757 | 
| palomino3 | Windows Server 2022 Datacenter | x64 | 4.4.0 (2024-04-24 ucrt) -- "Puppy Cup" | 4491 | 
| lconway | macOS 12.7.1 Monterey | x86_64 | 4.4.0 (2024-04-24) -- "Puppy Cup" | 4522 | 
| kjohnson3 | macOS 13.6.5 Ventura | arm64 | 4.4.0 (2024-04-24) -- "Puppy Cup" | 4468 | 
| Click on any hostname to see more info about the system (e.g. compilers) (*) as reported by 'uname -p', except on Windows and Mac OS X | ||||
| Package 1225/2300 | Hostname | OS / Arch | INSTALL | BUILD | CHECK | BUILD BIN | ||||||||
| metaseqR2 1.16.0  (landing page) Panagiotis Moulos 
 | nebbiolo1 | Linux (Ubuntu 22.04.3 LTS) / x86_64 | OK | OK | OK |  | ||||||||
| palomino3 | Windows Server 2022 Datacenter / x64 | OK | OK | OK | OK |  | ||||||||
| lconway | macOS 12.7.1 Monterey / x86_64 | OK | OK | OK | OK |  | ||||||||
| kjohnson3 | macOS 13.6.5 Ventura / arm64 | OK | OK | OK | OK |  | ||||||||
| To the developers/maintainers of the metaseqR2 package: - Allow up to 24 hours (and sometimes 48 hours) for your latest push to git@git.bioconductor.org:packages/metaseqR2.git to reflect on this report. See Troubleshooting Build Report for more information. - Use the following Renviron settings to reproduce errors and warnings. - If 'R CMD check' started to fail recently on the Linux builder(s) over a missing dependency, add the missing dependency to 'Suggests:' in your DESCRIPTION file. See Renviron.bioc for more information. | 
| Package: metaseqR2 | 
| Version: 1.16.0 | 
| Command: /Library/Frameworks/R.framework/Resources/bin/R CMD check --install=check:metaseqR2.install-out.txt --library=/Library/Frameworks/R.framework/Resources/library --no-vignettes --timings metaseqR2_1.16.0.tar.gz | 
| StartedAt: 2024-06-09 21:24:28 -0400 (Sun, 09 Jun 2024) | 
| EndedAt: 2024-06-09 21:33:54 -0400 (Sun, 09 Jun 2024) | 
| EllapsedTime: 566.0 seconds | 
| RetCode: 0 | 
| Status: OK | 
| CheckDir: metaseqR2.Rcheck | 
| Warnings: 0 | 
##############################################################################
##############################################################################
###
### Running command:
###
###   /Library/Frameworks/R.framework/Resources/bin/R CMD check --install=check:metaseqR2.install-out.txt --library=/Library/Frameworks/R.framework/Resources/library --no-vignettes --timings metaseqR2_1.16.0.tar.gz
###
##############################################################################
##############################################################################
* using log directory ‘/Users/biocbuild/bbs-3.19-bioc/meat/metaseqR2.Rcheck’
* using R version 4.4.0 (2024-04-24)
* using platform: x86_64-apple-darwin20
* R was compiled by
    Apple clang version 14.0.0 (clang-1400.0.29.202)
    GNU Fortran (GCC) 12.2.0
* running under: macOS Monterey 12.7.1
* using session charset: UTF-8
* using option ‘--no-vignettes’
* checking for file ‘metaseqR2/DESCRIPTION’ ... OK
* checking extension type ... Package
* this is package ‘metaseqR2’ version ‘1.16.0’
* package encoding: UTF-8
* checking package namespace information ... OK
* checking package dependencies ... OK
* checking if this is a source package ... OK
* checking if there is a namespace ... OK
* checking for hidden files and directories ... OK
* checking for portable file names ... OK
* checking for sufficient/correct file permissions ... OK
* checking whether package ‘metaseqR2’ can be installed ... OK
* used C compiler: ‘Apple clang version 14.0.0 (clang-1400.0.29.202)’
* used SDK: ‘MacOSX11.3.sdk’
* checking installed package size ... OK
* checking package directory ... OK
* checking ‘build’ directory ... OK
* checking DESCRIPTION meta-information ... OK
* checking top-level files ... OK
* checking for left-over files ... OK
* checking index information ... OK
* checking package subdirectories ... OK
* checking code files for non-ASCII characters ... OK
* checking R files for syntax errors ... OK
* checking whether the package can be loaded ... OK
* checking whether the package can be loaded with stated dependencies ... OK
* checking whether the package can be unloaded cleanly ... OK
* checking whether the namespace can be loaded with stated dependencies ... OK
* checking whether the namespace can be unloaded cleanly ... OK
* checking dependencies in R code ... OK
* checking S3 generic/method consistency ... OK
* checking replacement functions ... OK
* checking foreign function calls ... OK
* checking R code for possible problems ... NOTE
getUcscUtr: no visible binding for global variable ‘customDir’
Undefined global functions or variables:
  customDir
* checking Rd files ... OK
* checking Rd metadata ... OK
* checking Rd cross-references ... OK
* checking for missing documentation entries ... OK
* checking for code/documentation mismatches ... OK
* checking Rd \usage sections ... OK
* checking Rd contents ... OK
* checking for unstated dependencies in examples ... OK
* checking contents of ‘data’ directory ... OK
* checking data for non-ASCII characters ... OK
* checking data for ASCII and uncompressed saves ... OK
* checking line endings in C/C++/Fortran sources/headers ... OK
* checking compiled code ... NOTE
Note: information on .o files is not available
* checking files in ‘vignettes’ ... OK
* checking examples ... OK
Examples with CPU (user + system) or elapsed time > 5s
             user system elapsed
read2count 10.938  1.396  15.123
statNoiseq  7.577  0.068   7.823
metaseqr2   4.986  0.598  16.754
* checking for unstated dependencies in ‘tests’ ... OK
* checking tests ...
  Running ‘runTests.R’
 OK
* checking for unstated dependencies in vignettes ... OK
* checking package vignettes ... OK
* checking running R code from vignettes ... SKIPPED
* checking re-building of vignette outputs ... SKIPPED
* checking PDF version of manual ... OK
* DONE
Status: 2 NOTEs
See
  ‘/Users/biocbuild/bbs-3.19-bioc/meat/metaseqR2.Rcheck/00check.log’
for details.
metaseqR2.Rcheck/00install.out
##############################################################################
##############################################################################
###
### Running command:
###
###   /Library/Frameworks/R.framework/Resources/bin/R CMD INSTALL metaseqR2
###
##############################################################################
##############################################################################
* installing to library ‘/Library/Frameworks/R.framework/Versions/4.4-x86_64/Resources/library’
* installing *source* package ‘metaseqR2’ ...
** using staged installation
** libs
using C compiler: ‘Apple clang version 14.0.0 (clang-1400.0.29.202)’
using SDK: ‘MacOSX11.3.sdk’
clang -arch x86_64 -I"/Library/Frameworks/R.framework/Resources/include" -DNDEBUG   -I/opt/R/x86_64/include    -fPIC  -falign-functions=64 -Wall -g -O2  -c pval.c -o pval.o
pval.c:26:11: warning: unused variable 'esttotalperlength' [-Wunused-variable]
   double esttotalperlength = total/2;
          ^
1 warning generated.
clang -arch x86_64 -dynamiclib -Wl,-headerpad_max_install_names -undefined dynamic_lookup -L/Library/Frameworks/R.framework/Resources/lib -L/opt/R/x86_64/lib -o metaseqR2.so pval.o -F/Library/Frameworks/R.framework/.. -framework R -Wl,-framework -Wl,CoreFoundation
installing to /Library/Frameworks/R.framework/Versions/4.4-x86_64/Resources/library/00LOCK-metaseqR2/00new/metaseqR2/libs
** R
** data
** inst
** byte-compile and prepare package for lazy loading
** help
*** installing help indices
** building package indices
** installing vignettes
** testing if installed package can be loaded from temporary location
** checking absolute paths in shared objects and dynamic libraries
** testing if installed package can be loaded from final location
** testing if installed package keeps a record of temporary installation path
* DONE (metaseqR2)
metaseqR2.Rcheck/tests/runTests.Rout
R version 4.4.0 (2024-04-24) -- "Puppy Cup"
Copyright (C) 2024 The R Foundation for Statistical Computing
Platform: x86_64-apple-darwin20
R is free software and comes with ABSOLUTELY NO WARRANTY.
You are welcome to redistribute it under certain conditions.
Type 'license()' or 'licence()' for distribution details.
R is a collaborative project with many contributors.
Type 'contributors()' for more information and
'citation()' on how to cite R or R packages in publications.
Type 'demo()' for some demos, 'help()' for on-line help, or
'help.start()' for an HTML browser interface to help.
Type 'q()' to quit R.
> BiocGenerics:::testPackage("metaseqR2")
Attaching package: 'BiocGenerics'
The following objects are masked from 'package:stats':
    IQR, mad, sd, var, xtabs
The following objects are masked from 'package:base':
    Filter, Find, Map, Position, Reduce, anyDuplicated, aperm, append,
    as.data.frame, basename, cbind, colnames, dirname, do.call,
    duplicated, eval, evalq, get, grep, grepl, intersect, is.unsorted,
    lapply, mapply, match, mget, order, paste, pmax, pmax.int, pmin,
    pmin.int, rank, rbind, rownames, sapply, setdiff, table, tapply,
    union, unique, unsplit, which.max, which.min
Attaching package: 'S4Vectors'
The following object is masked from 'package:utils':
    findMatches
The following objects are masked from 'package:base':
    I, expand.grid, unname
Attaching package: 'MatrixGenerics'
The following objects are masked from 'package:matrixStats':
    colAlls, colAnyNAs, colAnys, colAvgsPerRowSet, colCollapse,
    colCounts, colCummaxs, colCummins, colCumprods, colCumsums,
    colDiffs, colIQRDiffs, colIQRs, colLogSumExps, colMadDiffs,
    colMads, colMaxs, colMeans2, colMedians, colMins, colOrderStats,
    colProds, colQuantiles, colRanges, colRanks, colSdDiffs, colSds,
    colSums2, colTabulates, colVarDiffs, colVars, colWeightedMads,
    colWeightedMeans, colWeightedMedians, colWeightedSds,
    colWeightedVars, rowAlls, rowAnyNAs, rowAnys, rowAvgsPerColSet,
    rowCollapse, rowCounts, rowCummaxs, rowCummins, rowCumprods,
    rowCumsums, rowDiffs, rowIQRDiffs, rowIQRs, rowLogSumExps,
    rowMadDiffs, rowMads, rowMaxs, rowMeans2, rowMedians, rowMins,
    rowOrderStats, rowProds, rowQuantiles, rowRanges, rowRanks,
    rowSdDiffs, rowSds, rowSums2, rowTabulates, rowVarDiffs, rowVars,
    rowWeightedMads, rowWeightedMeans, rowWeightedMedians,
    rowWeightedSds, rowWeightedVars
Welcome to Bioconductor
    Vignettes contain introductory material; view with
    'browseVignettes()'. To cite Bioconductor, see
    'citation("Biobase")', and for packages 'citation("pkgname")'.
Attaching package: 'Biobase'
The following object is masked from 'package:MatrixGenerics':
    rowMedians
The following objects are masked from 'package:matrixStats':
    anyMissing, rowMedians
Attaching package: 'limma'
The following object is masked from 'package:DESeq2':
    plotMA
The following object is masked from 'package:BiocGenerics':
    plotMA
locfit 1.5-9.9 	 2024-03-01
Attaching package: 'metaseqR2'
The following object is masked from 'package:limma':
    readTargets
Downsampling counts...
Estimating initial dispersion population...
Estimating dispersions using log-likelihood...
Running simulations... This procedure requires time... Please wait...Using Ensembl host https://jan2024.archive.ensembl.org
2024-06-09 21:33:30: Data processing started...
Read counts file: imported custom data frame
Conditions: G1, G2
Samples to include: G1_rep1, G1_rep2, G1_rep3, G2_rep1, G2_rep2, G2_rep3
Samples to exclude: none
Requested contrasts: G1_vs_G2
Annotation: embedded
Organism: mm10
Reference source: ensembl
Count type: gene
Analysis preset: all_basic
Transcriptional level: gene
Exon filters: none applied
Gene filters: none applied
Filter application: postnorm
Normalization algorithm: edaseq
Normalization arguments: 
  within.which: loess
  between.which: full
Statistical algorithm(s): edger, limma
Statistical arguments: 
  edger: classic, 5, 10, movingave, NULL, grid, 11, c(-6, 6), NULL, CoxReid, 10000, NULL, auto, NULL, NULL, NULL, NULL, 0.125, NULL, auto, chisq, TRUE, FALSE, c(0.05, 0.1)
  limma: none
Meta-analysis method: simes
Multiple testing correction: BH
Logarithmic transformation offset: 1
Analysis preset: all_basic
Quality control plots: 
Figure format: png
Output directory: /tmp/Rtmpa0ffKO
Output data: annotation, p_value, adj_p_value, meta_p_value, adj_meta_p_value, fold_change
Output scale(s): natural, log2
Output values: normalized
Loading gene annotation...
Saving gene model to /tmp/Rtmpa0ffKO/data/gene_model.RData
Removing genes with zero counts in all samples...
Normalizing with: edaseq
Running statistical tests with: edger
  Contrast: G1_vs_G2
Running statistical tests with: limma
  Contrast: G1_vs_G2
Performing meta-analysis with simes
Building output files...
  Contrast: G1_vs_G2
    Adding non-filtered data...
      binding annotation...
      binding p-values...
      binding FDRs...
      binding meta p-values...
      binding adjusted meta p-values...
      binding natural normalized fold changes...
      binding log2 normalized fold changes...
    Writing output...
2024-06-09 21:33:31: Data processing finished!
Total processing time: 00 seconds
Estimating AUFC weights... Please wait...
Processing edger
Processing limma
Retrieving edger
Retrieving limma
2024-06-09 21:33:31: Data processing started...
Read counts file: imported custom data frame
Conditions: e14.5, adult_8_weeks
Samples to include: e14.5_1, e14.5_2, a8w_1, a8w_2
Samples to exclude: none
Requested contrasts: adult_8_weeks_vs_e14.5
Library sizes: 
  e14.5_1: 3102907
  e14.5_2: 2067905
  a8w_1: 3742059
  a8w_2: 4403954
Annotation: embedded
Organism: mm9
Reference source: ensembl
Count type: gene
Analysis preset: medium_basic
Transcriptional level: gene
Exon filters: minActiveExons
  minActiveExons: 
    exonsPerGene: 5
    minExons: 2
    frac: 0.2
Gene filters: length, avgReads, expression, biotype
  length: 
    length: 500
  avgReads: 
    averagePerBp: 100
    quantile: 0.25
  expression: 
    median: TRUE
    mean: FALSE
    quantile: NA
    known: NA
    custom: NA
  biotype: 
    pseudogene: FALSE
    snRNA: FALSE
    protein_coding: FALSE
    antisense: FALSE
    miRNA: FALSE
    lincRNA: FALSE
    snoRNA: FALSE
    processed_transcript: FALSE
    misc_RNA: FALSE
    rRNA: TRUE
    sense_overlapping: FALSE
    sense_intronic: FALSE
    polymorphic_pseudogene: FALSE
    non_coding: FALSE
    three_prime_overlapping_ncrna: FALSE
    IG_C_gene: FALSE
    IG_J_gene: FALSE
    IG_D_gene: FALSE
    IG_V_gene: FALSE
    ncrna_host: FALSE
Filter application: postnorm
Normalization algorithm: edger
Normalization arguments: 
  method: TMM
  logratioTrim: 0.3
  sumTrim: 0.05
  doWeighting: TRUE
  Acutoff: -1e+10
  p: 0.75
Statistical algorithm(s): edger, limma
Statistical arguments: 
  edger: classic, 5, 10, movingave, NULL, grid, 11, c(-6, 6), NULL, CoxReid, 10000, NULL, auto, NULL, NULL, NULL, NULL, 0.125, NULL, auto, chisq, TRUE, FALSE, c(0.05, 0.1)
  limma: none
Meta-analysis method: simes
Multiple testing correction: BH
p-value threshold: 0.05
Logarithmic transformation offset: 1
Analysis preset: medium_basic
Quality control plots: mds
Figure format: png
Output directory: /tmp/Rtmpa0ffKO
Output data: annotation, p_value, adj_p_value, meta_p_value, adj_meta_p_value, fold_change
Output scale(s): natural, log2
Output values: normalized
Loading gene annotation...
Saving gene model to /tmp/Rtmpa0ffKO/data/gene_model.RData
Removing genes with zero counts in all samples...
Normalizing with: edger
Applying gene filter length...
  Threshold below which ignored: 500
Applying gene filter avgReads...
  Threshold below which ignored: 0.0659629215631332
Applying gene filter expression...
  Threshold below which ignored: 68
Applying gene filter biotype...
  Biotypes ignored: rRNA
2106 genes filtered out
1681 genes remain after filtering
Running statistical tests with: edger
  Contrast: adult_8_weeks_vs_e14.5
  Contrast adult_8_weeks_vs_e14.5: found 906 genes
Running statistical tests with: limma
  Contrast: adult_8_weeks_vs_e14.5
  Contrast adult_8_weeks_vs_e14.5: found 911 genes
Performing meta-analysis with simes
Building output files...
  Contrast: adult_8_weeks_vs_e14.5
    Adding non-filtered data...
      binding annotation...
      binding p-values...
      binding FDRs...
      binding meta p-values...
      binding adjusted meta p-values...
      binding natural normalized fold changes...
      binding log2 normalized fold changes...
    Writing output...
    Adding filtered data...
      binding annotation...
      binding p-values...
      binding FDRs...
      binding meta p-values...
      binding adjusted meta p-values...
      binding natural normalized fold changes...
      binding log2 normalized fold changes...
    Writing output...
    Adding report data...
      binding annotation...
      binding meta p-values...
      binding adjusted meta p-values...
      binding log2 normalized fold changes...
      binding normalized mean counts...
      binding normalized mean counts...
Creating quality control graphs...
Plotting in png format...
  Plotting mds...2024-06-09 21:33:33.151 R[8692:33744172] XType: com.apple.fonts is not accessible.
2024-06-09 21:33:33.151 R[8692:33744172] XType: XTFontStaticRegistry is enabled.
  Importing mds...
Writing plot database in /tmp/Rtmpa0ffKO/data/reportdb.js
Creating HTML report...
Compressing figures...  adding: tmp/Rtmpa0ffKO/plots/qc/mds.png (deflated 48%)
Downloading required JavaScript libraries...trying URL 'https://raw.github.com/HubSpot/pace/v1.0.0/pace.min.js'
Content type 'text/plain; charset=utf-8' length 12363 bytes (12 KB)
==================================================
downloaded 12 KB
trying URL 'https://code.highcharts.com/highcharts.js'
downloaded 270 KB
trying URL 'https://code.highcharts.com/highcharts-more.js'
downloaded 93 KB
trying URL 'https://code.highcharts.com/modules/exporting.js'
downloaded 19 KB
trying URL 'https://code.highcharts.com/modules/offline-exporting.js'
downloaded 9833 bytes
trying URL 'https://code.highcharts.com/modules/export-data.js'
downloaded 12 KB
trying URL 'http://jvenn.toulouse.inrae.fr/app/js/canvas2svg.js'
Content type 'text/javascript' length 35122 bytes (34 KB)
==================================================
downloaded 34 KB
trying URL 'http://jvenn.toulouse.inrae.fr/app/js/jvenn.min.js'
Content type 'text/javascript' length 100524 bytes (98 KB)
==================================================
downloaded 98 KB
trying URL 'https://unpkg.com/dexie@2.0.4/dist/dexie.min.js'
downloaded 55 KB
processing file: metaseqr2_report.Rmd
output file: metaseqr2_report.knit.md
/usr/local/bin/pandoc +RTS -K512m -RTS metaseqr2_report.knit.md --to html4 --from markdown+autolink_bare_uris+tex_math_single_backslash --output /private/tmp/Rtmpa0ffKO/index.html --lua-filter /Library/Frameworks/R.framework/Versions/4.4-x86_64/Resources/library/rmarkdown/rmarkdown/lua/pagebreak.lua --lua-filter /Library/Frameworks/R.framework/Versions/4.4-x86_64/Resources/library/rmarkdown/rmarkdown/lua/latex-div.lua +RTS -K2048m -RTS --variable 'material:true' --variable 'lightbox:true' --variable 'thumbnails:true' --variable 'gallery:true' --variable 'cards:true' --variable bs3=TRUE --standalone --section-divs --table-of-contents --toc-depth 1 --template /Library/Frameworks/R.framework/Versions/4.4-x86_64/Resources/library/rmdformats/templates/material/material.html --highlight-style kate --variable theme=bootstrap --include-in-header /tmp/Rtmpa0ffKO/rmarkdown-str21f42009ff79.html 
Output created: /private/tmp/Rtmpa0ffKO/index.html
2024-06-09 21:33:41: Data processing finished!
Total processing time: 09 seconds
RUNIT TEST PROTOCOL -- Sun Jun  9 21:33:41 2024 
*********************************************** 
Number of test functions: 2 
Number of errors: 0 
Number of failures: 0 
 
1 Test Suite : 
metaseqR2 RUnit Tests - 2 test functions, 0 errors, 0 failures
Number of test functions: 2 
Number of errors: 0 
Number of failures: 0 
There were 50 or more warnings (use warnings() to see the first 50)
> 
> proc.time()
   user  system elapsed 
 31.263   2.300  46.053 
metaseqR2.Rcheck/metaseqR2-Ex.timings
| name | user | system | elapsed | |
| buildAnnotationDatabase | 0.000 | 0.001 | 0.000 | |
| buildCustomAnnotation | 4.751 | 0.186 | 4.959 | |
| combineBonferroni | 0.001 | 0.000 | 0.000 | |
| combineHarmonic | 0.002 | 0.001 | 0.002 | |
| combineMaxp | 0.001 | 0.001 | 0.001 | |
| combineMinp | 0.000 | 0.001 | 0.001 | |
| combineSimes | 0.001 | 0.000 | 0.002 | |
| combineWeight | 0 | 0 | 0 | |
| createSignalTracks | 1.165 | 0.120 | 1.320 | |
| diagplotAvgFtd | 0.050 | 0.006 | 0.056 | |
| diagplotBoxplot | 0.783 | 0.021 | 0.804 | |
| diagplotCor | 0.141 | 0.019 | 0.160 | |
| diagplotDeHeatmap | 0.732 | 0.034 | 0.767 | |
| diagplotEdaseq | 0.336 | 0.057 | 0.397 | |
| diagplotFiltered | 0.028 | 0.011 | 0.038 | |
| diagplotFtd | 0.019 | 0.010 | 0.029 | |
| diagplotMds | 0.219 | 0.009 | 0.228 | |
| diagplotNoiseq | 0.416 | 0.051 | 0.467 | |
| diagplotPairs | 0.507 | 0.057 | 0.568 | |
| diagplotRoc | 0.022 | 0.007 | 0.029 | |
| diagplotVenn | 0.196 | 0.017 | 0.216 | |
| diagplotVolcano | 1.321 | 0.057 | 1.380 | |
| downsampleCounts | 0.191 | 0.000 | 0.193 | |
| estimateAufcWeights | 2.271 | 0.160 | 2.512 | |
| estimateSimParams | 0.782 | 0.026 | 0.831 | |
| getAnnotation | 1.990 | 0.106 | 4.809 | |
| getDefaults | 0.000 | 0.001 | 0.000 | |
| getInstalledAnnotations | 0.001 | 0.001 | 0.002 | |
| getWeights | 0.000 | 0.000 | 0.001 | |
| importCustomAnnotation | 0.962 | 0.015 | 0.980 | |
| loadAnnotation | 0.001 | 0.000 | 0.002 | |
| makeSimDataSd | 0.809 | 0.021 | 0.852 | |
| makeSimDataTcc | 1.639 | 0.027 | 1.671 | |
| metaTest | 0.008 | 0.006 | 0.030 | |
| metaseqr2 | 4.986 | 0.598 | 16.754 | |
| metaseqrPlot | 0.666 | 0.027 | 0.695 | |
| normalizeAbsseq | 0.674 | 0.041 | 0.716 | |
| normalizeDeseq | 0.155 | 0.015 | 0.169 | |
| normalizeDeseq2 | 0.532 | 0.014 | 0.547 | |
| normalizeDss | 0.183 | 0.020 | 0.203 | |
| normalizeEdaseq | 0.356 | 0.027 | 0.384 | |
| normalizeEdger | 0.100 | 0.016 | 0.116 | |
| normalizeNbpseq | 0.105 | 0.015 | 0.119 | |
| normalizeNoiseq | 0.146 | 0.017 | 0.165 | |
| read2count | 10.938 | 1.396 | 15.123 | |
| readTargets | 0.032 | 0.008 | 0.040 | |
| statAbsseq | 1.395 | 0.064 | 1.461 | |
| statDeseq | 0.843 | 0.028 | 0.874 | |
| statDeseq2 | 3.865 | 0.122 | 4.007 | |
| statDss | 0.813 | 0.018 | 0.832 | |
| statEdger | 0.535 | 0.019 | 0.555 | |
| statLimma | 0.265 | 0.002 | 0.268 | |
| statNbpseq | 0.869 | 0.020 | 0.892 | |
| statNoiseq | 7.577 | 0.068 | 7.823 | |