Back to Multiple platform build/check report for BioC 3.19: simplified long |
|
This page was generated on 2024-10-18 20:38 -0400 (Fri, 18 Oct 2024).
Hostname | OS | Arch (*) | R version | Installed pkgs |
---|---|---|---|---|
nebbiolo1 | Linux (Ubuntu 22.04.3 LTS) | x86_64 | 4.4.1 (2024-06-14) -- "Race for Your Life" | 4763 |
palomino7 | Windows Server 2022 Datacenter | x64 | 4.4.1 (2024-06-14 ucrt) -- "Race for Your Life" | 4500 |
merida1 | macOS 12.7.5 Monterey | x86_64 | 4.4.1 (2024-06-14) -- "Race for Your Life" | 4530 |
kjohnson1 | macOS 13.6.6 Ventura | arm64 | 4.4.1 (2024-06-14) -- "Race for Your Life" | 4480 |
Click on any hostname to see more info about the system (e.g. compilers) (*) as reported by 'uname -p', except on Windows and Mac OS X |
Package 1217/2300 | Hostname | OS / Arch | INSTALL | BUILD | CHECK | BUILD BIN | ||||||||
metagenomeSeq 1.46.0 (landing page) Joseph N. Paulson
| nebbiolo1 | Linux (Ubuntu 22.04.3 LTS) / x86_64 | OK | OK | OK | |||||||||
palomino7 | Windows Server 2022 Datacenter / x64 | OK | OK | OK | OK | |||||||||
merida1 | macOS 12.7.5 Monterey / x86_64 | OK | OK | OK | OK | |||||||||
kjohnson1 | macOS 13.6.6 Ventura / arm64 | OK | OK | OK | OK | |||||||||
To the developers/maintainers of the metagenomeSeq package: - Allow up to 24 hours (and sometimes 48 hours) for your latest push to git@git.bioconductor.org:packages/metagenomeSeq.git to reflect on this report. See Troubleshooting Build Report for more information. - Use the following Renviron settings to reproduce errors and warnings. - If 'R CMD check' started to fail recently on the Linux builder(s) over a missing dependency, add the missing dependency to 'Suggests:' in your DESCRIPTION file. See Renviron.bioc for more information. |
Package: metagenomeSeq |
Version: 1.46.0 |
Command: /home/biocbuild/bbs-3.19-bioc/R/bin/R CMD check --install=check:metagenomeSeq.install-out.txt --library=/home/biocbuild/bbs-3.19-bioc/R/site-library --timings metagenomeSeq_1.46.0.tar.gz |
StartedAt: 2024-10-17 02:12:14 -0400 (Thu, 17 Oct 2024) |
EndedAt: 2024-10-17 02:16:24 -0400 (Thu, 17 Oct 2024) |
EllapsedTime: 250.5 seconds |
RetCode: 0 |
Status: OK |
CheckDir: metagenomeSeq.Rcheck |
Warnings: 0 |
############################################################################## ############################################################################## ### ### Running command: ### ### /home/biocbuild/bbs-3.19-bioc/R/bin/R CMD check --install=check:metagenomeSeq.install-out.txt --library=/home/biocbuild/bbs-3.19-bioc/R/site-library --timings metagenomeSeq_1.46.0.tar.gz ### ############################################################################## ############################################################################## * using log directory ‘/home/biocbuild/bbs-3.19-bioc/meat/metagenomeSeq.Rcheck’ * using R version 4.4.1 (2024-06-14) * using platform: x86_64-pc-linux-gnu * R was compiled by gcc (Ubuntu 11.4.0-1ubuntu1~22.04) 11.4.0 GNU Fortran (Ubuntu 11.4.0-1ubuntu1~22.04) 11.4.0 * running under: Ubuntu 22.04.5 LTS * using session charset: UTF-8 * checking for file ‘metagenomeSeq/DESCRIPTION’ ... OK * this is package ‘metagenomeSeq’ version ‘1.46.0’ * checking package namespace information ... OK * checking package dependencies ... OK * checking if this is a source package ... OK * checking if there is a namespace ... OK * checking for hidden files and directories ... OK * checking for portable file names ... OK * checking for sufficient/correct file permissions ... OK * checking whether package ‘metagenomeSeq’ can be installed ... OK * checking installed package size ... OK * checking package directory ... OK * checking ‘build’ directory ... OK * checking DESCRIPTION meta-information ... OK * checking top-level files ... OK * checking for left-over files ... OK * checking index information ... OK * checking package subdirectories ... OK * checking code files for non-ASCII characters ... OK * checking R files for syntax errors ... OK * checking whether the package can be loaded ... OK * checking whether the package can be loaded with stated dependencies ... OK * checking whether the package can be unloaded cleanly ... OK * checking whether the namespace can be loaded with stated dependencies ... OK * checking whether the namespace can be unloaded cleanly ... OK * checking loading without being on the library search path ... OK * checking dependencies in R code ... OK * checking S3 generic/method consistency ... OK * checking replacement functions ... OK * checking foreign function calls ... OK * checking R code for possible problems ... OK * checking Rd files ... OK * checking Rd metadata ... OK * checking Rd cross-references ... OK * checking for missing documentation entries ... OK * checking for code/documentation mismatches ... OK * checking Rd \usage sections ... OK * checking Rd contents ... OK * checking for unstated dependencies in examples ... OK * checking contents of ‘data’ directory ... OK * checking data for non-ASCII characters ... OK * checking data for ASCII and uncompressed saves ... OK * checking files in ‘vignettes’ ... OK * checking examples ... OK Examples with CPU (user + system) or elapsed time > 5s user system elapsed wrenchNorm 12.692 0.204 12.895 MRfulltable 0.952 0.037 5.027 * checking for unstated dependencies in ‘tests’ ... OK * checking tests ... Running ‘testthat.R’ OK * checking for unstated dependencies in vignettes ... OK * checking package vignettes ... OK * checking re-building of vignette outputs ... OK * checking PDF version of manual ... OK * DONE Status: OK
metagenomeSeq.Rcheck/00install.out
############################################################################## ############################################################################## ### ### Running command: ### ### /home/biocbuild/bbs-3.19-bioc/R/bin/R CMD INSTALL metagenomeSeq ### ############################################################################## ############################################################################## * installing to library ‘/home/biocbuild/bbs-3.19-bioc/R/site-library’ * installing *source* package ‘metagenomeSeq’ ... ** using staged installation ** R ** data ** inst ** byte-compile and prepare package for lazy loading in method for ‘MRihw’ with signature ‘"fitFeatureModelResults"’: no definition for class “fitFeatureModelResults” in method for ‘MRihw’ with signature ‘"fitZigResults"’: no definition for class “fitZigResults” ** help *** installing help indices ** building package indices ** installing vignettes ** testing if installed package can be loaded from temporary location ** testing if installed package can be loaded from final location ** testing if installed package keeps a record of temporary installation path * DONE (metagenomeSeq)
metagenomeSeq.Rcheck/tests/testthat.Rout
R version 4.4.1 (2024-06-14) -- "Race for Your Life" Copyright (C) 2024 The R Foundation for Statistical Computing Platform: x86_64-pc-linux-gnu R is free software and comes with ABSOLUTELY NO WARRANTY. You are welcome to redistribute it under certain conditions. Type 'license()' or 'licence()' for distribution details. R is a collaborative project with many contributors. Type 'contributors()' for more information and 'citation()' on how to cite R or R packages in publications. Type 'demo()' for some demos, 'help()' for on-line help, or 'help.start()' for an HTML browser interface to help. Type 'q()' to quit R. > library("testthat") > packageVersion("metagenomeSeq") [1] '1.46.0' > # As suggested for opt-out option on testing by users, > # recommended by CRAN: http://adv-r.had.co.nz/Testing.html > # Previously, best practice was to put all test files in inst/tests > # and ensure that R CMD check ran them by putting the following code in tests/test-all.R: > # >library(testthat) > # >library(yourpackage) > # >test_package("yourpackage") > # Now, recommended practice is to put your tests in tests/testthat, > # and ensure R CMD check runs them by putting the following code in tests/test-all.R: > # >library(testthat) > # >test_check("yourpackage") > # The advantage of this new structure is that the user has control over whether or not tests are installed using the –install-tests parameter to > # R CMD install, or INSTALL_opts = c(“–install-tests”) argument to install.packages(). I’m not sure why you wouldn’t want to install the tests, > # but now you have the flexibility as requested by CRAN maintainers. > test_check("metagenomeSeq") Loading required package: metagenomeSeq Loading required package: Biobase Loading required package: BiocGenerics Attaching package: 'BiocGenerics' The following objects are masked from 'package:stats': IQR, mad, sd, var, xtabs The following objects are masked from 'package:base': Filter, Find, Map, Position, Reduce, anyDuplicated, aperm, append, as.data.frame, basename, cbind, colnames, dirname, do.call, duplicated, eval, evalq, get, grep, grepl, intersect, is.unsorted, lapply, mapply, match, mget, order, paste, pmax, pmax.int, pmin, pmin.int, rank, rbind, rownames, sapply, setdiff, table, tapply, union, unique, unsplit, which.max, which.min Welcome to Bioconductor Vignettes contain introductory material; view with 'browseVignettes()'. To cite Bioconductor, see 'citation("Biobase")', and for packages 'citation("pkgname")'. Loading required package: limma Attaching package: 'limma' The following object is masked from 'package:BiocGenerics': plotMA Loading required package: glmnet Loading required package: Matrix Loaded glmnet 4.1-8 Loading required package: RColorBrewer [ FAIL 0 | WARN 6 | SKIP 0 | PASS 15 ] [ FAIL 0 | WARN 6 | SKIP 0 | PASS 15 ] > > proc.time() user system elapsed 82.471 2.592 85.054
metagenomeSeq.Rcheck/metagenomeSeq-Ex.timings
name | user | system | elapsed | |
MRcoefs | 1.020 | 0.064 | 1.084 | |
MRcounts | 0.497 | 0.016 | 0.513 | |
MRexperiment-class | 0.001 | 0.000 | 0.001 | |
MRfulltable | 0.952 | 0.037 | 5.027 | |
MRtable | 0.901 | 0.016 | 0.916 | |
aggregateBySample | 0.141 | 0.000 | 0.140 | |
aggregateByTaxonomy | 0.144 | 0.012 | 0.156 | |
biom2MRexperiment | 0.198 | 0.000 | 0.198 | |
calcNormFactors | 0.628 | 0.016 | 0.644 | |
correctIndices | 0.106 | 0.000 | 0.106 | |
correlationTest | 0.188 | 0.032 | 0.220 | |
cumNorm | 0.424 | 0.012 | 0.437 | |
cumNormMat | 0.462 | 0.012 | 0.474 | |
cumNormStat | 0.646 | 0.012 | 0.658 | |
cumNormStatFast | 0.312 | 0.008 | 0.320 | |
expSummary | 0.077 | 0.028 | 0.104 | |
exportMat | 1.097 | 3.006 | 4.103 | |
exportStats | 0.386 | 0.000 | 0.387 | |
extractMR | 0.671 | 1.276 | 1.947 | |
filterData | 0.155 | 0.000 | 0.156 | |
fitDO | 0.324 | 0.005 | 2.516 | |
fitFeatureModel | 1.031 | 0.096 | 1.127 | |
fitLogNormal | 1.720 | 0.307 | 2.026 | |
fitMultipleTimeSeries | 1.608 | 0.023 | 1.632 | |
fitPA | 0.330 | 0.005 | 2.434 | |
fitSSTimeSeries | 0.375 | 0.011 | 0.387 | |
fitTimeSeries | 0.388 | 0.012 | 0.401 | |
fitZig | 1.786 | 0.000 | 1.786 | |
libSize-set | 0.274 | 0.019 | 0.293 | |
libSize | 0.265 | 0.005 | 0.269 | |
loadBiom | 0.030 | 0.004 | 0.032 | |
loadMeta | 0.016 | 0.000 | 0.016 | |
loadMetaQ | 0 | 0 | 0 | |
loadPhenoData | 0.007 | 0.000 | 0.007 | |
makeLabels | 0.001 | 0.000 | 0.000 | |
mergeMRexperiments | 1.374 | 0.215 | 1.589 | |
newMRexperiment | 0.027 | 0.000 | 0.027 | |
normFactors-set | 0.308 | 0.012 | 0.319 | |
normFactors | 0.259 | 0.000 | 0.259 | |
plotBubble | 0.282 | 0.004 | 2.489 | |
plotClassTimeSeries | 0.962 | 0.023 | 0.985 | |
plotCorr | 0.444 | 0.024 | 0.468 | |
plotFeature | 0.147 | 0.009 | 0.156 | |
plotGenus | 0.128 | 0.015 | 0.143 | |
plotMRheatmap | 1.582 | 0.024 | 1.606 | |
plotOTU | 0.141 | 0.004 | 0.144 | |
plotOrd | 0.206 | 0.004 | 0.209 | |
plotRare | 0.114 | 0.015 | 0.130 | |
plotTimeSeries | 0.946 | 0.013 | 0.958 | |
posteriorProbs | 1.713 | 0.063 | 1.777 | |
returnAppropriateObj | 0.282 | 0.004 | 0.285 | |
ssFit | 0 | 0 | 0 | |
ssIntervalCandidate | 0 | 0 | 0 | |
ssPerm | 0.001 | 0.000 | 0.001 | |
ssPermAnalysis | 0 | 0 | 0 | |
trapz | 0 | 0 | 0 | |
ts2MRexperiment | 1.488 | 0.008 | 1.496 | |
uniqueFeatures | 0.110 | 0.003 | 0.113 | |
wrenchNorm | 12.692 | 0.204 | 12.895 | |
zigControl | 0.000 | 0.000 | 0.001 | |