Back to Multiple platform build/check report for BioC 3.19: simplified long |
|
This page was generated on 2024-06-11 14:43 -0400 (Tue, 11 Jun 2024).
Hostname | OS | Arch (*) | R version | Installed pkgs |
---|---|---|---|---|
nebbiolo1 | Linux (Ubuntu 22.04.3 LTS) | x86_64 | 4.4.0 (2024-04-24) -- "Puppy Cup" | 4757 |
palomino3 | Windows Server 2022 Datacenter | x64 | 4.4.0 (2024-04-24 ucrt) -- "Puppy Cup" | 4491 |
lconway | macOS 12.7.1 Monterey | x86_64 | 4.4.0 (2024-04-24) -- "Puppy Cup" | 4522 |
kjohnson3 | macOS 13.6.5 Ventura | arm64 | 4.4.0 (2024-04-24) -- "Puppy Cup" | 4468 |
Click on any hostname to see more info about the system (e.g. compilers) (*) as reported by 'uname -p', except on Windows and Mac OS X |
Package 1207/2300 | Hostname | OS / Arch | INSTALL | BUILD | CHECK | BUILD BIN | ||||||||
metabinR 1.6.0 (landing page) Anestis Gkanogiannis
| nebbiolo1 | Linux (Ubuntu 22.04.3 LTS) / x86_64 | OK | OK | OK | |||||||||
palomino3 | Windows Server 2022 Datacenter / x64 | OK | OK | OK | OK | |||||||||
lconway | macOS 12.7.1 Monterey / x86_64 | OK | OK | OK | OK | |||||||||
kjohnson3 | macOS 13.6.5 Ventura / arm64 | OK | OK | OK | OK | |||||||||
To the developers/maintainers of the metabinR package: - Allow up to 24 hours (and sometimes 48 hours) for your latest push to git@git.bioconductor.org:packages/metabinR.git to reflect on this report. See Troubleshooting Build Report for more information. - Use the following Renviron settings to reproduce errors and warnings. - If 'R CMD check' started to fail recently on the Linux builder(s) over a missing dependency, add the missing dependency to 'Suggests:' in your DESCRIPTION file. See Renviron.bioc for more information. |
Package: metabinR |
Version: 1.6.0 |
Command: /Library/Frameworks/R.framework/Resources/bin/R CMD check --install=check:metabinR.install-out.txt --library=/Library/Frameworks/R.framework/Resources/library --no-vignettes --timings metabinR_1.6.0.tar.gz |
StartedAt: 2024-06-10 21:05:29 -0400 (Mon, 10 Jun 2024) |
EndedAt: 2024-06-10 21:07:42 -0400 (Mon, 10 Jun 2024) |
EllapsedTime: 132.7 seconds |
RetCode: 0 |
Status: OK |
CheckDir: metabinR.Rcheck |
Warnings: 0 |
############################################################################## ############################################################################## ### ### Running command: ### ### /Library/Frameworks/R.framework/Resources/bin/R CMD check --install=check:metabinR.install-out.txt --library=/Library/Frameworks/R.framework/Resources/library --no-vignettes --timings metabinR_1.6.0.tar.gz ### ############################################################################## ############################################################################## * using log directory ‘/Users/biocbuild/bbs-3.19-bioc/meat/metabinR.Rcheck’ * using R version 4.4.0 (2024-04-24) * using platform: aarch64-apple-darwin20 * R was compiled by Apple clang version 14.0.0 (clang-1400.0.29.202) GNU Fortran (GCC) 12.2.0 * running under: macOS Ventura 13.6.5 * using session charset: UTF-8 * using option ‘--no-vignettes’ * checking for file ‘metabinR/DESCRIPTION’ ... OK * checking extension type ... Package * this is package ‘metabinR’ version ‘1.6.0’ * package encoding: UTF-8 * checking package namespace information ... OK * checking package dependencies ... OK * checking if this is a source package ... OK * checking if there is a namespace ... OK * checking for hidden files and directories ... OK * checking for portable file names ... OK * checking for sufficient/correct file permissions ... OK * checking whether package ‘metabinR’ can be installed ... OK * checking installed package size ... OK * checking package directory ... OK * checking ‘build’ directory ... OK * checking DESCRIPTION meta-information ... OK * checking top-level files ... OK * checking for left-over files ... OK * checking index information ... OK * checking package subdirectories ... OK * checking code files for non-ASCII characters ... OK * checking R files for syntax errors ... OK * checking whether the package can be loaded ... OK * checking whether the package can be loaded with stated dependencies ... OK * checking whether the package can be unloaded cleanly ... OK * checking whether the namespace can be loaded with stated dependencies ... OK * checking whether the namespace can be unloaded cleanly ... OK * checking whether startup messages can be suppressed ... OK * checking dependencies in R code ... OK * checking S3 generic/method consistency ... OK * checking replacement functions ... OK * checking foreign function calls ... OK * checking R code for possible problems ... OK * checking Rd files ... OK * checking Rd metadata ... OK * checking Rd cross-references ... OK * checking for missing documentation entries ... OK * checking for code/documentation mismatches ... OK * checking Rd \usage sections ... OK * checking Rd contents ... OK * checking for unstated dependencies in examples ... OK * checking files in ‘vignettes’ ... OK * checking examples ... OK Examples with CPU (user + system) or elapsed time > 5s user system elapsed abundance_based_binning 9.601 0.772 12.905 hierarchical_binning 4.677 0.562 6.002 * checking for unstated dependencies in ‘tests’ ... OK * checking tests ... Running ‘spelling.R’ Running ‘testthat.R’ OK * checking for unstated dependencies in vignettes ... OK * checking package vignettes ... OK * checking running R code from vignettes ... SKIPPED * checking re-building of vignette outputs ... SKIPPED * checking PDF version of manual ... OK * DONE Status: OK
metabinR.Rcheck/00install.out
############################################################################## ############################################################################## ### ### Running command: ### ### /Library/Frameworks/R.framework/Resources/bin/R CMD INSTALL metabinR ### ############################################################################## ############################################################################## * installing to library ‘/Library/Frameworks/R.framework/Versions/4.4-arm64/Resources/library’ * installing *source* package ‘metabinR’ ... ** using staged installation ** R ** inst ** byte-compile and prepare package for lazy loading ** help *** installing help indices ** building package indices ** installing vignettes ** testing if installed package can be loaded from temporary location ** testing if installed package can be loaded from final location ** testing if installed package keeps a record of temporary installation path * DONE (metabinR)
metabinR.Rcheck/tests/spelling.Rout
R version 4.4.0 (2024-04-24) -- "Puppy Cup" Copyright (C) 2024 The R Foundation for Statistical Computing Platform: aarch64-apple-darwin20 R is free software and comes with ABSOLUTELY NO WARRANTY. You are welcome to redistribute it under certain conditions. Type 'license()' or 'licence()' for distribution details. R is a collaborative project with many contributors. Type 'contributors()' for more information and 'citation()' on how to cite R or R packages in publications. Type 'demo()' for some demos, 'help()' for on-line help, or 'help.start()' for an HTML browser interface to help. Type 'q()' to quit R. > if(requireNamespace('spelling', quietly = TRUE)) + spelling::spell_check_test(vignettes = TRUE, error = FALSE, + skip_on_cran = TRUE) NULL > > proc.time() user system elapsed 0.193 0.078 0.465
metabinR.Rcheck/tests/testthat.Rout
R version 4.4.0 (2024-04-24) -- "Puppy Cup" Copyright (C) 2024 The R Foundation for Statistical Computing Platform: aarch64-apple-darwin20 R is free software and comes with ABSOLUTELY NO WARRANTY. You are welcome to redistribute it under certain conditions. Type 'license()' or 'licence()' for distribution details. R is a collaborative project with many contributors. Type 'contributors()' for more information and 'citation()' on how to cite R or R packages in publications. Type 'demo()' for some demos, 'help()' for on-line help, or 'help.start()' for an HTML browser interface to help. Type 'q()' to quit R. > library(testthat) > library(metabinR) > > test_check("metabinR") version MTxAB =Sun Jun 09 15:07:41 EDT 2024 cpus=24 using=1 2024/06/10 21:06:43 Using Dictionary ORIGINAL 2024/06/10 21:06:43 START of AB Counting 2024/06/10 21:06:43 FastaManager: START READ 2024/06/10 21:06:43 SequenceProcessor: 0 AB_KMERCOUNT START CHUNK_SIZE=67108864 2024/06/10 21:06:43 FastaManager: lines read 53328 2024/06/10 21:06:44 FastaManager: END READ 2024/06/10 21:06:44 FastaManager: FASTA 2024/06/10 21:06:47 SequenceProcessor: 0 AB_KMERCOUNT EXIT 2024/06/10 21:06:47 END of AB Counting 2024/06/10 21:06:47 Loaded sequences: 26664 2024/06/10 21:06:47 Total kmers(before remove): 65536 ##### Heap utilization statistics [GB] ##### Max Memory=0.5 Current Total Memory=0.5 Current Used Memory=0.306 Current Free Memory=0.194 ############################################ 2024/06/10 21:06:48 Unique: 0 Distinct: 65536 Total: 7625904 MaxCount: 1574 2024/06/10 21:06:48 START of EMsync Run=1 Run=2 Run=3 Run=4 Run=5 Run=6 Run=7 Run=8 Run=9 Run=10 Run=11 Run=12 Run=13 Run=14 Run=15 Run=16 Run=17 Run=18 Run=19 Run=20 Run=21 Run=22 Run=23 Run=24 Run=25 2024/06/10 21:06:48 Runs=25 2024/06/10 21:06:48 END of EMsync 2024/06/10 21:06:48 START of Creating AB Cluster Vectors Cluster 1 Abundance=241.01134335779187 Length=16168.173737759447 LowLimit=163 HighLimit=318 Cluster 2 Abundance=75.538888587297 Length=49367.82626224055 LowLimit=32 HighLimit=118 2024/06/10 21:06:48 Trove size/4=18022 2024/06/10 21:06:48 Trove size/4=18022 2024/06/10 21:06:48 Cluster 2 size in kmers=65536 norm=221.81983091435748 2024/06/10 21:06:48 Cluster 1 size in kmers=65536 norm=126.50589485137961 2024/06/10 21:06:48 END of Creating AB Cluster Vectors cpus=24 using=1 2024/06/10 21:06:48 START of AB Binning 2024/06/10 21:06:48 FastaManager: START READ 2024/06/10 21:06:48 SequenceProcessor: 0 AB_BINNING START 2024/06/10 21:06:48 FastaManager: lines read 53328 2024/06/10 21:06:48 FastaManager: END READ 2024/06/10 21:06:48 FastaManager: FASTA 2024/06/10 21:06:53 SequenceProcessor: 0 AB_BINNING EXIT 2024/06/10 21:06:53 END of AB Binning Clustered reads: AB Cluster 1: 19871 AB Cluster 2: 6793 ##### Heap utilization statistics [GB] ##### Max Memory=0.5 Current Total Memory=0.5 Current Used Memory=0.273 Current Free Memory=0.227 ############################################ version MTxCB =Sun Jun 09 15:07:41 EDT 2024 cpus=24 using=1 2024/06/10 21:06:53 START of CB Counting 2024/06/10 21:06:53 FastaManager: START READ 2024/06/10 21:06:54 SequenceProcessor: 0 CB_SEQUENCEVECTORBUILD START 2024/06/10 21:06:54 FastaManager: lines read 53328 2024/06/10 21:06:54 FastaManager: END READ 2024/06/10 21:06:54 FastaManager: FASTA 2024/06/10 21:06:55 SequenceProcessor: 0 CB_SEQUENCEVECTORBUILD EXIT 2024/06/10 21:06:55 END of CB Counting 2024/06/10 21:06:55 Loaded sequences: 26664 ##### Heap utilization statistics [GB] ##### Max Memory=0.5 Current Total Memory=0.5 Current Used Memory=0.391 Current Free Memory=0.109 ############################################ cpus=24 using=1 2024/06/10 21:06:55 START of Creating CB Clusters Size=26664 K-Means clustering started ... centers initialized ... concurrent processing mode with 1 subtask threads ... iteration 1 moves = 7838 ... iteration 2 moves = 4575 ... iteration 3 moves = 1333 ... iteration 4 moves = 592 ... iteration 5 moves = 488 ... iteration 6 moves = 427 ... iteration 7 moves = 355 ... iteration 8 moves = 316 ... iteration 9 moves = 281 ... iteration 10 moves = 267 ... iteration 11 moves = 248 ... iteration 12 moves = 191 ... iteration 13 moves = 111 ... iteration 14 moves = 58 ... iteration 15 moves = 58 ... iteration 16 moves = 30 ... iteration 17 moves = 14 ... iteration 18 moves = 15 ... iteration 19 moves = 6 ... iteration 20 moves = 2 ... iteration 21 moves = 2 ... iteration 22 moves = 0 ...end. 10.989 seconds. 2024/06/10 21:07:06 : kMeans cleanup. 2024/06/10 21:07:06 END of Creating CB Clusters. cpus=24 using=1 2024/06/10 21:07:06 START of CB Binning 2024/06/10 21:07:06 FastaManager: START READ 2024/06/10 21:07:06 SequenceProcessor: 0 CB_BINNING START 2024/06/10 21:07:06 FastaManager: lines read 53328 2024/06/10 21:07:06 FastaManager: END READ 2024/06/10 21:07:06 FastaManager: FASTA 2024/06/10 21:07:06 SequenceProcessor: 0 CB_BINNING EXIT Clustered reads: CB Cluster 1: 17349 CB Cluster 2: 9315 ##### Heap utilization statistics [GB] ##### Max Memory=0.5 Current Total Memory=0.5 Current Used Memory=0.487 Current Free Memory=0.013 ############################################ version MTxABxCB =Sun Jun 09 15:07:41 EDT 2024 cpus=24 using=1 2024/06/10 21:07:07 Using Dictionary ORIGINAL 2024/06/10 21:07:07 START of AB Counting 2024/06/10 21:07:07 FastaManager: START READ 2024/06/10 21:07:07 SequenceProcessor: 0 AB_KMERCOUNT START 2024/06/10 21:07:07 FastaManager: lines read 53328 2024/06/10 21:07:07 FastaManager: END READ 2024/06/10 21:07:07 FastaManager: FASTA 2024/06/10 21:07:11 SequenceProcessor: 0 AB_KMERCOUNT EXIT 2024/06/10 21:07:11 END of AB Counting 2024/06/10 21:07:11 Loaded sequences: 26664 2024/06/10 21:07:11 Distinct kmers(before remove): 65536 ##### Heap utilization statistics [GB] ##### Max Memory=0.5 Current Total Memory=0.5 Current Used Memory=0.284 Current Free Memory=0.216 ############################################ 2024/06/10 21:07:11 Unique: 0 Distinct: 65536 Total: 7625904 MaxCount: 1574 2024/06/10 21:07:11 START of EMsync Run=1 Run=2 Run=3 Run=4 Run=5 Run=6 Run=7 Run=8 Run=9 Run=10 Run=11 Run=12 Run=13 Run=14 Run=15 Run=16 Run=17 Run=18 Run=19 Run=20 Run=21 Run=22 Run=23 Run=24 Run=25 2024/06/10 21:07:11 Runs=25 2024/06/10 21:07:11 END of EMsync 2024/06/10 21:07:11 Filter before=2 2024/06/10 21:07:11 Filter after=2 2024/06/10 21:07:11 START of Creating AB Cluster Vectors Cluster 1 Abundance=241.01134335779187 Length=16168.173737759447 LowLimit=163 HighLimit=318 Cluster 2 Abundance=75.538888587297 Length=49367.82626224055 LowLimit=32 HighLimit=118 2024/06/10 21:07:11 Trove size/4=18022 2024/06/10 21:07:11 Trove size/4=18022 2024/06/10 21:07:11 Cluster 1 size in kmers=65536 norm=126.50589485137961 2024/06/10 21:07:11 Cluster 2 size in kmers=65536 norm=221.81983091435748 2024/06/10 21:07:11 END of Creating AB Cluster Vectors cpus=24 using=1 2024/06/10 21:07:11 START of AB Binning 2024/06/10 21:07:11 FastaManager: START READ 2024/06/10 21:07:11 SequenceProcessor: 0 AB_BINNING START 2024/06/10 21:07:12 FastaManager: lines read 53328 2024/06/10 21:07:12 FastaManager: END READ 2024/06/10 21:07:12 FastaManager: FASTA 2024/06/10 21:07:16 SequenceProcessor: 0 AB_BINNING EXIT 2024/06/10 21:07:16 END of AB Binning cpus=24 using=1 2024/06/10 21:07:16 START of CB Counting 2024/06/10 21:07:16 FastaManager: START READ 2024/06/10 21:07:16 SequenceProcessor: 0 CB_SEQUENCEVECTORBUILD START 2024/06/10 21:07:16 FastaManager: lines read 53328 2024/06/10 21:07:16 FastaManager: END READ 2024/06/10 21:07:16 FastaManager: FASTA 2024/06/10 21:07:17 SequenceProcessor: 0 CB_SEQUENCEVECTORBUILD EXIT 2024/06/10 21:07:17 END of CB Counting 2024/06/10 21:07:17 Loaded sequences: 26664 ##### Heap utilization statistics [GB] ##### Max Memory=0.5 Current Total Memory=0.5 Current Used Memory=0.305 Current Free Memory=0.195 ############################################ 2024/06/10 21:07:17 AB Cluster=1 Size=19871 2024/06/10 21:07:17 AB Cluster=2 Size=6793 cpus=24 using=1 ABid size abundance EMLength newLength EMspecies newspecies ----- ---- --------- -------- --------- --------- ---------- 1 19,871 241.01134 16,168 12,367 1 1 2024/06/10 21:07:17 START of Creating CB Clusters for AB Cluster=1 Size=19871 K-Means clustering started ... centers initialized ... concurrent processing mode with 1 subtask threads ... iteration 1 moves = 0 ...end. 3.436 seconds. 2024/06/10 21:07:21 : kMeans cleanup. 2024/06/10 21:07:21 END of Creating CB Clusters for AB Cluster=1 cpus=24 using=1 ABid size abundance EMLength newLength EMspecies newspecies ----- ---- --------- -------- --------- --------- ---------- 2 6,793 75.53889 49,367 13,489 1 1 2024/06/10 21:07:21 START of Creating CB Clusters for AB Cluster=2 Size=6793 K-Means clustering started ... centers initialized ... concurrent processing mode with 1 subtask threads ... iteration 1 moves = 0 ...end. 1.183 seconds. 2024/06/10 21:07:22 : kMeans cleanup. 2024/06/10 21:07:22 END of Creating CB Clusters for AB Cluster=2 ##### Heap utilization statistics [GB] ##### Max Memory=0.5 Current Total Memory=0.5 Current Used Memory=0.358 Current Free Memory=0.142 ############################################ cpus=24 using=1 2024/06/10 21:07:22 START of CB Binning 2024/06/10 21:07:22 FastaManager: START READ 2024/06/10 21:07:22 SequenceProcessor: 0 CB_BINNING START 2024/06/10 21:07:22 FastaManager: lines read 53328 2024/06/10 21:07:22 FastaManager: END READ 2024/06/10 21:07:22 FastaManager: FASTA 2024/06/10 21:07:23 SequenceProcessor: 0 CB_BINNING EXIT Clustered reads: ABxCB Cluster 1: 19871 ABxCB Cluster 2: 6793 ##### Heap utilization statistics [GB] ##### Max Memory=0.5 Current Total Memory=0.5 Current Used Memory=0.469 Current Free Memory=0.031 ############################################ [ FAIL 0 | WARN 0 | SKIP 0 | PASS 52 ] > > proc.time() user system elapsed 34.764 1.102 42.477
metabinR.Rcheck/metabinR-Ex.timings
name | user | system | elapsed | |
abundance_based_binning | 9.601 | 0.772 | 12.905 | |
composition_based_binning | 4.417 | 0.508 | 4.259 | |
hierarchical_binning | 4.677 | 0.562 | 6.002 | |