| Back to Multiple platform build/check report for BioC 3.19: simplified long |
|
This page was generated on 2024-05-09 11:41:02 -0400 (Thu, 09 May 2024).
| Hostname | OS | Arch (*) | R version | Installed pkgs |
|---|---|---|---|---|
| nebbiolo1 | Linux (Ubuntu 22.04.3 LTS) | x86_64 | 4.4.0 (2024-04-24) -- "Puppy Cup" | 4748 |
| palomino3 | Windows Server 2022 Datacenter | x64 | 4.4.0 (2024-04-24 ucrt) -- "Puppy Cup" | 4484 |
| lconway | macOS 12.7.1 Monterey | x86_64 | 4.4.0 (2024-04-24) -- "Puppy Cup" | 4514 |
| kunpeng2 | Linux (openEuler 22.03 LTS-SP1) | aarch64 | 4.4.0 beta (2024-04-15 r86425) -- "Puppy Cup" | 4480 |
| Click on any hostname to see more info about the system (e.g. compilers) (*) as reported by 'uname -p', except on Windows and Mac OS X | ||||
| Package 1129/2300 | Hostname | OS / Arch | INSTALL | BUILD | CHECK | BUILD BIN | ||||||||
| lpsymphony 1.32.0 (landing page) Vladislav Kim
| nebbiolo1 | Linux (Ubuntu 22.04.3 LTS) / x86_64 | OK | OK | WARNINGS | |||||||||
| palomino3 | Windows Server 2022 Datacenter / x64 | OK | ERROR | skipped | skipped | |||||||||
| lconway | macOS 12.7.1 Monterey / x86_64 | OK | OK | WARNINGS | OK | |||||||||
| kunpeng2 | Linux (openEuler 22.03 LTS-SP1) / aarch64 | ERROR | ERROR | skipped | ||||||||||
| kjohnson3 | macOS 13.6.5 Ventura / arm64 | see weekly results here | ||||||||||||
|
To the developers/maintainers of the lpsymphony package: - Allow up to 24 hours (and sometimes 48 hours) for your latest push to git@git.bioconductor.org:packages/lpsymphony.git to reflect on this report. See Troubleshooting Build Report for more information. - Use the following Renviron settings to reproduce errors and warnings. - If 'R CMD check' started to fail recently on the Linux builder(s) over a missing dependency, add the missing dependency to 'Suggests:' in your DESCRIPTION file. See Renviron.bioc for more information. - See Martin Grigorov's blog post for how to debug Linux ARM64 related issues on a x86_64 host. |
| Package: lpsymphony |
| Version: 1.32.0 |
| Command: /home/biocbuild/R/R-beta-2024-04-15_r86425/bin/R CMD build --keep-empty-dirs --no-resave-data lpsymphony |
| StartedAt: 2024-05-09 01:18:07 -0000 (Thu, 09 May 2024) |
| EndedAt: 2024-05-09 01:18:11 -0000 (Thu, 09 May 2024) |
| EllapsedTime: 4.0 seconds |
| RetCode: 1 |
| Status: ERROR |
| PackageFile: None |
| PackageFileSize: NA |
##############################################################################
##############################################################################
###
### Running command:
###
### /home/biocbuild/R/R-beta-2024-04-15_r86425/bin/R CMD build --keep-empty-dirs --no-resave-data lpsymphony
###
##############################################################################
##############################################################################
* checking for file ‘lpsymphony/DESCRIPTION’ ... OK
* preparing ‘lpsymphony’:
* checking DESCRIPTION meta-information ... OK
* cleaning src
* running ‘cleanup’
* installing the package to build vignettes
-----------------------------------
* installing *source* package ‘lpsymphony’ ...
** using staged installation
CXX is g++ -std=gnu++17
CXX is g++ -std=gnu++14
configure: loading site script /home/biocbuild/tmp/RtmpEwL5h1/Rbuild304816256dd35/lpsymphony/src/SYMPHONY/share/config.site
checking build system type... ./config.guess: unable to guess system type
This script, last modified 2007-05-17, has failed to recognize
the operating system you are using. It is advised that you
download the most up to date version of the config scripts from
http://savannah.gnu.org/cgi-bin/viewcvs/*checkout*/config/config/config.guess
and
http://savannah.gnu.org/cgi-bin/viewcvs/*checkout*/config/config/config.sub
If the version you run (./config.guess) is already up to date, please
send the following data and any information you think might be
pertinent to <config-patches@gnu.org> in order to provide the needed
information to handle your system.
config.guess timestamp = 2007-05-17
uname -m = aarch64
uname -r = 5.10.0-136.63.0.143.oe2203sp1.aarch64
uname -s = Linux
uname -v = #1 SMP Tue Feb 6 13:53:32 CST 2024
/usr/bin/uname -p = aarch64
/bin/uname -X =
hostinfo =
/bin/universe =
/usr/bin/arch -k =
/bin/arch = aarch64
/usr/bin/oslevel =
/usr/convex/getsysinfo =
UNAME_MACHINE = aarch64
UNAME_RELEASE = 5.10.0-136.63.0.143.oe2203sp1.aarch64
UNAME_SYSTEM = Linux
UNAME_VERSION = #1 SMP Tue Feb 6 13:53:32 CST 2024
configure: error: cannot guess build type; you must specify one
** libs
using C++ compiler: ‘g++ (GCC) 10.3.1’
make[1]: Entering directory '/home/biocbuild/tmp/RtmpEwL5h1/Rbuild304816256dd35/lpsymphony/src/SYMPHONY'
make[1]: *** No targets specified and no makefile found. Stop.
make[1]: Leaving directory '/home/biocbuild/tmp/RtmpEwL5h1/Rbuild304816256dd35/lpsymphony/src/SYMPHONY'
make: *** [Makevars:14: SYMPHONY.ts] Error 2
ERROR: compilation failed for package ‘lpsymphony’
* removing ‘/home/biocbuild/tmp/RtmpEwL5h1/Rinst3048118115b9c/lpsymphony’
-----------------------------------
ERROR: package installation failed