| Back to Multiple platform build/check report for BioC 3.19: simplified long |
|
This page was generated on 2024-05-09 11:40:55 -0400 (Thu, 09 May 2024).
| Hostname | OS | Arch (*) | R version | Installed pkgs |
|---|---|---|---|---|
| nebbiolo1 | Linux (Ubuntu 22.04.3 LTS) | x86_64 | 4.4.0 (2024-04-24) -- "Puppy Cup" | 4748 |
| palomino3 | Windows Server 2022 Datacenter | x64 | 4.4.0 (2024-04-24 ucrt) -- "Puppy Cup" | 4484 |
| lconway | macOS 12.7.1 Monterey | x86_64 | 4.4.0 (2024-04-24) -- "Puppy Cup" | 4514 |
| kunpeng2 | Linux (openEuler 22.03 LTS-SP1) | aarch64 | 4.4.0 beta (2024-04-15 r86425) -- "Puppy Cup" | 4480 |
| Click on any hostname to see more info about the system (e.g. compilers) (*) as reported by 'uname -p', except on Windows and Mac OS X | ||||
| Package 917/2300 | Hostname | OS / Arch | INSTALL | BUILD | CHECK | BUILD BIN | ||||||||
| groHMM 1.38.0 (landing page) Tulip Nandu
| nebbiolo1 | Linux (Ubuntu 22.04.3 LTS) / x86_64 | OK | OK | WARNINGS | |||||||||
| palomino3 | Windows Server 2022 Datacenter / x64 | OK | ERROR | skipped | skipped | |||||||||
| lconway | macOS 12.7.1 Monterey / x86_64 | OK | OK | WARNINGS | OK | |||||||||
| kunpeng2 | Linux (openEuler 22.03 LTS-SP1) / aarch64 | OK | OK | WARNINGS | ||||||||||
| kjohnson3 | macOS 13.6.5 Ventura / arm64 | see weekly results here | ||||||||||||
|
To the developers/maintainers of the groHMM package: - Allow up to 24 hours (and sometimes 48 hours) for your latest push to git@git.bioconductor.org:packages/groHMM.git to reflect on this report. See Troubleshooting Build Report for more information. - Use the following Renviron settings to reproduce errors and warnings. - If 'R CMD check' started to fail recently on the Linux builder(s) over a missing dependency, add the missing dependency to 'Suggests:' in your DESCRIPTION file. See Renviron.bioc for more information. - See Martin Grigorov's blog post for how to debug Linux ARM64 related issues on a x86_64 host. |
| Package: groHMM |
| Version: 1.38.0 |
| Command: /home/biocbuild/R/R-beta-2024-04-15_r86425/bin/R CMD INSTALL groHMM |
| StartedAt: 2024-05-08 20:22:05 -0000 (Wed, 08 May 2024) |
| EndedAt: 2024-05-08 20:22:53 -0000 (Wed, 08 May 2024) |
| EllapsedTime: 49.0 seconds |
| RetCode: 0 |
| Status: OK |
##############################################################################
##############################################################################
###
### Running command:
###
### /home/biocbuild/R/R-beta-2024-04-15_r86425/bin/R CMD INSTALL groHMM
###
##############################################################################
##############################################################################
* installing to library ‘/home/biocbuild/R/R-beta-2024-04-15_r86425/site-library’
* installing *source* package ‘groHMM’ ...
** using staged installation
** libs
using C compiler: ‘gcc (GCC) 10.3.1’
gcc -I"/home/biocbuild/R/R-beta-2024-04-15_r86425/include" -DNDEBUG -I/usr/local/include -fPIC -g -O2 -Wall -c AnnotateProbes.c -o AnnotateProbes.o
gcc -I"/home/biocbuild/R/R-beta-2024-04-15_r86425/include" -DNDEBUG -I/usr/local/include -fPIC -g -O2 -Wall -c DecayAlgorithm.c -o DecayAlgorithm.o
gcc -I"/home/biocbuild/R/R-beta-2024-04-15_r86425/include" -DNDEBUG -I/usr/local/include -fPIC -g -O2 -Wall -c MLEfit.c -o MLEfit.o
In file included from MLEfit.c:43:
hmmHeader.h:301:16: warning: ‘expSum’ defined but not used [-Wunused-function]
301 | static double expSum(double *logValues, int length) {
| ^~~~~~
hmmHeader.h:281:16: warning: ‘MargainalizeSumLogProbOver’ defined but not used [-Wunused-function]
281 | static double MargainalizeSumLogProbOver(int state, int position,
| ^~~~~~~~~~~~~~~~~~~~~~~~~~
gcc -I"/home/biocbuild/R/R-beta-2024-04-15_r86425/include" -DNDEBUG -I/usr/local/include -fPIC -g -O2 -Wall -c RegisterRRoutines.c -o RegisterRRoutines.o
gcc -I"/home/biocbuild/R/R-beta-2024-04-15_r86425/include" -DNDEBUG -I/usr/local/include -fPIC -g -O2 -Wall -c Windowing.c -o Windowing.o
Windowing.c: In function ‘WindowAnalysis’:
Windowing.c:146:6: warning: unused variable ‘II’ [-Wunused-variable]
146 | int II = 0;
| ^~
gcc -I"/home/biocbuild/R/R-beta-2024-04-15_r86425/include" -DNDEBUG -I/usr/local/include -fPIC -g -O2 -Wall -c hmmEM.c -o hmmEM.o
In file included from hmmEM.c:50:
hmmHeader.h:301:16: warning: ‘expSum’ defined but not used [-Wunused-function]
301 | static double expSum(double *logValues, int length) {
| ^~~~~~
hmmHeader.h:281:16: warning: ‘MargainalizeSumLogProbOver’ defined but not used [-Wunused-function]
281 | static double MargainalizeSumLogProbOver(int state, int position,
| ^~~~~~~~~~~~~~~~~~~~~~~~~~
In file included from hmmHeader.h:36,
from hmmEM.c:50:
UsefulValues.h:39:15: warning: ‘VERY_LARGE_DOUBLE_VALUE’ defined but not used [-Wunused-variable]
39 | static double VERY_LARGE_DOUBLE_VALUE = 1e20;
| ^~~~~~~~~~~~~~~~~~~~~~~
gcc -I"/home/biocbuild/R/R-beta-2024-04-15_r86425/include" -DNDEBUG -I/usr/local/include -fPIC -g -O2 -Wall -c hmmFwBw.c -o hmmFwBw.o
hmmFwBw.c: In function ‘forward’:
hmmFwBw.c:142:7: warning: this ‘for’ clause does not guard... [-Wmisleading-indentation]
142 | for(k=1; k<n; k++)
| ^~~
hmmFwBw.c:145:9: note: ...this statement, but the latter is misleadingly indented as if it were guarded by the ‘for’
145 | for (k = 0; k<n; k++) {
| ^~~
In file included from hmmFwBw.c:45:
At top level:
hmmHeader.h:301:16: warning: ‘expSum’ defined but not used [-Wunused-function]
301 | static double expSum(double *logValues, int length) {
| ^~~~~~
hmmHeader.h:281:16: warning: ‘MargainalizeSumLogProbOver’ defined but not used [-Wunused-function]
281 | static double MargainalizeSumLogProbOver(int state, int position,
| ^~~~~~~~~~~~~~~~~~~~~~~~~~
In file included from hmmHeader.h:36,
from hmmFwBw.c:45:
UsefulValues.h:39:15: warning: ‘VERY_LARGE_DOUBLE_VALUE’ defined but not used [-Wunused-variable]
39 | static double VERY_LARGE_DOUBLE_VALUE = 1e20;
| ^~~~~~~~~~~~~~~~~~~~~~~
gcc -I"/home/biocbuild/R/R-beta-2024-04-15_r86425/include" -DNDEBUG -I/usr/local/include -fPIC -g -O2 -Wall -c hmmMiscFunctions.c -o hmmMiscFunctions.o
hmmMiscFunctions.c: In function ‘SStatsGamma’:
hmmMiscFunctions.c:235:37: warning: format ‘%d’ expects argument of type ‘int’, but argument 2 has type ‘double’ [-Wformat=]
235 | if(!(logPP <= epsilon)) Rprintf("[SSallocGamma] -- \
| ^~~~~~~~~~~~~~~~~~~~
236 | Assertion about to fail! logPP= %d\n", logPP);
| ~~~~~~~~~~~~~~~~~~~~~~~~~~~~~~~~~~~~~~ ~~~~~
| |
| double
hmmMiscFunctions.c: In function ‘SStatsNormExp’:
hmmMiscFunctions.c:384:10: warning: unused variable ‘wi’ [-Wunused-variable]
384 | double wi, *newEx;
| ^~
hmmMiscFunctions.c: In function ‘UpdateNormExp’:
hmmMiscFunctions.c:417:10: warning: unused variable ‘epsilon’ [-Wunused-variable]
417 | double epsilon=0.00001;
| ^~~~~~~
In file included from hmmHeader.h:36,
from hmmMiscFunctions.c:43:
At top level:
UsefulValues.h:39:15: warning: ‘VERY_LARGE_DOUBLE_VALUE’ defined but not used [-Wunused-variable]
39 | static double VERY_LARGE_DOUBLE_VALUE = 1e20;
| ^~~~~~~~~~~~~~~~~~~~~~~
gcc -I"/home/biocbuild/R/R-beta-2024-04-15_r86425/include" -DNDEBUG -I/usr/local/include -fPIC -g -O2 -Wall -c hmmViterbi.c -o hmmViterbi.o
In file included from hmmViterbi.c:48:
hmmHeader.h:301:16: warning: ‘expSum’ defined but not used [-Wunused-function]
301 | static double expSum(double *logValues, int length) {
| ^~~~~~
hmmHeader.h:281:16: warning: ‘MargainalizeSumLogProbOver’ defined but not used [-Wunused-function]
281 | static double MargainalizeSumLogProbOver(int state, int position,
| ^~~~~~~~~~~~~~~~~~~~~~~~~~
In file included from hmmHeader.h:36,
from hmmViterbi.c:48:
UsefulValues.h:39:15: warning: ‘VERY_LARGE_DOUBLE_VALUE’ defined but not used [-Wunused-variable]
39 | static double VERY_LARGE_DOUBLE_VALUE = 1e20;
| ^~~~~~~~~~~~~~~~~~~~~~~
gcc -shared -L/home/biocbuild/R/R-beta-2024-04-15_r86425/lib -L/usr/local/lib -o groHMM.so AnnotateProbes.o DecayAlgorithm.o MLEfit.o RegisterRRoutines.o Windowing.o hmmEM.o hmmFwBw.o hmmMiscFunctions.o hmmViterbi.o -L/home/biocbuild/R/R-beta-2024-04-15_r86425/lib -lR
installing to /home/biocbuild/R/R-beta-2024-04-15_r86425/site-library/00LOCK-groHMM/00new/groHMM/libs
** R
** inst
** byte-compile and prepare package for lazy loading
** help
*** installing help indices
** building package indices
** installing vignettes
** testing if installed package can be loaded from temporary location
** checking absolute paths in shared objects and dynamic libraries
** testing if installed package can be loaded from final location
** testing if installed package keeps a record of temporary installation path
* DONE (groHMM)