| Back to Multiple platform build/check report for BioC 3.19: simplified long | 
 | 
This page was generated on 2024-10-18 20:39 -0400 (Fri, 18 Oct 2024).
| Hostname | OS | Arch (*) | R version | Installed pkgs | 
|---|---|---|---|---|
| nebbiolo1 | Linux (Ubuntu 22.04.3 LTS) | x86_64 | 4.4.1 (2024-06-14) -- "Race for Your Life" | 4763 | 
| palomino7 | Windows Server 2022 Datacenter | x64 | 4.4.1 (2024-06-14 ucrt) -- "Race for Your Life" | 4500 | 
| merida1 | macOS 12.7.5 Monterey | x86_64 | 4.4.1 (2024-06-14) -- "Race for Your Life" | 4530 | 
| kjohnson1 | macOS 13.6.6 Ventura | arm64 | 4.4.1 (2024-06-14) -- "Race for Your Life" | 4480 | 
| Click on any hostname to see more info about the system (e.g. compilers) (*) as reported by 'uname -p', except on Windows and Mac OS X | ||||
| Package 904/2300 | Hostname | OS / Arch | INSTALL | BUILD | CHECK | BUILD BIN | ||||||||
| gpuMagic 1.20.0  (landing page) Jiefei Wang 
 | nebbiolo1 | Linux (Ubuntu 22.04.3 LTS) / x86_64 | OK | OK | WARNINGS |  | ||||||||
| palomino7 | Windows Server 2022 Datacenter / x64 | OK | OK | OK | OK |  | ||||||||
| merida1 | macOS 12.7.5 Monterey / x86_64 | OK | OK | WARNINGS | OK |  | ||||||||
| kjohnson1 | macOS 13.6.6 Ventura / arm64 | OK | ERROR | skipped | skipped | |||||||||
| To the developers/maintainers of the gpuMagic package: - Allow up to 24 hours (and sometimes 48 hours) for your latest push to git@git.bioconductor.org:packages/gpuMagic.git to reflect on this report. See Troubleshooting Build Report for more information. - Use the following Renviron settings to reproduce errors and warnings. - If 'R CMD check' started to fail recently on the Linux builder(s) over a missing dependency, add the missing dependency to 'Suggests:' in your DESCRIPTION file. See Renviron.bioc for more information. | 
| Package: gpuMagic | 
| Version: 1.20.0 | 
| Command: E:\biocbuild\bbs-3.19-bioc\R\bin\R.exe CMD INSTALL gpuMagic | 
| StartedAt: 2024-10-16 16:35:34 -0400 (Wed, 16 Oct 2024) | 
| EndedAt: 2024-10-16 16:36:37 -0400 (Wed, 16 Oct 2024) | 
| EllapsedTime: 63.2 seconds | 
| RetCode: 0 | 
| Status: OK | 
##############################################################################
##############################################################################
###
### Running command:
###
###   E:\biocbuild\bbs-3.19-bioc\R\bin\R.exe CMD INSTALL gpuMagic
###
##############################################################################
##############################################################################
* installing to library 'E:/biocbuild/bbs-3.19-bioc/R/library'
* installing *source* package 'gpuMagic' ...
** using staged installation
** libs
using C++ compiler: 'G__~1.EXE (GCC) 13.2.0'
using C++11
g++  -std=gnu++11 -I"E:/biocbuild/bbs-3.19-bioc/R/include" -DNDEBUG -IE:/biocbuild/bbs-3.19-bioc/R/include -I../inst/include/OpenCL_header -DCL_TARGET_OPENCL_VERSION=220 -DCL_USE_DEPRECATED_OPENCL_1_2_APIS -I'E:/biocbuild/bbs-3.19-bioc/R/library/Rcpp/include'   -I"C:/rtools44/x86_64-w64-mingw32.static.posix/include"     -O2 -Wall  -mfpmath=sse -msse2 -mstackrealign  -c C_Interface.cpp -o C_Interface.o
C_Interface.cpp: In function 'SEXPREC* download(SEXP)':
C_Interface.cpp:142:19: warning: 'res' may be used uninitialized [-Wmaybe-uninitialized]
  142 |         return(res);
      |                   ^
C_Interface.cpp:112:14: note: 'res' was declared here
  112 |         SEXP res;
      |              ^~~
g++  -std=gnu++11 -I"E:/biocbuild/bbs-3.19-bioc/R/include" -DNDEBUG -IE:/biocbuild/bbs-3.19-bioc/R/include -I../inst/include/OpenCL_header -DCL_TARGET_OPENCL_VERSION=220 -DCL_USE_DEPRECATED_OPENCL_1_2_APIS -I'E:/biocbuild/bbs-3.19-bioc/R/library/Rcpp/include'   -I"C:/rtools44/x86_64-w64-mingw32.static.posix/include"     -O2 -Wall  -mfpmath=sse -msse2 -mstackrealign  -c R_functionRegistration.cpp -o R_functionRegistration.o
g++  -std=gnu++11 -I"E:/biocbuild/bbs-3.19-bioc/R/include" -DNDEBUG -IE:/biocbuild/bbs-3.19-bioc/R/include -I../inst/include/OpenCL_header -DCL_TARGET_OPENCL_VERSION=220 -DCL_USE_DEPRECATED_OPENCL_1_2_APIS -I'E:/biocbuild/bbs-3.19-bioc/R/library/Rcpp/include'   -I"C:/rtools44/x86_64-w64-mingw32.static.posix/include"     -O2 -Wall  -mfpmath=sse -msse2 -mstackrealign  -c Tools.cpp -o Tools.o
g++  -std=gnu++11 -I"E:/biocbuild/bbs-3.19-bioc/R/include" -DNDEBUG -IE:/biocbuild/bbs-3.19-bioc/R/include -I../inst/include/OpenCL_header -DCL_TARGET_OPENCL_VERSION=220 -DCL_USE_DEPRECATED_OPENCL_1_2_APIS -I'E:/biocbuild/bbs-3.19-bioc/R/library/Rcpp/include'   -I"C:/rtools44/x86_64-w64-mingw32.static.posix/include"     -O2 -Wall  -mfpmath=sse -msse2 -mstackrealign  -c kernelManager.cpp -o kernelManager.o
g++  -std=gnu++11 -I"E:/biocbuild/bbs-3.19-bioc/R/include" -DNDEBUG -IE:/biocbuild/bbs-3.19-bioc/R/include -I../inst/include/OpenCL_header -DCL_TARGET_OPENCL_VERSION=220 -DCL_USE_DEPRECATED_OPENCL_1_2_APIS -I'E:/biocbuild/bbs-3.19-bioc/R/library/Rcpp/include'   -I"C:/rtools44/x86_64-w64-mingw32.static.posix/include"     -O2 -Wall  -mfpmath=sse -msse2 -mstackrealign  -c openArray.cpp -o openArray.o
g++ -shared -s -static-libgcc -o gpuMagic.dll tmp.def C_Interface.o R_functionRegistration.o Tools.o kernelManager.o openArray.o C:/Windows/system32/OpenCL.dll -LC:/rtools44/x86_64-w64-mingw32.static.posix/lib/x64 -LC:/rtools44/x86_64-w64-mingw32.static.posix/lib -LE:/biocbuild/bbs-3.19-bioc/R/bin/x64 -lR
installing to E:/biocbuild/bbs-3.19-bioc/R/library/00LOCK-gpuMagic/00new/gpuMagic/libs/x64
** R
** inst
** byte-compile and prepare package for lazy loading
** help
*** installing help indices
** building package indices
** installing vignettes
** testing if installed package can be loaded from temporary location
No device has been found, please make sure the computer has a graphic card or the driver has been properly installed.
Hint:
For CPU, you can install the intel's / ATI's graphic driver for the intel's / AMD's CPU respectively.
For GPU, you need to download the graphic driver from your vendor's website.
** testing if installed package can be loaded from final location
No device has been found, please make sure the computer has a graphic card or the driver has been properly installed.
Hint:
For CPU, you can install the intel's / ATI's graphic driver for the intel's / AMD's CPU respectively.
For GPU, you need to download the graphic driver from your vendor's website.
** testing if installed package keeps a record of temporary installation path
* DONE (gpuMagic)