Back to Multiple platform build/check report for BioC 3.19:   simplified   long
ABCDEF[G]HIJKLMNOPQRSTUVWXYZ

This page was generated on 2024-10-18 20:40 -0400 (Fri, 18 Oct 2024).

HostnameOSArch (*)R versionInstalled pkgs
nebbiolo1Linux (Ubuntu 22.04.3 LTS)x86_644.4.1 (2024-06-14) -- "Race for Your Life" 4763
palomino7Windows Server 2022 Datacenterx644.4.1 (2024-06-14 ucrt) -- "Race for Your Life" 4500
merida1macOS 12.7.5 Montereyx86_644.4.1 (2024-06-14) -- "Race for Your Life" 4530
kjohnson1macOS 13.6.6 Venturaarm644.4.1 (2024-06-14) -- "Race for Your Life" 4480
Click on any hostname to see more info about the system (e.g. compilers)      (*) as reported by 'uname -p', except on Windows and Mac OS X

Package 861/2300HostnameOS / ArchINSTALLBUILDCHECKBUILD BIN
ggkegg 1.2.3  (landing page)
Noriaki Sato
Snapshot Date: 2024-10-16 14:00 -0400 (Wed, 16 Oct 2024)
git_url: https://git.bioconductor.org/packages/ggkegg
git_branch: RELEASE_3_19
git_last_commit: 95d38c0
git_last_commit_date: 2024-08-27 22:23:38 -0400 (Tue, 27 Aug 2024)
nebbiolo1Linux (Ubuntu 22.04.3 LTS) / x86_64  OK    OK    OK  UNNEEDED, same version is already published
palomino7Windows Server 2022 Datacenter / x64  OK    OK    OK    OK  UNNEEDED, same version is already published
merida1macOS 12.7.5 Monterey / x86_64  OK    OK    OK    OK  UNNEEDED, same version is already published
kjohnson1macOS 13.6.6 Ventura / arm64  OK    OK    OK    OK  UNNEEDED, same version is already published


CHECK results for ggkegg on merida1

To the developers/maintainers of the ggkegg package:
- Allow up to 24 hours (and sometimes 48 hours) for your latest push to git@git.bioconductor.org:packages/ggkegg.git to reflect on this report. See Troubleshooting Build Report for more information.
- Use the following Renviron settings to reproduce errors and warnings.
- If 'R CMD check' started to fail recently on the Linux builder(s) over a missing dependency, add the missing dependency to 'Suggests:' in your DESCRIPTION file. See Renviron.bioc for more information.

raw results


Summary

Package: ggkegg
Version: 1.2.3
Command: /Library/Frameworks/R.framework/Resources/bin/R CMD check --install=check:ggkegg.install-out.txt --library=/Library/Frameworks/R.framework/Resources/library --no-vignettes --timings ggkegg_1.2.3.tar.gz
StartedAt: 2024-10-17 06:03:24 -0400 (Thu, 17 Oct 2024)
EndedAt: 2024-10-17 06:09:41 -0400 (Thu, 17 Oct 2024)
EllapsedTime: 377.1 seconds
RetCode: 0
Status:   OK  
CheckDir: ggkegg.Rcheck
Warnings: 0

Command output

##############################################################################
##############################################################################
###
### Running command:
###
###   /Library/Frameworks/R.framework/Resources/bin/R CMD check --install=check:ggkegg.install-out.txt --library=/Library/Frameworks/R.framework/Resources/library --no-vignettes --timings ggkegg_1.2.3.tar.gz
###
##############################################################################
##############################################################################


* using log directory ‘/Users/biocbuild/bbs-3.19-bioc/meat/ggkegg.Rcheck’
* using R version 4.4.1 (2024-06-14)
* using platform: x86_64-apple-darwin20
* R was compiled by
    Apple clang version 14.0.0 (clang-1400.0.29.202)
    GNU Fortran (GCC) 12.2.0
* running under: macOS Monterey 12.7.6
* using session charset: UTF-8
* using option ‘--no-vignettes’
* checking for file ‘ggkegg/DESCRIPTION’ ... OK
* checking extension type ... Package
* this is package ‘ggkegg’ version ‘1.2.3’
* package encoding: UTF-8
* checking package namespace information ... OK
* checking package dependencies ... OK
* checking if this is a source package ... OK
* checking if there is a namespace ... OK
* checking for hidden files and directories ... OK
* checking for portable file names ... OK
* checking for sufficient/correct file permissions ... OK
* checking whether package ‘ggkegg’ can be installed ... OK
* checking installed package size ... OK
* checking package directory ... OK
* checking ‘build’ directory ... OK
* checking DESCRIPTION meta-information ... NOTE
License stub is invalid DCF.
* checking top-level files ... OK
* checking for left-over files ... OK
* checking index information ... OK
* checking package subdirectories ... OK
* checking code files for non-ASCII characters ... OK
* checking R files for syntax errors ... OK
* checking whether the package can be loaded ... OK
* checking whether the package can be loaded with stated dependencies ... OK
* checking whether the package can be unloaded cleanly ... OK
* checking whether the namespace can be loaded with stated dependencies ... OK
* checking whether the namespace can be unloaded cleanly ... OK
* checking dependencies in R code ... OK
* checking S3 generic/method consistency ... OK
* checking replacement functions ... OK
* checking foreign function calls ... OK
* checking R code for possible problems ... OK
* checking Rd files ... OK
* checking Rd metadata ... OK
* checking Rd cross-references ... OK
* checking for missing documentation entries ... OK
* checking for code/documentation mismatches ... OK
* checking Rd \usage sections ... OK
* checking Rd contents ... OK
* checking for unstated dependencies in examples ... OK
* checking files in ‘vignettes’ ... OK
* checking examples ... OK
Examples with CPU (user + system) or elapsed time > 5s
                   user system elapsed
append_cp         4.934  0.296  10.512
rawMap            1.923  0.106   6.872
pathway_abundance 0.573  0.028   7.931
* checking for unstated dependencies in ‘tests’ ... OK
* checking tests ...
  Running ‘testthat.R’
 OK
* checking for unstated dependencies in vignettes ... OK
* checking package vignettes ... OK
* checking running R code from vignettes ... SKIPPED
* checking re-building of vignette outputs ... SKIPPED
* checking PDF version of manual ... OK
* DONE

Status: 1 NOTE
See
  ‘/Users/biocbuild/bbs-3.19-bioc/meat/ggkegg.Rcheck/00check.log’
for details.


Installation output

ggkegg.Rcheck/00install.out

##############################################################################
##############################################################################
###
### Running command:
###
###   /Library/Frameworks/R.framework/Resources/bin/R CMD INSTALL ggkegg
###
##############################################################################
##############################################################################


* installing to library ‘/Library/Frameworks/R.framework/Versions/4.4-x86_64/Resources/library’
* installing *source* package ‘ggkegg’ ...
** using staged installation
** R
** inst
** byte-compile and prepare package for lazy loading
** help
*** installing help indices
*** copying figures
** building package indices
** installing vignettes
** testing if installed package can be loaded from temporary location
** testing if installed package can be loaded from final location
** testing if installed package keeps a record of temporary installation path
* DONE (ggkegg)

Tests output

ggkegg.Rcheck/tests/testthat.Rout


R version 4.4.1 (2024-06-14) -- "Race for Your Life"
Copyright (C) 2024 The R Foundation for Statistical Computing
Platform: x86_64-apple-darwin20

R is free software and comes with ABSOLUTELY NO WARRANTY.
You are welcome to redistribute it under certain conditions.
Type 'license()' or 'licence()' for distribution details.

R is a collaborative project with many contributors.
Type 'contributors()' for more information and
'citation()' on how to cite R or R packages in publications.

Type 'demo()' for some demos, 'help()' for on-line help, or
'help.start()' for an HTML browser interface to help.
Type 'q()' to quit R.

> # This file is part of the standard setup for testthat.
> # It is recommended that you do not modify it.
> #
> # Where should you do additional test configuration?
> # Learn more about the roles of various files in:
> # * https://r-pkgs.org/tests.html
> # * https://testthat.r-lib.org/reference/test_package.html#special-files
> 
> library(testthat)
> library(ggkegg)
Loading required package: ggplot2
Loading required package: ggraph
Loading required package: XML
Loading required package: igraph

Attaching package: 'igraph'

The following object is masked from 'package:testthat':

    compare

The following objects are masked from 'package:stats':

    decompose, spectrum

The following object is masked from 'package:base':

    union

Loading required package: tidygraph

Attaching package: 'tidygraph'

The following object is masked from 'package:igraph':

    groups

The following object is masked from 'package:testthat':

    matches

The following object is masked from 'package:stats':

    filter


> 
> test_check("ggkegg")
trying URL 'https://rest.kegg.jp/get/M00004'
downloaded 2246 bytes

trying URL 'https://rest.kegg.jp/get/N00002'
downloaded 2119 bytes

trying URL 'https://rest.kegg.jp/get/hsa04110/kgml'
downloaded 51 KB

[ FAIL 0 | WARN 5 | SKIP 0 | PASS 20 ]

[ FAIL 0 | WARN 5 | SKIP 0 | PASS 20 ]
> 
> proc.time()
   user  system elapsed 
 16.026   0.995  23.244 

Example timings

ggkegg.Rcheck/ggkegg-Ex.timings

nameusersystemelapsed
append_cp 4.934 0.29610.512
append_label_position0.1260.0020.151
assign_deseq20.0200.0010.023
carrow0.0010.0010.002
combine_with_bnlearn0.1880.0090.233
convert_id1.0190.0611.227
create_test_module0.0440.0020.051
create_test_network0.0080.0000.008
create_test_pathway0.1730.0050.197
edge_matrix0.0530.0010.066
edge_numeric0.0210.0010.023
edge_numeric_sum0.0540.0010.063
geom_kegg0.1000.0020.117
geom_node_rect0.0310.0010.037
geom_node_rect_kegg0.0370.0010.040
geom_node_rect_multi0.1930.0140.229
geom_node_shadowtext0.0370.0060.052
ggkegg0.5390.0731.790
ggplot_add.geom_kegg0.0690.0100.090
ggplot_add.geom_node_rect_kegg0.0380.0060.052
ggplot_add.geom_node_rect_multi0.1500.0210.179
ggplot_add.overlay_raw_map0.9030.0961.150
ggplot_add.stamp0.0380.0020.047
highlight_entities1.3400.0711.661
highlight_module0.0400.0010.049
highlight_set_edges0.0200.0000.023
highlight_set_nodes0.0260.0010.030
module0.0930.0040.805
module_abundance0.0720.0010.072
module_completeness0.0100.0010.010
module_text0.0130.0010.014
multi_pathway_native0.5770.0121.239
network0.0390.0040.899
network_graph0.0240.0010.026
node_matrix0.0280.0040.031
node_numeric0.0190.0030.021
obtain_sequential_module_definition0.7060.0100.771
output_overlay_image000
overlay_raw_map0.8560.0451.051
pathway0.3700.0040.515
pathway_abundance0.5730.0287.931
pathway_info0.0440.0130.839
plot_kegg_network0.1360.0050.141
plot_module_blocks0.1340.0090.153
plot_module_text0.1480.0110.192
process_line0.0290.0020.037
process_reaction0.0220.0020.032
rawMap1.9230.1066.872
rawValue0.0470.0010.056
return_line_compounds0.0370.0010.046
stamp0.0360.0000.042