| Back to Multiple platform build/check report for BioC 3.19: simplified long |
|
This page was generated on 2024-10-18 20:38 -0400 (Fri, 18 Oct 2024).
| Hostname | OS | Arch (*) | R version | Installed pkgs |
|---|---|---|---|---|
| nebbiolo1 | Linux (Ubuntu 22.04.3 LTS) | x86_64 | 4.4.1 (2024-06-14) -- "Race for Your Life" | 4763 |
| palomino7 | Windows Server 2022 Datacenter | x64 | 4.4.1 (2024-06-14 ucrt) -- "Race for Your Life" | 4500 |
| merida1 | macOS 12.7.5 Monterey | x86_64 | 4.4.1 (2024-06-14) -- "Race for Your Life" | 4530 |
| kjohnson1 | macOS 13.6.6 Ventura | arm64 | 4.4.1 (2024-06-14) -- "Race for Your Life" | 4480 |
| Click on any hostname to see more info about the system (e.g. compilers) (*) as reported by 'uname -p', except on Windows and Mac OS X | ||||
| Package 797/2300 | Hostname | OS / Arch | INSTALL | BUILD | CHECK | BUILD BIN | ||||||||
| gemma.R 3.0.14 (landing page) Ogan Mancarci
| nebbiolo1 | Linux (Ubuntu 22.04.3 LTS) / x86_64 | OK | OK | OK | |||||||||
| palomino7 | Windows Server 2022 Datacenter / x64 | OK | OK | OK | OK | |||||||||
| merida1 | macOS 12.7.5 Monterey / x86_64 | OK | OK | OK | OK | |||||||||
| kjohnson1 | macOS 13.6.6 Ventura / arm64 | OK | OK | OK | OK | |||||||||
|
To the developers/maintainers of the gemma.R package: - Allow up to 24 hours (and sometimes 48 hours) for your latest push to git@git.bioconductor.org:packages/gemma.R.git to reflect on this report. See Troubleshooting Build Report for more information. - Use the following Renviron settings to reproduce errors and warnings. - If 'R CMD check' started to fail recently on the Linux builder(s) over a missing dependency, add the missing dependency to 'Suggests:' in your DESCRIPTION file. See Renviron.bioc for more information. |
| Package: gemma.R |
| Version: 3.0.14 |
| Command: /home/biocbuild/bbs-3.19-bioc/R/bin/R CMD check --install=check:gemma.R.install-out.txt --library=/home/biocbuild/bbs-3.19-bioc/R/site-library --timings gemma.R_3.0.14.tar.gz |
| StartedAt: 2024-10-17 00:40:10 -0400 (Thu, 17 Oct 2024) |
| EndedAt: 2024-10-17 00:52:40 -0400 (Thu, 17 Oct 2024) |
| EllapsedTime: 750.5 seconds |
| RetCode: 0 |
| Status: OK |
| CheckDir: gemma.R.Rcheck |
| Warnings: 0 |
##############################################################################
##############################################################################
###
### Running command:
###
### /home/biocbuild/bbs-3.19-bioc/R/bin/R CMD check --install=check:gemma.R.install-out.txt --library=/home/biocbuild/bbs-3.19-bioc/R/site-library --timings gemma.R_3.0.14.tar.gz
###
##############################################################################
##############################################################################
* using log directory ‘/home/biocbuild/bbs-3.19-bioc/meat/gemma.R.Rcheck’
* using R version 4.4.1 (2024-06-14)
* using platform: x86_64-pc-linux-gnu
* R was compiled by
gcc (Ubuntu 11.4.0-1ubuntu1~22.04) 11.4.0
GNU Fortran (Ubuntu 11.4.0-1ubuntu1~22.04) 11.4.0
* running under: Ubuntu 22.04.5 LTS
* using session charset: UTF-8
* checking for file ‘gemma.R/DESCRIPTION’ ... OK
* this is package ‘gemma.R’ version ‘3.0.14’
* package encoding: UTF-8
* checking package namespace information ... OK
* checking package dependencies ... OK
* checking if this is a source package ... OK
* checking if there is a namespace ... OK
* checking for hidden files and directories ... OK
* checking for portable file names ... OK
* checking for sufficient/correct file permissions ... OK
* checking whether package ‘gemma.R’ can be installed ... OK
* checking installed package size ... OK
* checking package directory ... OK
* checking ‘build’ directory ... OK
* checking DESCRIPTION meta-information ... OK
* checking top-level files ... OK
* checking for left-over files ... OK
* checking index information ... OK
* checking package subdirectories ... OK
* checking code files for non-ASCII characters ... OK
* checking R files for syntax errors ... OK
* checking whether the package can be loaded ... OK
* checking whether the package can be loaded with stated dependencies ... OK
* checking whether the package can be unloaded cleanly ... OK
* checking whether the namespace can be loaded with stated dependencies ... OK
* checking whether the namespace can be unloaded cleanly ... OK
* checking loading without being on the library search path ... OK
* checking dependencies in R code ... OK
* checking S3 generic/method consistency ... OK
* checking replacement functions ... OK
* checking foreign function calls ... OK
* checking R code for possible problems ... OK
* checking Rd files ... OK
* checking Rd metadata ... OK
* checking Rd cross-references ... OK
* checking for missing documentation entries ... OK
* checking for code/documentation mismatches ... OK
* checking Rd \usage sections ... OK
* checking Rd contents ... OK
* checking for unstated dependencies in examples ... OK
* checking files in ‘vignettes’ ... OK
* checking examples ... OK
Examples with CPU (user + system) or elapsed time > 5s
user system elapsed
get_dataset_object 8.272 0.473 13.651
get_dataset_processed_expression 1.159 0.045 5.864
get_dataset_raw_expression 1.056 0.063 6.682
get_dataset_expression 0.865 0.096 8.912
get_gene_differential_expression_values 0.732 0.072 5.527
update_result 0.752 0.011 5.400
get_dataset_differential_expression_analyses 0.423 0.059 6.854
* checking for unstated dependencies in ‘tests’ ... OK
* checking tests ...
Running ‘testthat.R’
OK
* checking for unstated dependencies in vignettes ... OK
* checking package vignettes ... OK
* checking re-building of vignette outputs ... OK
* checking PDF version of manual ... OK
* DONE
Status: OK
gemma.R.Rcheck/00install.out
############################################################################## ############################################################################## ### ### Running command: ### ### /home/biocbuild/bbs-3.19-bioc/R/bin/R CMD INSTALL gemma.R ### ############################################################################## ############################################################################## * installing to library ‘/home/biocbuild/bbs-3.19-bioc/R/site-library’ * installing *source* package ‘gemma.R’ ... ** using staged installation ** R ** inst ** byte-compile and prepare package for lazy loading ** help *** installing help indices *** copying figures ** building package indices ** installing vignettes ** testing if installed package can be loaded from temporary location ** testing if installed package can be loaded from final location ** testing if installed package keeps a record of temporary installation path * DONE (gemma.R)
gemma.R.Rcheck/tests/testthat.Rout
R version 4.4.1 (2024-06-14) -- "Race for Your Life"
Copyright (C) 2024 The R Foundation for Statistical Computing
Platform: x86_64-pc-linux-gnu
R is free software and comes with ABSOLUTELY NO WARRANTY.
You are welcome to redistribute it under certain conditions.
Type 'license()' or 'licence()' for distribution details.
R is a collaborative project with many contributors.
Type 'contributors()' for more information and
'citation()' on how to cite R or R packages in publications.
Type 'demo()' for some demos, 'help()' for on-line help, or
'help.start()' for an HTML browser interface to help.
Type 'q()' to quit R.
> library(testthat)
> library(dplyr)
Attaching package: 'dplyr'
The following object is masked from 'package:testthat':
matches
The following objects are masked from 'package:stats':
filter, lag
The following objects are masked from 'package:base':
intersect, setdiff, setequal, union
>
> # Prevent certificate issues for GitHub actions
> options(gemma.SSL = FALSE)
> # get gemma api path if it's set in the environment
> gemma.R:::setGemmaPath('prod')
[1] "https://gemma.msl.ubc.ca/rest/v2/"
> print(gemma.R:::gemmaPath())
[1] "https://gemma.msl.ubc.ca/rest/v2/"
> test_check("gemma.R")
Loading required package: gemma.R
[ FAIL 0 | WARN 0 | SKIP 4 | PASS 193 ]
══ Skipped tests (4) ═══════════════════════════════════════════════════════════
• On Bioconductor (4): 'testCaches.R:37:3', 'testConvenience.R:15:5',
'testConvenience.R:37:5', 'testDatasetEndpoints.R:86:5'
[ FAIL 0 | WARN 0 | SKIP 4 | PASS 193 ]
>
>
>
> proc.time()
user system elapsed
68.092 3.994 350.184
gemma.R.Rcheck/gemma.R-Ex.timings
| name | user | system | elapsed | |
| dot-getResultSets | 0.001 | 0.000 | 0.000 | |
| filter_properties | 0.094 | 0.004 | 0.098 | |
| forget_gemma_memoised | 0.023 | 0.009 | 0.047 | |
| gemma_call | 0.217 | 0.024 | 0.981 | |
| get_child_terms | 0.311 | 0.025 | 0.434 | |
| get_dataset_annotations | 0.009 | 0.000 | 0.096 | |
| get_dataset_design | 0.245 | 0.000 | 0.376 | |
| get_dataset_differential_expression_analyses | 0.423 | 0.059 | 6.854 | |
| get_dataset_expression | 0.865 | 0.096 | 8.912 | |
| get_dataset_expression_for_genes | 0.267 | 0.064 | 0.818 | |
| get_dataset_object | 8.272 | 0.473 | 13.651 | |
| get_dataset_platforms | 0.071 | 0.004 | 0.312 | |
| get_dataset_processed_expression | 1.159 | 0.045 | 5.864 | |
| get_dataset_quantitation_types | 0.010 | 0.000 | 0.236 | |
| get_dataset_raw_expression | 1.056 | 0.063 | 6.682 | |
| get_dataset_samples | 0.187 | 0.015 | 0.681 | |
| get_datasets | 0.167 | 0.052 | 4.360 | |
| get_datasets_by_ids | 0.043 | 0.004 | 0.217 | |
| get_differential_expression_values | 0.246 | 0.036 | 3.323 | |
| get_gene_differential_expression_values | 0.732 | 0.072 | 5.527 | |
| get_gene_go_terms | 0.053 | 0.004 | 0.361 | |
| get_gene_locations | 0.029 | 0.000 | 0.242 | |
| get_gene_probes | 0.033 | 0.008 | 0.337 | |
| get_genes | 0.036 | 0.004 | 0.225 | |
| get_platform_annotations | 0.774 | 0.049 | 3.476 | |
| get_platform_datasets | 0.071 | 0.000 | 0.370 | |
| get_platform_element_genes | 0.016 | 0.000 | 0.125 | |
| get_platforms_by_ids | 0.043 | 0.000 | 0.253 | |
| get_result_sets | 0.081 | 0.004 | 0.283 | |
| get_taxa | 0.019 | 0.000 | 0.096 | |
| get_taxa_by_ids | 0.013 | 0.004 | 0.093 | |
| get_taxon_datasets | 0.040 | 0.003 | 0.539 | |
| make_design | 0.586 | 0.011 | 1.101 | |
| search_annotations | 0.014 | 0.000 | 0.092 | |
| search_datasets | 0.035 | 0.008 | 0.465 | |
| search_gemma | 0.087 | 0.019 | 0.522 | |
| update_result | 0.752 | 0.011 | 5.400 | |