Back to Multiple platform build/check report for BioC 3.19: simplified long |
|
This page was generated on 2024-05-09 11:40:54 -0400 (Thu, 09 May 2024).
Hostname | OS | Arch (*) | R version | Installed pkgs |
---|---|---|---|---|
nebbiolo1 | Linux (Ubuntu 22.04.3 LTS) | x86_64 | 4.4.0 (2024-04-24) -- "Puppy Cup" | 4748 |
palomino3 | Windows Server 2022 Datacenter | x64 | 4.4.0 (2024-04-24 ucrt) -- "Puppy Cup" | 4484 |
lconway | macOS 12.7.1 Monterey | x86_64 | 4.4.0 (2024-04-24) -- "Puppy Cup" | 4514 |
kunpeng2 | Linux (openEuler 22.03 LTS-SP1) | aarch64 | 4.4.0 beta (2024-04-15 r86425) -- "Puppy Cup" | 4480 |
Click on any hostname to see more info about the system (e.g. compilers) (*) as reported by 'uname -p', except on Windows and Mac OS X |
Package 873/2300 | Hostname | OS / Arch | INSTALL | BUILD | CHECK | BUILD BIN | ||||||||
gINTomics 1.0.0 (landing page) Angelo Velle
| nebbiolo1 | Linux (Ubuntu 22.04.3 LTS) / x86_64 | OK | OK | ERROR | |||||||||
palomino3 | Windows Server 2022 Datacenter / x64 | OK | ERROR | skipped | skipped | |||||||||
lconway | macOS 12.7.1 Monterey / x86_64 | OK | OK | OK | OK | |||||||||
kunpeng2 | Linux (openEuler 22.03 LTS-SP1) / aarch64 | OK | OK | OK | ||||||||||
kjohnson3 | macOS 13.6.5 Ventura / arm64 | see weekly results here | ||||||||||||
To the developers/maintainers of the gINTomics package: - Allow up to 24 hours (and sometimes 48 hours) for your latest push to git@git.bioconductor.org:packages/gINTomics.git to reflect on this report. See Troubleshooting Build Report for more information. - Use the following Renviron settings to reproduce errors and warnings. - If 'R CMD check' started to fail recently on the Linux builder(s) over a missing dependency, add the missing dependency to 'Suggests:' in your DESCRIPTION file. See Renviron.bioc for more information. - See Martin Grigorov's blog post for how to debug Linux ARM64 related issues on a x86_64 host. |
Package: gINTomics |
Version: 1.0.0 |
Command: /home/biocbuild/R/R-beta-2024-04-15_r86425/bin/R CMD INSTALL gINTomics |
StartedAt: 2024-05-08 20:50:01 -0000 (Wed, 08 May 2024) |
EndedAt: 2024-05-08 20:51:40 -0000 (Wed, 08 May 2024) |
EllapsedTime: 98.9 seconds |
RetCode: 0 |
Status: OK |
############################################################################## ############################################################################## ### ### Running command: ### ### /home/biocbuild/R/R-beta-2024-04-15_r86425/bin/R CMD INSTALL gINTomics ### ############################################################################## ############################################################################## * installing to library ‘/home/biocbuild/R/R-beta-2024-04-15_r86425/site-library’ * installing *source* package ‘gINTomics’ ... ** using staged installation ** R [2024-05-08 20:50:19] [TRACE] [OmnipathR] Reading JSON from `/home/biocbuild/.cache/OmnipathR/cache.json` (encoding: UTF-8). [2024-05-08 20:50:19] [TRACE] [OmnipathR] JSON validation successful: TRUE [2024-05-08 20:50:19] [INFO] [OmnipathR] Initialized cache: `/home/biocbuild/.cache/OmnipathR`. [2024-05-08 20:50:19] [TRACE] [OmnipathR] Running on a build server, wiping cache. [2024-05-08 20:50:19] [TRACE] [OmnipathR] Cache is at `/home/biocbuild/.cache/OmnipathR`. [2024-05-08 20:50:19] [TRACE] [OmnipathR] Contains 1 files. [2024-05-08 20:50:19] [TRACE] [OmnipathR] Cache is locked: FALSE. [2024-05-08 20:50:19] [TRACE] [OmnipathR] Reading JSON from `/home/biocbuild/.cache/OmnipathR/cache.json` (encoding: UTF-8). [2024-05-08 20:50:19] [TRACE] [OmnipathR] JSON validation successful: TRUE [2024-05-08 20:50:19] [SUCCESS] [OmnipathR] Removing all cache contents from `/home/biocbuild/.cache/OmnipathR`. [2024-05-08 20:50:19] [TRACE] [OmnipathR] Pandoc version: `2.12`. [2024-05-08 20:50:19] [TRACE] [OmnipathR] Reading JSON from `/home/biocbuild/R/R-beta-2024-04-15_r86425/site-library/OmnipathR/db/db_def.json` (encoding: UTF-8). [2024-05-08 20:50:19] [TRACE] [OmnipathR] JSON validation successful: TRUE [2024-05-08 20:50:19] [TRACE] [OmnipathR] Reading JSON from `/home/biocbuild/R/R-beta-2024-04-15_r86425/site-library/OmnipathR/internal/magic_bytes.json` (encoding: UTF-8). [2024-05-08 20:50:19] [TRACE] [OmnipathR] JSON validation successful: TRUE [2024-05-08 20:50:19] [TRACE] [OmnipathR] Reading JSON from `/home/biocbuild/R/R-beta-2024-04-15_r86425/site-library/OmnipathR/internal/urls.json` (encoding: UTF-8). [2024-05-08 20:50:19] [TRACE] [OmnipathR] JSON validation successful: TRUE [2024-05-08 20:50:19] [TRACE] [OmnipathR] Reading JSON from `/home/biocbuild/R/R-beta-2024-04-15_r86425/site-library/OmnipathR/internal/id_types.json` (encoding: UTF-8). [2024-05-08 20:50:19] [TRACE] [OmnipathR] JSON validation successful: TRUE [2024-05-08 20:50:19] [TRACE] [OmnipathR] Cache locked: FALSE ** data ** inst ** byte-compile and prepare package for lazy loading [2024-05-08 20:50:42] [TRACE] [OmnipathR] Reading JSON from `/home/biocbuild/.cache/OmnipathR/cache.json` (encoding: UTF-8). [2024-05-08 20:50:42] [TRACE] [OmnipathR] JSON validation successful: TRUE [2024-05-08 20:50:42] [INFO] [OmnipathR] Initialized cache: `/home/biocbuild/.cache/OmnipathR`. [2024-05-08 20:50:42] [TRACE] [OmnipathR] Running on a build server, wiping cache. [2024-05-08 20:50:42] [TRACE] [OmnipathR] Cache is at `/home/biocbuild/.cache/OmnipathR`. [2024-05-08 20:50:42] [TRACE] [OmnipathR] Contains 1 files. [2024-05-08 20:50:42] [TRACE] [OmnipathR] Cache is locked: FALSE. [2024-05-08 20:50:42] [TRACE] [OmnipathR] Reading JSON from `/home/biocbuild/.cache/OmnipathR/cache.json` (encoding: UTF-8). [2024-05-08 20:50:42] [TRACE] [OmnipathR] JSON validation successful: TRUE [2024-05-08 20:50:42] [SUCCESS] [OmnipathR] Removing all cache contents from `/home/biocbuild/.cache/OmnipathR`. [2024-05-08 20:50:42] [TRACE] [OmnipathR] Pandoc version: `2.12`. [2024-05-08 20:50:42] [TRACE] [OmnipathR] Reading JSON from `/home/biocbuild/R/R-beta-2024-04-15_r86425/site-library/OmnipathR/db/db_def.json` (encoding: UTF-8). [2024-05-08 20:50:42] [TRACE] [OmnipathR] JSON validation successful: TRUE [2024-05-08 20:50:42] [TRACE] [OmnipathR] Reading JSON from `/home/biocbuild/R/R-beta-2024-04-15_r86425/site-library/OmnipathR/internal/magic_bytes.json` (encoding: UTF-8). [2024-05-08 20:50:42] [TRACE] [OmnipathR] JSON validation successful: TRUE [2024-05-08 20:50:42] [TRACE] [OmnipathR] Reading JSON from `/home/biocbuild/R/R-beta-2024-04-15_r86425/site-library/OmnipathR/internal/urls.json` (encoding: UTF-8). [2024-05-08 20:50:42] [TRACE] [OmnipathR] JSON validation successful: TRUE [2024-05-08 20:50:42] [TRACE] [OmnipathR] Reading JSON from `/home/biocbuild/R/R-beta-2024-04-15_r86425/site-library/OmnipathR/internal/id_types.json` (encoding: UTF-8). [2024-05-08 20:50:42] [TRACE] [OmnipathR] JSON validation successful: TRUE [2024-05-08 20:50:42] [TRACE] [OmnipathR] Cache locked: FALSE ** help *** installing help indices *** copying figures ** building package indices ** installing vignettes ** testing if installed package can be loaded from temporary location [2024-05-08 20:51:10] [TRACE] [OmnipathR] Reading JSON from `/home/biocbuild/.cache/OmnipathR/cache.json` (encoding: UTF-8). [2024-05-08 20:51:10] [TRACE] [OmnipathR] JSON validation successful: TRUE [2024-05-08 20:51:10] [INFO] [OmnipathR] Initialized cache: `/home/biocbuild/.cache/OmnipathR`. [2024-05-08 20:51:10] [TRACE] [OmnipathR] Running on a build server, wiping cache. [2024-05-08 20:51:10] [TRACE] [OmnipathR] Cache is at `/home/biocbuild/.cache/OmnipathR`. [2024-05-08 20:51:10] [TRACE] [OmnipathR] Contains 1 files. [2024-05-08 20:51:10] [TRACE] [OmnipathR] Cache is locked: FALSE. [2024-05-08 20:51:10] [TRACE] [OmnipathR] Reading JSON from `/home/biocbuild/.cache/OmnipathR/cache.json` (encoding: UTF-8). [2024-05-08 20:51:10] [TRACE] [OmnipathR] JSON validation successful: TRUE [2024-05-08 20:51:10] [SUCCESS] [OmnipathR] Removing all cache contents from `/home/biocbuild/.cache/OmnipathR`. [2024-05-08 20:51:10] [TRACE] [OmnipathR] Pandoc version: `2.12`. [2024-05-08 20:51:10] [TRACE] [OmnipathR] Reading JSON from `/home/biocbuild/R/R-beta-2024-04-15_r86425/site-library/OmnipathR/db/db_def.json` (encoding: UTF-8). [2024-05-08 20:51:10] [TRACE] [OmnipathR] JSON validation successful: TRUE [2024-05-08 20:51:10] [TRACE] [OmnipathR] Reading JSON from `/home/biocbuild/R/R-beta-2024-04-15_r86425/site-library/OmnipathR/internal/magic_bytes.json` (encoding: UTF-8). [2024-05-08 20:51:10] [TRACE] [OmnipathR] JSON validation successful: TRUE [2024-05-08 20:51:10] [TRACE] [OmnipathR] Reading JSON from `/home/biocbuild/R/R-beta-2024-04-15_r86425/site-library/OmnipathR/internal/urls.json` (encoding: UTF-8). [2024-05-08 20:51:10] [TRACE] [OmnipathR] JSON validation successful: TRUE [2024-05-08 20:51:10] [TRACE] [OmnipathR] Reading JSON from `/home/biocbuild/R/R-beta-2024-04-15_r86425/site-library/OmnipathR/internal/id_types.json` (encoding: UTF-8). [2024-05-08 20:51:10] [TRACE] [OmnipathR] JSON validation successful: TRUE [2024-05-08 20:51:10] [TRACE] [OmnipathR] Cache locked: FALSE ** testing if installed package can be loaded from final location [2024-05-08 20:51:33] [TRACE] [OmnipathR] Reading JSON from `/home/biocbuild/.cache/OmnipathR/cache.json` (encoding: UTF-8). [2024-05-08 20:51:33] [TRACE] [OmnipathR] JSON validation successful: TRUE [2024-05-08 20:51:33] [INFO] [OmnipathR] Initialized cache: `/home/biocbuild/.cache/OmnipathR`. [2024-05-08 20:51:33] [TRACE] [OmnipathR] Running on a build server, wiping cache. [2024-05-08 20:51:33] [TRACE] [OmnipathR] Cache is at `/home/biocbuild/.cache/OmnipathR`. [2024-05-08 20:51:33] [TRACE] [OmnipathR] Contains 1 files. [2024-05-08 20:51:33] [TRACE] [OmnipathR] Cache is locked: FALSE. [2024-05-08 20:51:33] [TRACE] [OmnipathR] Reading JSON from `/home/biocbuild/.cache/OmnipathR/cache.json` (encoding: UTF-8). [2024-05-08 20:51:33] [TRACE] [OmnipathR] JSON validation successful: TRUE [2024-05-08 20:51:33] [SUCCESS] [OmnipathR] Removing all cache contents from `/home/biocbuild/.cache/OmnipathR`. [2024-05-08 20:51:33] [TRACE] [OmnipathR] Pandoc version: `2.12`. [2024-05-08 20:51:33] [TRACE] [OmnipathR] Reading JSON from `/home/biocbuild/R/R-beta-2024-04-15_r86425/site-library/OmnipathR/db/db_def.json` (encoding: UTF-8). [2024-05-08 20:51:33] [TRACE] [OmnipathR] JSON validation successful: TRUE [2024-05-08 20:51:33] [TRACE] [OmnipathR] Reading JSON from `/home/biocbuild/R/R-beta-2024-04-15_r86425/site-library/OmnipathR/internal/magic_bytes.json` (encoding: UTF-8). [2024-05-08 20:51:33] [TRACE] [OmnipathR] JSON validation successful: TRUE [2024-05-08 20:51:33] [TRACE] [OmnipathR] Reading JSON from `/home/biocbuild/R/R-beta-2024-04-15_r86425/site-library/OmnipathR/internal/urls.json` (encoding: UTF-8). [2024-05-08 20:51:33] [TRACE] [OmnipathR] JSON validation successful: TRUE [2024-05-08 20:51:33] [TRACE] [OmnipathR] Reading JSON from `/home/biocbuild/R/R-beta-2024-04-15_r86425/site-library/OmnipathR/internal/id_types.json` (encoding: UTF-8). [2024-05-08 20:51:33] [TRACE] [OmnipathR] JSON validation successful: TRUE [2024-05-08 20:51:33] [TRACE] [OmnipathR] Cache locked: FALSE ** testing if installed package keeps a record of temporary installation path * DONE (gINTomics)