Back to Multiple platform build/check report for BioC 3.19:   simplified   long
ABCDEF[G]HIJKLMNOPQRSTUVWXYZ

This page was generated on 2024-10-18 20:40 -0400 (Fri, 18 Oct 2024).

HostnameOSArch (*)R versionInstalled pkgs
nebbiolo1Linux (Ubuntu 22.04.3 LTS)x86_644.4.1 (2024-06-14) -- "Race for Your Life" 4763
palomino7Windows Server 2022 Datacenterx644.4.1 (2024-06-14 ucrt) -- "Race for Your Life" 4500
merida1macOS 12.7.5 Montereyx86_644.4.1 (2024-06-14) -- "Race for Your Life" 4530
kjohnson1macOS 13.6.6 Venturaarm644.4.1 (2024-06-14) -- "Race for Your Life" 4480
Click on any hostname to see more info about the system (e.g. compilers)      (*) as reported by 'uname -p', except on Windows and Mac OS X

Package 791/2300HostnameOS / ArchINSTALLBUILDCHECKBUILD BIN
gDRutils 1.2.0  (landing page)
Arkadiusz Gladki
Snapshot Date: 2024-10-16 14:00 -0400 (Wed, 16 Oct 2024)
git_url: https://git.bioconductor.org/packages/gDRutils
git_branch: RELEASE_3_19
git_last_commit: d1f7215
git_last_commit_date: 2024-04-30 11:49:57 -0400 (Tue, 30 Apr 2024)
nebbiolo1Linux (Ubuntu 22.04.3 LTS) / x86_64  OK    OK    OK  UNNEEDED, same version is already published
palomino7Windows Server 2022 Datacenter / x64  OK    OK    OK    OK  UNNEEDED, same version is already published
merida1macOS 12.7.5 Monterey / x86_64  OK    OK    OK    OK  UNNEEDED, same version is already published
kjohnson1macOS 13.6.6 Ventura / arm64  OK    OK    OK    OK  UNNEEDED, same version is already published


CHECK results for gDRutils on merida1

To the developers/maintainers of the gDRutils package:
- Allow up to 24 hours (and sometimes 48 hours) for your latest push to git@git.bioconductor.org:packages/gDRutils.git to reflect on this report. See Troubleshooting Build Report for more information.
- Use the following Renviron settings to reproduce errors and warnings.
- If 'R CMD check' started to fail recently on the Linux builder(s) over a missing dependency, add the missing dependency to 'Suggests:' in your DESCRIPTION file. See Renviron.bioc for more information.

raw results


Summary

Package: gDRutils
Version: 1.2.0
Command: /Library/Frameworks/R.framework/Resources/bin/R CMD check --install=check:gDRutils.install-out.txt --library=/Library/Frameworks/R.framework/Resources/library --no-vignettes --timings gDRutils_1.2.0.tar.gz
StartedAt: 2024-10-17 05:38:44 -0400 (Thu, 17 Oct 2024)
EndedAt: 2024-10-17 05:46:33 -0400 (Thu, 17 Oct 2024)
EllapsedTime: 469.4 seconds
RetCode: 0
Status:   OK  
CheckDir: gDRutils.Rcheck
Warnings: 0

Command output

##############################################################################
##############################################################################
###
### Running command:
###
###   /Library/Frameworks/R.framework/Resources/bin/R CMD check --install=check:gDRutils.install-out.txt --library=/Library/Frameworks/R.framework/Resources/library --no-vignettes --timings gDRutils_1.2.0.tar.gz
###
##############################################################################
##############################################################################


* using log directory ‘/Users/biocbuild/bbs-3.19-bioc/meat/gDRutils.Rcheck’
* using R version 4.4.1 (2024-06-14)
* using platform: x86_64-apple-darwin20
* R was compiled by
    Apple clang version 14.0.0 (clang-1400.0.29.202)
    GNU Fortran (GCC) 12.2.0
* running under: macOS Monterey 12.7.6
* using session charset: UTF-8
* using option ‘--no-vignettes’
* checking for file ‘gDRutils/DESCRIPTION’ ... OK
* checking extension type ... Package
* this is package ‘gDRutils’ version ‘1.2.0’
* package encoding: UTF-8
* checking package namespace information ... OK
* checking package dependencies ... OK
* checking if this is a source package ... OK
* checking if there is a namespace ... OK
* checking for hidden files and directories ... OK
* checking for portable file names ... OK
* checking for sufficient/correct file permissions ... OK
* checking whether package ‘gDRutils’ can be installed ... OK
* checking installed package size ... OK
* checking package directory ... OK
* checking ‘build’ directory ... OK
* checking DESCRIPTION meta-information ... OK
* checking top-level files ... OK
* checking for left-over files ... OK
* checking index information ... OK
* checking package subdirectories ... OK
* checking code files for non-ASCII characters ... OK
* checking R files for syntax errors ... OK
* checking whether the package can be loaded ... OK
* checking whether the package can be loaded with stated dependencies ... OK
* checking whether the package can be unloaded cleanly ... OK
* checking whether the namespace can be loaded with stated dependencies ... OK
* checking whether the namespace can be unloaded cleanly ... OK
* checking dependencies in R code ... OK
* checking S3 generic/method consistency ... OK
* checking replacement functions ... OK
* checking foreign function calls ... OK
* checking R code for possible problems ... OK
* checking Rd files ... NOTE
checkRd: (-1) split_SE_components.Rd:31: Lost braces in \itemize; meant \describe ?
checkRd: (-1) split_SE_components.Rd:32: Lost braces in \itemize; meant \describe ?
checkRd: (-1) split_SE_components.Rd:33: Lost braces in \itemize; meant \describe ?
checkRd: (-1) split_SE_components.Rd:34: Lost braces in \itemize; meant \describe ?
checkRd: (-1) split_SE_components.Rd:35: Lost braces in \itemize; meant \describe ?
* checking Rd metadata ... OK
* checking Rd cross-references ... OK
* checking for missing documentation entries ... OK
* checking for code/documentation mismatches ... OK
* checking Rd \usage sections ... OK
* checking Rd contents ... OK
* checking for unstated dependencies in examples ... OK
* checking files in ‘vignettes’ ... OK
* checking examples ... OK
* checking for unstated dependencies in ‘tests’ ... OK
* checking tests ...
  Running ‘testthat.R’
 OK
* checking for unstated dependencies in vignettes ... OK
* checking package vignettes ... OK
* checking running R code from vignettes ... SKIPPED
* checking re-building of vignette outputs ... SKIPPED
* checking PDF version of manual ... OK
* DONE

Status: 1 NOTE
See
  ‘/Users/biocbuild/bbs-3.19-bioc/meat/gDRutils.Rcheck/00check.log’
for details.


Installation output

gDRutils.Rcheck/00install.out

##############################################################################
##############################################################################
###
### Running command:
###
###   /Library/Frameworks/R.framework/Resources/bin/R CMD INSTALL gDRutils
###
##############################################################################
##############################################################################


* installing to library ‘/Library/Frameworks/R.framework/Versions/4.4-x86_64/Resources/library’
* installing *source* package ‘gDRutils’ ...
** using staged installation
** R
** inst
** byte-compile and prepare package for lazy loading
** help
*** installing help indices
** building package indices
** installing vignettes
** testing if installed package can be loaded from temporary location
** testing if installed package can be loaded from final location
** testing if installed package keeps a record of temporary installation path
* DONE (gDRutils)

Tests output

gDRutils.Rcheck/tests/testthat.Rout


R version 4.4.1 (2024-06-14) -- "Race for Your Life"
Copyright (C) 2024 The R Foundation for Statistical Computing
Platform: x86_64-apple-darwin20

R is free software and comes with ABSOLUTELY NO WARRANTY.
You are welcome to redistribute it under certain conditions.
Type 'license()' or 'licence()' for distribution details.

R is a collaborative project with many contributors.
Type 'contributors()' for more information and
'citation()' on how to cite R or R packages in publications.

Type 'demo()' for some demos, 'help()' for on-line help, or
'help.start()' for an HTML browser interface to help.
Type 'q()' to quit R.

> library("gDRutils")
> library("testthat")
> 
> test_check("gDRutils")
[ FAIL 0 | WARN 0 | SKIP 0 | PASS 496 ]
> 
> proc.time()
   user  system elapsed 
 72.736   3.718  99.958 

Example timings

gDRutils.Rcheck/gDRutils-Ex.timings

nameusersystemelapsed
MAEpply1.2520.0901.527
SE_metadata0.0730.0090.094
addClass0.0030.0000.005
aggregate_assay1.8460.0772.166
apply_bumpy_function3.8060.2674.629
assert_choices0.0010.0000.001
average_biological_replicates_dt0.7200.0260.832
cap_xc500.0010.0000.002
convert_colData_to_json0.1400.0030.153
convert_combo_data_to_dt0.5670.0320.666
convert_combo_field_to_assay0.0040.0010.006
convert_mae_assay_to_dt0.1410.0090.166
convert_mae_to_json0.0340.0020.042
convert_metadata_to_json0.0200.0010.023
convert_rowData_to_json0.0060.0010.008
convert_se_assay_to_dt0.1390.0090.162
convert_se_to_json0.0300.0010.035
demote_fields0.9450.0191.025
df_to_bm_assay0.9610.0231.107
dot-set_invalid_fit_params0.0000.0000.001
extend_normalization_type_name0.0010.0000.001
fit_curves0.4340.0370.532
flatten0.0190.0010.023
gen_synthetic_data0.0130.0030.018
geometric_mean0.0010.0010.001
get_MAE_identifiers0.0130.0030.019
get_assay_names0.0010.0010.001
get_combo_assay_names0.0010.0000.001
get_combo_base_assay_names0.0020.0000.002
get_combo_col_settings0.0060.0010.007
get_combo_excess_field_names0.0030.0010.004
get_combo_score_assay_names0.0020.0000.003
get_combo_score_field_names0.0020.0010.003
get_default_identifiers0.0010.0020.004
get_duplicated_rows0.0040.0000.004
get_env_assay_names0.0010.0010.001
get_expect_one_identifiers0.0000.0010.002
get_experiment_groups0.0010.0010.001
get_identifiers_dt0.0110.0080.023
get_idfs_synonyms0.0010.0010.001
get_iso_colors0.0030.0010.005
get_non_empty_assays0.1100.0020.132
get_required_identifiers0.0000.0000.001
get_synthetic_data0.0200.0020.024
get_testdata0.1890.0630.282
get_testdata_codilution0.1690.0160.204
get_testdata_combo0.4030.0570.535
headers0.0290.0170.055
identifiers0.0000.0000.001
identify_unique_se_metadata_fields0.0140.0020.018
is_any_exp_empty0.1070.0040.136
is_exp_empty0.1090.0060.142
is_mae_empty0.1420.0100.172
logisticFit0.0590.0020.068
loop0.0010.0010.001
mcolData0.0280.0030.037
merge_SE3.6530.0544.309
merge_assay0.7590.0150.874
merge_metadata0.0140.0020.016
modifyData0.2200.0040.253
mrowData0.0300.0020.038
predict_conc_from_efficacy0.0000.0010.000
predict_efficacy_from_conc0.0010.0010.001
prettify_flat_metrics0.0480.0020.054
promote_fields0.4460.0090.492
refine_coldata0.0190.0020.022
refine_rowdata0.1010.0040.117
rename_DFrame0.0400.0030.050
rename_bumpy0.0690.0030.080
set_constant_fit_params0.0010.0020.002
shorten_normalization_type_name0.0010.0010.001
split_SE_components0.1340.0050.154
standardize_mae0.3590.0060.413
standardize_se0.0760.0020.087
update_env_idfs_from_mae0.0030.0000.003
update_idfs_synonyms0.0010.0010.002
validate_MAE0.1840.0020.209
validate_SE0.0610.0020.072
validate_identifiers0.0170.0020.021
validate_json0.0000.0000.001
validate_mae_with_schema0.6480.0682.213
validate_se_assay_name0.0100.0010.018