| Back to Multiple platform build/check report for BioC 3.19: simplified long |
|
This page was generated on 2024-05-09 11:40:50 -0400 (Thu, 09 May 2024).
| Hostname | OS | Arch (*) | R version | Installed pkgs |
|---|---|---|---|---|
| nebbiolo1 | Linux (Ubuntu 22.04.3 LTS) | x86_64 | 4.4.0 (2024-04-24) -- "Puppy Cup" | 4748 |
| palomino3 | Windows Server 2022 Datacenter | x64 | 4.4.0 (2024-04-24 ucrt) -- "Puppy Cup" | 4484 |
| lconway | macOS 12.7.1 Monterey | x86_64 | 4.4.0 (2024-04-24) -- "Puppy Cup" | 4514 |
| kunpeng2 | Linux (openEuler 22.03 LTS-SP1) | aarch64 | 4.4.0 beta (2024-04-15 r86425) -- "Puppy Cup" | 4480 |
| Click on any hostname to see more info about the system (e.g. compilers) (*) as reported by 'uname -p', except on Windows and Mac OS X | ||||
| Package 744/2300 | Hostname | OS / Arch | INSTALL | BUILD | CHECK | BUILD BIN | ||||||||
| flowMatch 1.40.0 (landing page) Ariful Azad
| nebbiolo1 | Linux (Ubuntu 22.04.3 LTS) / x86_64 | OK | OK | OK | |||||||||
| palomino3 | Windows Server 2022 Datacenter / x64 | OK | OK | OK | OK | |||||||||
| lconway | macOS 12.7.1 Monterey / x86_64 | OK | OK | OK | OK | |||||||||
| kunpeng2 | Linux (openEuler 22.03 LTS-SP1) / aarch64 | OK | OK | OK | ||||||||||
| kjohnson3 | macOS 13.6.5 Ventura / arm64 | see weekly results here | ||||||||||||
|
To the developers/maintainers of the flowMatch package: - Allow up to 24 hours (and sometimes 48 hours) for your latest push to git@git.bioconductor.org:packages/flowMatch.git to reflect on this report. See Troubleshooting Build Report for more information. - Use the following Renviron settings to reproduce errors and warnings. - If 'R CMD check' started to fail recently on the Linux builder(s) over a missing dependency, add the missing dependency to 'Suggests:' in your DESCRIPTION file. See Renviron.bioc for more information. - See Martin Grigorov's blog post for how to debug Linux ARM64 related issues on a x86_64 host. |
| Package: flowMatch |
| Version: 1.40.0 |
| Command: /home/biocbuild/R/R-beta-2024-04-15_r86425/bin/R CMD INSTALL flowMatch |
| StartedAt: 2024-05-08 20:15:21 -0000 (Wed, 08 May 2024) |
| EndedAt: 2024-05-08 20:16:12 -0000 (Wed, 08 May 2024) |
| EllapsedTime: 51.2 seconds |
| RetCode: 0 |
| Status: OK |
##############################################################################
##############################################################################
###
### Running command:
###
### /home/biocbuild/R/R-beta-2024-04-15_r86425/bin/R CMD INSTALL flowMatch
###
##############################################################################
##############################################################################
* installing to library ‘/home/biocbuild/R/R-beta-2024-04-15_r86425/site-library’
* installing *source* package ‘flowMatch’ ...
** using staged installation
** libs
using C++ compiler: ‘g++ (GCC) 10.3.1’
g++ -std=gnu++17 -I"/home/biocbuild/R/R-beta-2024-04-15_r86425/include" -DNDEBUG -I'/home/biocbuild/R/R-beta-2024-04-15_r86425/site-library/Rcpp/include' -I/usr/local/include -fPIC -g -O2 -Wall -c BipartiteGraph.cpp -o BipartiteGraph.o
g++ -std=gnu++17 -I"/home/biocbuild/R/R-beta-2024-04-15_r86425/include" -DNDEBUG -I'/home/biocbuild/R/R-beta-2024-04-15_r86425/site-library/Rcpp/include' -I/usr/local/include -fPIC -g -O2 -Wall -c MinWghtEdgCoverBipartite.cpp -o MinWghtEdgCoverBipartite.o
MinWghtEdgCoverBipartite.cpp: In function ‘void update_height(mclust&, std::vector<std::vector<templatePair> >, std::vector<std::vector<BipartiteGraph> >, double)’:
MinWghtEdgCoverBipartite.cpp:271:16: warning: comparison of integer expressions of different signedness: ‘int’ and ‘std::vector<double>::size_type’ {aka ‘long unsigned int’} [-Wsign-compare]
271 | for(int i=0; i<tree.height.size(); i++)
| ~^~~~~~~~~~~~~~~~~~~
MinWghtEdgCoverBipartite.cpp: In function ‘void computeDegConsistencyNew(std::vector<std::vector<templatePair> >&, std::vector<std::vector<BipartiteGraph> >&, double, double)’:
MinWghtEdgCoverBipartite.cpp:487:10: warning: variable ‘delta_cx_cy’ set but not used [-Wunused-but-set-variable]
487 | int delta_cx_cy = 0;
| ^~~~~~~~~~~
g++ -std=gnu++17 -I"/home/biocbuild/R/R-beta-2024-04-15_r86425/include" -DNDEBUG -I'/home/biocbuild/R/R-beta-2024-04-15_r86425/site-library/Rcpp/include' -I/usr/local/include -fPIC -g -O2 -Wall -c flowMatch.cpp -o flowMatch.o
flowMatch.cpp: In function ‘Rcpp::List computeMEC(Rcpp::NumericMatrix, double)’:
flowMatch.cpp:43:16: warning: comparison of integer expressions of different signedness: ‘int’ and ‘std::vector<std::vector<int> >::size_type’ {aka ‘long unsigned int’} [-Wsign-compare]
43 | for(int i=0; i<mec.sCoverVecVec.size(); i++)
| ~^~~~~~~~~~~~~~~~~~~~~~~~
flowMatch.cpp:45:17: warning: comparison of integer expressions of different signedness: ‘int’ and ‘std::vector<int>::size_type’ {aka ‘long unsigned int’} [-Wsign-compare]
45 | for(int j=0; j<mec.sCoverVecVec[i].size(); j++)
| ~^~~~~~~~~~~~~~~~~~~~~~~~~~~
flowMatch.cpp:53:16: warning: comparison of integer expressions of different signedness: ‘int’ and ‘std::vector<std::vector<int> >::size_type’ {aka ‘long unsigned int’} [-Wsign-compare]
53 | for(int i=0; i<mec.tCoverVecVec.size(); i++)
| ~^~~~~~~~~~~~~~~~~~~~~~~~
flowMatch.cpp:55:17: warning: comparison of integer expressions of different signedness: ‘int’ and ‘std::vector<int>::size_type’ {aka ‘long unsigned int’} [-Wsign-compare]
55 | for(int j=0; j<mec.tCoverVecVec[i].size(); j++)
| ~^~~~~~~~~~~~~~~~~~~~~~~~~~~
g++ -std=gnu++17 -shared -L/home/biocbuild/R/R-beta-2024-04-15_r86425/lib -L/usr/local/lib -o flowMatch.so BipartiteGraph.o MinWghtEdgCoverBipartite.o flowMatch.o -L/home/biocbuild/R/R-beta-2024-04-15_r86425/lib -lR
installing to /home/biocbuild/R/R-beta-2024-04-15_r86425/site-library/00LOCK-flowMatch/00new/flowMatch/libs
** R
** byte-compile and prepare package for lazy loading
** help
*** installing help indices
** building package indices
** installing vignettes
** testing if installed package can be loaded from temporary location
** checking absolute paths in shared objects and dynamic libraries
** testing if installed package can be loaded from final location
** testing if installed package keeps a record of temporary installation path
* DONE (flowMatch)