| Back to Multiple platform build/check report for BioC 3.19: simplified long |
|
This page was generated on 2024-05-09 11:40:50 -0400 (Thu, 09 May 2024).
| Hostname | OS | Arch (*) | R version | Installed pkgs |
|---|---|---|---|---|
| nebbiolo1 | Linux (Ubuntu 22.04.3 LTS) | x86_64 | 4.4.0 (2024-04-24) -- "Puppy Cup" | 4748 |
| palomino3 | Windows Server 2022 Datacenter | x64 | 4.4.0 (2024-04-24 ucrt) -- "Puppy Cup" | 4484 |
| lconway | macOS 12.7.1 Monterey | x86_64 | 4.4.0 (2024-04-24) -- "Puppy Cup" | 4514 |
| kunpeng2 | Linux (openEuler 22.03 LTS-SP1) | aarch64 | 4.4.0 beta (2024-04-15 r86425) -- "Puppy Cup" | 4480 |
| Click on any hostname to see more info about the system (e.g. compilers) (*) as reported by 'uname -p', except on Windows and Mac OS X | ||||
| Package 742/2300 | Hostname | OS / Arch | INSTALL | BUILD | CHECK | BUILD BIN | ||||||||
| flowGraph 1.12.0 (landing page) Alice Yue
| nebbiolo1 | Linux (Ubuntu 22.04.3 LTS) / x86_64 | OK | OK | OK | |||||||||
| palomino3 | Windows Server 2022 Datacenter / x64 | OK | OK | OK | OK | |||||||||
| lconway | macOS 12.7.1 Monterey / x86_64 | OK | OK | OK | OK | |||||||||
| kunpeng2 | Linux (openEuler 22.03 LTS-SP1) / aarch64 | OK | OK | OK | ||||||||||
| kjohnson3 | macOS 13.6.5 Ventura / arm64 | see weekly results here | ||||||||||||
|
To the developers/maintainers of the flowGraph package: - Allow up to 24 hours (and sometimes 48 hours) for your latest push to git@git.bioconductor.org:packages/flowGraph.git to reflect on this report. See Troubleshooting Build Report for more information. - Use the following Renviron settings to reproduce errors and warnings. - If 'R CMD check' started to fail recently on the Linux builder(s) over a missing dependency, add the missing dependency to 'Suggests:' in your DESCRIPTION file. See Renviron.bioc for more information. - See Martin Grigorov's blog post for how to debug Linux ARM64 related issues on a x86_64 host. |
| Package: flowGraph |
| Version: 1.12.0 |
| Command: /home/biocbuild/R/R-beta-2024-04-15_r86425/bin/R CMD check --install=check:flowGraph.install-out.txt --library=/home/biocbuild/R/R-beta-2024-04-15_r86425/site-library --no-vignettes --timings flowGraph_1.12.0.tar.gz |
| StartedAt: 2024-05-09 07:29:06 -0000 (Thu, 09 May 2024) |
| EndedAt: 2024-05-09 07:33:46 -0000 (Thu, 09 May 2024) |
| EllapsedTime: 279.6 seconds |
| RetCode: 0 |
| Status: OK |
| CheckDir: flowGraph.Rcheck |
| Warnings: 0 |
##############################################################################
##############################################################################
###
### Running command:
###
### /home/biocbuild/R/R-beta-2024-04-15_r86425/bin/R CMD check --install=check:flowGraph.install-out.txt --library=/home/biocbuild/R/R-beta-2024-04-15_r86425/site-library --no-vignettes --timings flowGraph_1.12.0.tar.gz
###
##############################################################################
##############################################################################
* using log directory ‘/home/biocbuild/bbs-3.19-bioc/meat/flowGraph.Rcheck’
* using R version 4.4.0 beta (2024-04-15 r86425)
* using platform: aarch64-unknown-linux-gnu
* R was compiled by
gcc (GCC) 10.3.1
GNU Fortran (GCC) 10.3.1
* running under: openEuler 22.03 (LTS-SP1)
* using session charset: UTF-8
* using option ‘--no-vignettes’
* checking for file ‘flowGraph/DESCRIPTION’ ... OK
* checking extension type ... Package
* this is package ‘flowGraph’ version ‘1.12.0’
* checking package namespace information ... OK
* checking package dependencies ... OK
* checking if this is a source package ... OK
* checking if there is a namespace ... OK
* checking for hidden files and directories ... OK
* checking for portable file names ... OK
* checking for sufficient/correct file permissions ... OK
* checking whether package ‘flowGraph’ can be installed ... OK
* checking installed package size ... OK
* checking package directory ... OK
* checking ‘build’ directory ... OK
* checking DESCRIPTION meta-information ... OK
* checking top-level files ... OK
* checking for left-over files ... OK
* checking index information ... OK
* checking package subdirectories ... OK
* checking code files for non-ASCII characters ... OK
* checking R files for syntax errors ... OK
* checking whether the package can be loaded ... OK
* checking whether the package can be loaded with stated dependencies ... OK
* checking whether the package can be unloaded cleanly ... OK
* checking whether the namespace can be loaded with stated dependencies ... OK
* checking whether the namespace can be unloaded cleanly ... OK
* checking loading without being on the library search path ... OK
* checking dependencies in R code ... OK
* checking S3 generic/method consistency ... OK
* checking replacement functions ... OK
* checking foreign function calls ... OK
* checking R code for possible problems ... NOTE
get_child: no visible binding for global variable ‘no_cores’
get_paren: no visible binding for global variable ‘no_cores’
ms_psig: no visible binding for global variable ‘meta’
Undefined global functions or variables:
meta no_cores
* checking Rd files ... NOTE
checkRd: (-1) fg_get_graph.Rd:13: Lost braces
13 | A list containing two data frames (\code{v} and ]code{e})
| ^
checkRd: (-1) ggdf.Rd:22: Lost braces
22 | code{ggdf} adds to the data frames \code{v} and \code{e} in slot
| ^
* checking Rd metadata ... OK
* checking Rd cross-references ... OK
* checking for missing documentation entries ... OK
* checking for code/documentation mismatches ... OK
* checking Rd \usage sections ... OK
* checking Rd contents ... OK
* checking for unstated dependencies in examples ... OK
* checking contents of ‘data’ directory ... OK
* checking data for non-ASCII characters ... OK
* checking data for ASCII and uncompressed saves ... OK
* checking files in ‘vignettes’ ... OK
* checking examples ... OK
Examples with CPU (user + system) or elapsed time > 5s
user system elapsed
fg_save 50.459 0.323 50.899
fg_load 50.278 0.439 50.783
fg_save_plots 49.665 0.395 50.169
* checking for unstated dependencies in ‘tests’ ... OK
* checking tests ...
Running ‘testthat.R’
OK
* checking for unstated dependencies in vignettes ... OK
* checking package vignettes ... OK
* checking running R code from vignettes ... SKIPPED
* checking re-building of vignette outputs ... SKIPPED
* checking PDF version of manual ... OK
* DONE
Status: 2 NOTEs
See
‘/home/biocbuild/bbs-3.19-bioc/meat/flowGraph.Rcheck/00check.log’
for details.
flowGraph.Rcheck/00install.out
############################################################################## ############################################################################## ### ### Running command: ### ### /home/biocbuild/R/R-beta-2024-04-15_r86425/bin/R CMD INSTALL flowGraph ### ############################################################################## ############################################################################## * installing to library ‘/home/biocbuild/R/R-beta-2024-04-15_r86425/site-library’ * installing *source* package ‘flowGraph’ ... ** using staged installation ** R ** data ** inst ** byte-compile and prepare package for lazy loading ** help Loading required namespace: flowGraph *** installing help indices ** building package indices ** installing vignettes ** testing if installed package can be loaded from temporary location ** testing if installed package can be loaded from final location ** testing if installed package keeps a record of temporary installation path * DONE (flowGraph)
flowGraph.Rcheck/tests/testthat.Rout
R version 4.4.0 beta (2024-04-15 r86425) -- "Puppy Cup"
Copyright (C) 2024 The R Foundation for Statistical Computing
Platform: aarch64-unknown-linux-gnu
R is free software and comes with ABSOLUTELY NO WARRANTY.
You are welcome to redistribute it under certain conditions.
Type 'license()' or 'licence()' for distribution details.
R is a collaborative project with many contributors.
Type 'contributors()' for more information and
'citation()' on how to cite R or R packages in publications.
Type 'demo()' for some demos, 'help()' for on-line help, or
'help.start()' for an HTML browser interface to help.
Type 'q()' to quit R.
> library(testthat)
> library(flowGraph)
>
> test_check("flowGraph")
[ FAIL 0 | WARN 0 | SKIP 0 | PASS 34 ]
>
> proc.time()
user system elapsed
6.543 0.152 6.692
flowGraph.Rcheck/flowGraph-Ex.timings
| name | user | system | elapsed | |
| cell_type_layers | 0.004 | 0.000 | 0.004 | |
| fg_add_feature | 0.468 | 0.004 | 0.474 | |
| fg_add_summary | 1.234 | 0.000 | 1.236 | |
| fg_clean_phen | 0 | 0 | 0 | |
| fg_clear_features | 1.223 | 0.028 | 1.253 | |
| fg_clear_summary | 0.502 | 0.008 | 0.511 | |
| fg_extract_phenotypes | 0.364 | 0.008 | 0.373 | |
| fg_extract_raw | 1.166 | 0.008 | 1.177 | |
| fg_extract_samples | 0.377 | 0.032 | 0.411 | |
| fg_feat_cumsum | 0.380 | 0.000 | 0.381 | |
| fg_feat_edge_specenr | 0.536 | 0.000 | 0.537 | |
| fg_feat_mean_class | 0.365 | 0.000 | 0.366 | |
| fg_feat_node_prop | 0.381 | 0.000 | 0.382 | |
| fg_feat_node_specenr | 0.534 | 0.000 | 0.536 | |
| fg_feat_prop_edge | 0.396 | 0.004 | 0.401 | |
| fg_get_feature | 0.373 | 0.024 | 0.397 | |
| fg_get_feature_desc | 1.129 | 0.012 | 1.142 | |
| fg_get_feature_means | 1.726 | 0.000 | 1.729 | |
| fg_get_graph | 0.361 | 0.000 | 0.363 | |
| fg_get_markers | 0.367 | 0.000 | 0.368 | |
| fg_get_meta | 0.381 | 0.020 | 0.402 | |
| fg_get_summary | 2.509 | 0.000 | 2.513 | |
| fg_get_summary_desc | 1.144 | 0.004 | 1.151 | |
| fg_get_summary_index | 2.702 | 0.036 | 2.743 | |
| fg_get_summary_tables | 1.726 | 0.000 | 1.729 | |
| fg_gsub_ids | 0.349 | 0.000 | 0.350 | |
| fg_gsub_markers | 0.440 | 0.000 | 0.442 | |
| fg_load | 50.278 | 0.439 | 50.783 | |
| fg_merge | 0.378 | 0.000 | 0.379 | |
| fg_merge_samples | 0.386 | 0.004 | 0.391 | |
| fg_plot | 0.549 | 0.000 | 0.550 | |
| fg_plot_box | 0.863 | 0.003 | 0.868 | |
| fg_plot_pVSdiff | 0.515 | 0.000 | 0.516 | |
| fg_plot_qq | 1.307 | 0.012 | 1.323 | |
| fg_replace_meta | 0.372 | 0.000 | 0.372 | |
| fg_rm_feature | 1.123 | 0.000 | 1.126 | |
| fg_rm_summary | 0.481 | 0.004 | 0.486 | |
| fg_save | 50.459 | 0.323 | 50.899 | |
| fg_save_plots | 49.665 | 0.395 | 50.169 | |
| fg_set_layout | 0.368 | 0.000 | 0.370 | |
| fg_summary | 0.483 | 0.004 | 0.489 | |
| flowGraph-class | 0.001 | 0.000 | 0.001 | |
| flowGraph | 1.619 | 0.004 | 1.628 | |
| flowGraphSubset | 0.000 | 0.000 | 0.001 | |
| flowGraphSubset_summary_adjust | 0.001 | 0.000 | 0.000 | |
| flowGraphSubset_summary_pars | 0 | 0 | 0 | |
| get_phen_list | 0.018 | 0.000 | 0.018 | |
| get_phen_meta | 0.003 | 0.000 | 0.003 | |
| ggdf | 0.373 | 0.000 | 0.375 | |
| loop_ind_f | 0.000 | 0.000 | 0.001 | |
| meandiff | 0.000 | 0.000 | 0.001 | |
| plot_gr | 1.917 | 0.012 | 1.933 | |
| set_layout_graph | 0.388 | 0.000 | 0.389 | |
| summary_table | 0.004 | 0.000 | 0.004 | |
| time_output | 0.001 | 0.000 | 0.000 | |
| tstr | 0 | 0 | 0 | |