| Back to Multiple platform build/check report for BioC 3.19: simplified long |
|
This page was generated on 2024-06-11 14:43 -0400 (Tue, 11 Jun 2024).
| Hostname | OS | Arch (*) | R version | Installed pkgs |
|---|---|---|---|---|
| nebbiolo1 | Linux (Ubuntu 22.04.3 LTS) | x86_64 | 4.4.0 (2024-04-24) -- "Puppy Cup" | 4757 |
| palomino3 | Windows Server 2022 Datacenter | x64 | 4.4.0 (2024-04-24 ucrt) -- "Puppy Cup" | 4491 |
| lconway | macOS 12.7.1 Monterey | x86_64 | 4.4.0 (2024-04-24) -- "Puppy Cup" | 4522 |
| kjohnson3 | macOS 13.6.5 Ventura | arm64 | 4.4.0 (2024-04-24) -- "Puppy Cup" | 4468 |
| Click on any hostname to see more info about the system (e.g. compilers) (*) as reported by 'uname -p', except on Windows and Mac OS X | ||||
| Package 742/2300 | Hostname | OS / Arch | INSTALL | BUILD | CHECK | BUILD BIN | ||||||||
| flowGraph 1.12.0 (landing page) Alice Yue
| nebbiolo1 | Linux (Ubuntu 22.04.3 LTS) / x86_64 | OK | OK | OK | |||||||||
| palomino3 | Windows Server 2022 Datacenter / x64 | OK | OK | OK | OK | |||||||||
| lconway | macOS 12.7.1 Monterey / x86_64 | OK | OK | OK | OK | |||||||||
| kjohnson3 | macOS 13.6.5 Ventura / arm64 | OK | OK | OK | OK | |||||||||
|
To the developers/maintainers of the flowGraph package: - Allow up to 24 hours (and sometimes 48 hours) for your latest push to git@git.bioconductor.org:packages/flowGraph.git to reflect on this report. See Troubleshooting Build Report for more information. - Use the following Renviron settings to reproduce errors and warnings. - If 'R CMD check' started to fail recently on the Linux builder(s) over a missing dependency, add the missing dependency to 'Suggests:' in your DESCRIPTION file. See Renviron.bioc for more information. |
| Package: flowGraph |
| Version: 1.12.0 |
| Command: /Library/Frameworks/R.framework/Resources/bin/R CMD check --install=check:flowGraph.install-out.txt --library=/Library/Frameworks/R.framework/Resources/library --no-vignettes --timings flowGraph_1.12.0.tar.gz |
| StartedAt: 2024-06-10 15:57:44 -0400 (Mon, 10 Jun 2024) |
| EndedAt: 2024-06-10 16:03:39 -0400 (Mon, 10 Jun 2024) |
| EllapsedTime: 354.5 seconds |
| RetCode: 0 |
| Status: OK |
| CheckDir: flowGraph.Rcheck |
| Warnings: 0 |
##############################################################################
##############################################################################
###
### Running command:
###
### /Library/Frameworks/R.framework/Resources/bin/R CMD check --install=check:flowGraph.install-out.txt --library=/Library/Frameworks/R.framework/Resources/library --no-vignettes --timings flowGraph_1.12.0.tar.gz
###
##############################################################################
##############################################################################
* using log directory ‘/Users/biocbuild/bbs-3.19-bioc/meat/flowGraph.Rcheck’
* using R version 4.4.0 (2024-04-24)
* using platform: aarch64-apple-darwin20
* R was compiled by
Apple clang version 14.0.0 (clang-1400.0.29.202)
GNU Fortran (GCC) 12.2.0
* running under: macOS Ventura 13.6.5
* using session charset: UTF-8
* using option ‘--no-vignettes’
* checking for file ‘flowGraph/DESCRIPTION’ ... OK
* checking extension type ... Package
* this is package ‘flowGraph’ version ‘1.12.0’
* checking package namespace information ... OK
* checking package dependencies ... OK
* checking if this is a source package ... OK
* checking if there is a namespace ... OK
* checking for hidden files and directories ... OK
* checking for portable file names ... OK
* checking for sufficient/correct file permissions ... OK
* checking whether package ‘flowGraph’ can be installed ... OK
* checking installed package size ... OK
* checking package directory ... OK
* checking ‘build’ directory ... OK
* checking DESCRIPTION meta-information ... OK
* checking top-level files ... OK
* checking for left-over files ... OK
* checking index information ... OK
* checking package subdirectories ... OK
* checking code files for non-ASCII characters ... OK
* checking R files for syntax errors ... OK
* checking whether the package can be loaded ... OK
* checking whether the package can be loaded with stated dependencies ... OK
* checking whether the package can be unloaded cleanly ... OK
* checking whether the namespace can be loaded with stated dependencies ... OK
* checking whether the namespace can be unloaded cleanly ... OK
* checking dependencies in R code ... OK
* checking S3 generic/method consistency ... OK
* checking replacement functions ... OK
* checking foreign function calls ... OK
* checking R code for possible problems ... NOTE
get_child: no visible binding for global variable ‘no_cores’
get_paren: no visible binding for global variable ‘no_cores’
ms_psig: no visible binding for global variable ‘meta’
Undefined global functions or variables:
meta no_cores
* checking Rd files ... NOTE
checkRd: (-1) fg_get_graph.Rd:13: Lost braces
13 | A list containing two data frames (\code{v} and ]code{e})
| ^
checkRd: (-1) ggdf.Rd:22: Lost braces
22 | code{ggdf} adds to the data frames \code{v} and \code{e} in slot
| ^
* checking Rd metadata ... OK
* checking Rd cross-references ... OK
* checking for missing documentation entries ... OK
* checking for code/documentation mismatches ... OK
* checking Rd \usage sections ... OK
* checking Rd contents ... OK
* checking for unstated dependencies in examples ... OK
* checking contents of ‘data’ directory ... OK
* checking data for non-ASCII characters ... OK
* checking data for ASCII and uncompressed saves ... OK
* checking files in ‘vignettes’ ... OK
* checking examples ... OK
Examples with CPU (user + system) or elapsed time > 5s
user system elapsed
fg_save 46.480 0.577 64.189
fg_save_plots 44.416 0.561 59.483
fg_load 44.246 0.592 56.880
* checking for unstated dependencies in ‘tests’ ... OK
* checking tests ...
Running ‘testthat.R’
OK
* checking for unstated dependencies in vignettes ... OK
* checking package vignettes ... OK
* checking running R code from vignettes ... SKIPPED
* checking re-building of vignette outputs ... SKIPPED
* checking PDF version of manual ... OK
* DONE
Status: 2 NOTEs
See
‘/Users/biocbuild/bbs-3.19-bioc/meat/flowGraph.Rcheck/00check.log’
for details.
flowGraph.Rcheck/00install.out
############################################################################## ############################################################################## ### ### Running command: ### ### /Library/Frameworks/R.framework/Resources/bin/R CMD INSTALL flowGraph ### ############################################################################## ############################################################################## * installing to library ‘/Library/Frameworks/R.framework/Versions/4.4-arm64/Resources/library’ * installing *source* package ‘flowGraph’ ... ** using staged installation ** R ** data ** inst ** byte-compile and prepare package for lazy loading ** help Loading required namespace: flowGraph *** installing help indices ** building package indices ** installing vignettes ** testing if installed package can be loaded from temporary location ** testing if installed package can be loaded from final location ** testing if installed package keeps a record of temporary installation path * DONE (flowGraph)
flowGraph.Rcheck/tests/testthat.Rout
R version 4.4.0 (2024-04-24) -- "Puppy Cup"
Copyright (C) 2024 The R Foundation for Statistical Computing
Platform: aarch64-apple-darwin20
R is free software and comes with ABSOLUTELY NO WARRANTY.
You are welcome to redistribute it under certain conditions.
Type 'license()' or 'licence()' for distribution details.
R is a collaborative project with many contributors.
Type 'contributors()' for more information and
'citation()' on how to cite R or R packages in publications.
Type 'demo()' for some demos, 'help()' for on-line help, or
'help.start()' for an HTML browser interface to help.
Type 'q()' to quit R.
> library(testthat)
> library(flowGraph)
>
> test_check("flowGraph")
[ FAIL 0 | WARN 0 | SKIP 0 | PASS 34 ]
>
> proc.time()
user system elapsed
5.488 0.346 7.614
flowGraph.Rcheck/flowGraph-Ex.timings
| name | user | system | elapsed | |
| cell_type_layers | 0.003 | 0.001 | 0.008 | |
| fg_add_feature | 0.321 | 0.009 | 0.497 | |
| fg_add_summary | 0.902 | 0.016 | 1.367 | |
| fg_clean_phen | 0 | 0 | 0 | |
| fg_clear_features | 0.911 | 0.012 | 1.295 | |
| fg_clear_summary | 0.322 | 0.006 | 0.467 | |
| fg_extract_phenotypes | 0.270 | 0.006 | 0.386 | |
| fg_extract_raw | 0.834 | 0.012 | 1.215 | |
| fg_extract_samples | 0.277 | 0.006 | 0.389 | |
| fg_feat_cumsum | 0.246 | 0.005 | 0.342 | |
| fg_feat_edge_specenr | 0.403 | 0.007 | 0.520 | |
| fg_feat_mean_class | 0.258 | 0.006 | 0.351 | |
| fg_feat_node_prop | 0.248 | 0.005 | 0.424 | |
| fg_feat_node_specenr | 0.407 | 0.008 | 0.674 | |
| fg_feat_prop_edge | 0.293 | 0.006 | 0.462 | |
| fg_get_feature | 0.261 | 0.005 | 0.420 | |
| fg_get_feature_desc | 0.860 | 0.012 | 1.245 | |
| fg_get_feature_means | 1.275 | 0.014 | 1.695 | |
| fg_get_graph | 0.223 | 0.007 | 0.246 | |
| fg_get_markers | 0.246 | 0.006 | 0.332 | |
| fg_get_meta | 0.264 | 0.006 | 0.341 | |
| fg_get_summary | 1.852 | 0.019 | 2.456 | |
| fg_get_summary_desc | 0.892 | 0.010 | 1.408 | |
| fg_get_summary_index | 2.212 | 0.021 | 3.126 | |
| fg_get_summary_tables | 1.175 | 0.017 | 1.607 | |
| fg_gsub_ids | 0.254 | 0.006 | 0.396 | |
| fg_gsub_markers | 0.270 | 0.006 | 0.343 | |
| fg_load | 44.246 | 0.592 | 56.880 | |
| fg_merge | 0.246 | 0.006 | 0.260 | |
| fg_merge_samples | 0.281 | 0.007 | 0.392 | |
| fg_plot | 0.427 | 0.008 | 0.543 | |
| fg_plot_box | 0.644 | 0.011 | 0.830 | |
| fg_plot_pVSdiff | 0.361 | 0.008 | 0.452 | |
| fg_plot_qq | 1.247 | 0.093 | 1.749 | |
| fg_replace_meta | 0.244 | 0.006 | 0.331 | |
| fg_rm_feature | 0.865 | 0.013 | 1.108 | |
| fg_rm_summary | 0.364 | 0.008 | 0.475 | |
| fg_save | 46.480 | 0.577 | 64.189 | |
| fg_save_plots | 44.416 | 0.561 | 59.483 | |
| fg_set_layout | 0.287 | 0.007 | 0.351 | |
| fg_summary | 0.366 | 0.007 | 0.460 | |
| flowGraph-class | 0.001 | 0.000 | 0.002 | |
| flowGraph | 1.293 | 0.018 | 1.705 | |
| flowGraphSubset | 0 | 0 | 0 | |
| flowGraphSubset_summary_adjust | 0.000 | 0.001 | 0.001 | |
| flowGraphSubset_summary_pars | 0.000 | 0.001 | 0.001 | |
| get_phen_list | 0.016 | 0.001 | 0.020 | |
| get_phen_meta | 0.002 | 0.000 | 0.002 | |
| ggdf | 0.250 | 0.007 | 0.340 | |
| loop_ind_f | 0.001 | 0.000 | 0.001 | |
| meandiff | 0.001 | 0.000 | 0.001 | |
| plot_gr | 1.534 | 0.037 | 2.020 | |
| set_layout_graph | 0.308 | 0.030 | 0.434 | |
| summary_table | 0.004 | 0.001 | 0.006 | |
| time_output | 0.001 | 0.000 | 0.002 | |
| tstr | 0.001 | 0.000 | 0.000 | |