| Back to Multiple platform build/check report for BioC 3.19: simplified long |
|
This page was generated on 2024-10-18 20:42 -0400 (Fri, 18 Oct 2024).
| Hostname | OS | Arch (*) | R version | Installed pkgs |
|---|---|---|---|---|
| nebbiolo1 | Linux (Ubuntu 22.04.3 LTS) | x86_64 | 4.4.1 (2024-06-14) -- "Race for Your Life" | 4763 |
| palomino7 | Windows Server 2022 Datacenter | x64 | 4.4.1 (2024-06-14 ucrt) -- "Race for Your Life" | 4500 |
| merida1 | macOS 12.7.5 Monterey | x86_64 | 4.4.1 (2024-06-14) -- "Race for Your Life" | 4530 |
| kjohnson1 | macOS 13.6.6 Ventura | arm64 | 4.4.1 (2024-06-14) -- "Race for Your Life" | 4480 |
| Click on any hostname to see more info about the system (e.g. compilers) (*) as reported by 'uname -p', except on Windows and Mac OS X | ||||
| Package 742/2300 | Hostname | OS / Arch | INSTALL | BUILD | CHECK | BUILD BIN | ||||||||
| flowGraph 1.12.0 (landing page) Alice Yue
| nebbiolo1 | Linux (Ubuntu 22.04.3 LTS) / x86_64 | OK | OK | OK | |||||||||
| palomino7 | Windows Server 2022 Datacenter / x64 | OK | OK | OK | OK | |||||||||
| merida1 | macOS 12.7.5 Monterey / x86_64 | OK | OK | OK | OK | |||||||||
| kjohnson1 | macOS 13.6.6 Ventura / arm64 | OK | OK | OK | OK | |||||||||
|
To the developers/maintainers of the flowGraph package: - Allow up to 24 hours (and sometimes 48 hours) for your latest push to git@git.bioconductor.org:packages/flowGraph.git to reflect on this report. See Troubleshooting Build Report for more information. - Use the following Renviron settings to reproduce errors and warnings. - If 'R CMD check' started to fail recently on the Linux builder(s) over a missing dependency, add the missing dependency to 'Suggests:' in your DESCRIPTION file. See Renviron.bioc for more information. |
| Package: flowGraph |
| Version: 1.12.0 |
| Command: /Library/Frameworks/R.framework/Resources/bin/R CMD check --install=check:flowGraph.install-out.txt --library=/Library/Frameworks/R.framework/Resources/library --no-vignettes --timings flowGraph_1.12.0.tar.gz |
| StartedAt: 2024-10-17 21:53:44 -0400 (Thu, 17 Oct 2024) |
| EndedAt: 2024-10-17 21:58:24 -0400 (Thu, 17 Oct 2024) |
| EllapsedTime: 279.7 seconds |
| RetCode: 0 |
| Status: OK |
| CheckDir: flowGraph.Rcheck |
| Warnings: 0 |
##############################################################################
##############################################################################
###
### Running command:
###
### /Library/Frameworks/R.framework/Resources/bin/R CMD check --install=check:flowGraph.install-out.txt --library=/Library/Frameworks/R.framework/Resources/library --no-vignettes --timings flowGraph_1.12.0.tar.gz
###
##############################################################################
##############################################################################
* using log directory ‘/Users/biocbuild/bbs-3.19-bioc/meat/flowGraph.Rcheck’
* using R version 4.4.1 (2024-06-14)
* using platform: aarch64-apple-darwin20
* R was compiled by
Apple clang version 14.0.0 (clang-1400.0.29.202)
GNU Fortran (GCC) 12.2.0
* running under: macOS Ventura 13.6.6
* using session charset: UTF-8
* using option ‘--no-vignettes’
* checking for file ‘flowGraph/DESCRIPTION’ ... OK
* checking extension type ... Package
* this is package ‘flowGraph’ version ‘1.12.0’
* checking package namespace information ... OK
* checking package dependencies ... OK
* checking if this is a source package ... OK
* checking if there is a namespace ... OK
* checking for hidden files and directories ... OK
* checking for portable file names ... OK
* checking for sufficient/correct file permissions ... OK
* checking whether package ‘flowGraph’ can be installed ... OK
* checking installed package size ... OK
* checking package directory ... OK
* checking ‘build’ directory ... OK
* checking DESCRIPTION meta-information ... OK
* checking top-level files ... OK
* checking for left-over files ... OK
* checking index information ... OK
* checking package subdirectories ... OK
* checking code files for non-ASCII characters ... OK
* checking R files for syntax errors ... OK
* checking whether the package can be loaded ... OK
* checking whether the package can be loaded with stated dependencies ... OK
* checking whether the package can be unloaded cleanly ... OK
* checking whether the namespace can be loaded with stated dependencies ... OK
* checking whether the namespace can be unloaded cleanly ... OK
* checking dependencies in R code ... OK
* checking S3 generic/method consistency ... OK
* checking replacement functions ... OK
* checking foreign function calls ... OK
* checking R code for possible problems ... NOTE
get_child: no visible binding for global variable ‘no_cores’
get_paren: no visible binding for global variable ‘no_cores’
ms_psig: no visible binding for global variable ‘meta’
Undefined global functions or variables:
meta no_cores
* checking Rd files ... NOTE
checkRd: (-1) fg_get_graph.Rd:13: Lost braces
13 | A list containing two data frames (\code{v} and ]code{e})
| ^
checkRd: (-1) ggdf.Rd:22: Lost braces
22 | code{ggdf} adds to the data frames \code{v} and \code{e} in slot
| ^
* checking Rd metadata ... OK
* checking Rd cross-references ... OK
* checking for missing documentation entries ... OK
* checking for code/documentation mismatches ... OK
* checking Rd \usage sections ... OK
* checking Rd contents ... OK
* checking for unstated dependencies in examples ... OK
* checking contents of ‘data’ directory ... OK
* checking data for non-ASCII characters ... OK
* checking data for ASCII and uncompressed saves ... OK
* checking files in ‘vignettes’ ... OK
* checking examples ... OK
Examples with CPU (user + system) or elapsed time > 5s
user system elapsed
fg_save 49.790 0.410 53.932
fg_load 48.016 0.525 49.438
fg_save_plots 47.401 0.429 50.858
* checking for unstated dependencies in ‘tests’ ... OK
* checking tests ...
Running ‘testthat.R’
OK
* checking for unstated dependencies in vignettes ... OK
* checking package vignettes ... OK
* checking running R code from vignettes ... SKIPPED
* checking re-building of vignette outputs ... SKIPPED
* checking PDF version of manual ... OK
* DONE
Status: 2 NOTEs
See
‘/Users/biocbuild/bbs-3.19-bioc/meat/flowGraph.Rcheck/00check.log’
for details.
flowGraph.Rcheck/00install.out
############################################################################## ############################################################################## ### ### Running command: ### ### /Library/Frameworks/R.framework/Resources/bin/R CMD INSTALL flowGraph ### ############################################################################## ############################################################################## * installing to library ‘/Library/Frameworks/R.framework/Versions/4.4-arm64/Resources/library’ * installing *source* package ‘flowGraph’ ... ** using staged installation ** R ** data ** inst ** byte-compile and prepare package for lazy loading ** help Loading required namespace: flowGraph *** installing help indices ** building package indices ** installing vignettes ** testing if installed package can be loaded from temporary location ** testing if installed package can be loaded from final location ** testing if installed package keeps a record of temporary installation path * DONE (flowGraph)
flowGraph.Rcheck/tests/testthat.Rout
R version 4.4.1 (2024-06-14) -- "Race for Your Life"
Copyright (C) 2024 The R Foundation for Statistical Computing
Platform: aarch64-apple-darwin20
R is free software and comes with ABSOLUTELY NO WARRANTY.
You are welcome to redistribute it under certain conditions.
Type 'license()' or 'licence()' for distribution details.
R is a collaborative project with many contributors.
Type 'contributors()' for more information and
'citation()' on how to cite R or R packages in publications.
Type 'demo()' for some demos, 'help()' for on-line help, or
'help.start()' for an HTML browser interface to help.
Type 'q()' to quit R.
> library(testthat)
> library(flowGraph)
>
> test_check("flowGraph")
[ FAIL 0 | WARN 0 | SKIP 0 | PASS 34 ]
>
> proc.time()
user system elapsed
5.462 0.330 6.091
flowGraph.Rcheck/flowGraph-Ex.timings
| name | user | system | elapsed | |
| cell_type_layers | 0.004 | 0.001 | 0.009 | |
| fg_add_feature | 0.315 | 0.011 | 0.336 | |
| fg_add_summary | 0.854 | 0.015 | 0.889 | |
| fg_clean_phen | 0 | 0 | 0 | |
| fg_clear_features | 0.873 | 0.010 | 0.905 | |
| fg_clear_summary | 0.301 | 0.005 | 0.317 | |
| fg_extract_phenotypes | 0.253 | 0.006 | 0.273 | |
| fg_extract_raw | 0.782 | 0.010 | 0.812 | |
| fg_extract_samples | 0.252 | 0.006 | 0.264 | |
| fg_feat_cumsum | 0.238 | 0.004 | 0.247 | |
| fg_feat_edge_specenr | 0.410 | 0.006 | 0.424 | |
| fg_feat_mean_class | 0.247 | 0.006 | 0.262 | |
| fg_feat_node_prop | 0.233 | 0.005 | 0.248 | |
| fg_feat_node_specenr | 0.415 | 0.007 | 0.440 | |
| fg_feat_prop_edge | 0.271 | 0.006 | 0.298 | |
| fg_get_feature | 0.233 | 0.005 | 0.256 | |
| fg_get_feature_desc | 0.812 | 0.014 | 0.872 | |
| fg_get_feature_means | 1.165 | 0.010 | 1.191 | |
| fg_get_graph | 0.235 | 0.005 | 0.256 | |
| fg_get_markers | 0.233 | 0.005 | 0.255 | |
| fg_get_meta | 0.238 | 0.005 | 0.253 | |
| fg_get_summary | 1.689 | 0.018 | 1.854 | |
| fg_get_summary_desc | 0.833 | 0.010 | 0.934 | |
| fg_get_summary_index | 1.952 | 0.017 | 2.263 | |
| fg_get_summary_tables | 1.131 | 0.017 | 1.197 | |
| fg_gsub_ids | 0.230 | 0.004 | 0.241 | |
| fg_gsub_markers | 0.282 | 0.004 | 0.291 | |
| fg_load | 48.016 | 0.525 | 49.438 | |
| fg_merge | 0.239 | 0.011 | 0.256 | |
| fg_merge_samples | 0.248 | 0.005 | 0.263 | |
| fg_plot | 0.372 | 0.007 | 0.385 | |
| fg_plot_box | 0.582 | 0.009 | 0.601 | |
| fg_plot_pVSdiff | 0.320 | 0.006 | 0.329 | |
| fg_plot_qq | 1.146 | 0.187 | 1.483 | |
| fg_replace_meta | 0.222 | 0.006 | 0.233 | |
| fg_rm_feature | 0.757 | 0.010 | 0.806 | |
| fg_rm_summary | 0.307 | 0.006 | 0.323 | |
| fg_save | 49.790 | 0.410 | 53.932 | |
| fg_save_plots | 47.401 | 0.429 | 50.858 | |
| fg_set_layout | 0.251 | 0.007 | 0.271 | |
| fg_summary | 0.309 | 0.005 | 0.319 | |
| flowGraph-class | 0.001 | 0.000 | 0.002 | |
| flowGraph | 1.180 | 0.014 | 1.264 | |
| flowGraphSubset | 0.000 | 0.000 | 0.001 | |
| flowGraphSubset_summary_adjust | 0 | 0 | 0 | |
| flowGraphSubset_summary_pars | 0 | 0 | 0 | |
| get_phen_list | 0.006 | 0.001 | 0.008 | |
| get_phen_meta | 0.001 | 0.000 | 0.001 | |
| ggdf | 0.220 | 0.005 | 0.258 | |
| loop_ind_f | 0.000 | 0.000 | 0.001 | |
| meandiff | 0.000 | 0.000 | 0.001 | |
| plot_gr | 1.157 | 0.021 | 1.239 | |
| set_layout_graph | 0.188 | 0.027 | 0.261 | |
| summary_table | 0.004 | 0.000 | 0.004 | |
| time_output | 0.001 | 0.000 | 0.001 | |
| tstr | 0.000 | 0.000 | 0.001 | |