| Back to Multiple platform build/check report for BioC 3.19: simplified long |
|
This page was generated on 2024-10-18 20:38 -0400 (Fri, 18 Oct 2024).
| Hostname | OS | Arch (*) | R version | Installed pkgs |
|---|---|---|---|---|
| nebbiolo1 | Linux (Ubuntu 22.04.3 LTS) | x86_64 | 4.4.1 (2024-06-14) -- "Race for Your Life" | 4763 |
| palomino7 | Windows Server 2022 Datacenter | x64 | 4.4.1 (2024-06-14 ucrt) -- "Race for Your Life" | 4500 |
| merida1 | macOS 12.7.5 Monterey | x86_64 | 4.4.1 (2024-06-14) -- "Race for Your Life" | 4530 |
| kjohnson1 | macOS 13.6.6 Ventura | arm64 | 4.4.1 (2024-06-14) -- "Race for Your Life" | 4480 |
| Click on any hostname to see more info about the system (e.g. compilers) (*) as reported by 'uname -p', except on Windows and Mac OS X | ||||
| Package 710/2300 | Hostname | OS / Arch | INSTALL | BUILD | CHECK | BUILD BIN | ||||||||
| fcScan 1.18.0 (landing page) Pierre Khoueiry
| nebbiolo1 | Linux (Ubuntu 22.04.3 LTS) / x86_64 | OK | OK | OK | |||||||||
| palomino7 | Windows Server 2022 Datacenter / x64 | OK | OK | OK | OK | |||||||||
| merida1 | macOS 12.7.5 Monterey / x86_64 | OK | OK | OK | OK | |||||||||
| kjohnson1 | macOS 13.6.6 Ventura / arm64 | OK | OK | OK | OK | |||||||||
|
To the developers/maintainers of the fcScan package: - Allow up to 24 hours (and sometimes 48 hours) for your latest push to git@git.bioconductor.org:packages/fcScan.git to reflect on this report. See Troubleshooting Build Report for more information. - Use the following Renviron settings to reproduce errors and warnings. - If 'R CMD check' started to fail recently on the Linux builder(s) over a missing dependency, add the missing dependency to 'Suggests:' in your DESCRIPTION file. See Renviron.bioc for more information. |
| Package: fcScan |
| Version: 1.18.0 |
| Command: /home/biocbuild/bbs-3.19-bioc/R/bin/R CMD check --install=check:fcScan.install-out.txt --library=/home/biocbuild/bbs-3.19-bioc/R/site-library --timings fcScan_1.18.0.tar.gz |
| StartedAt: 2024-10-17 00:24:15 -0400 (Thu, 17 Oct 2024) |
| EndedAt: 2024-10-17 00:29:18 -0400 (Thu, 17 Oct 2024) |
| EllapsedTime: 302.7 seconds |
| RetCode: 0 |
| Status: OK |
| CheckDir: fcScan.Rcheck |
| Warnings: 0 |
##############################################################################
##############################################################################
###
### Running command:
###
### /home/biocbuild/bbs-3.19-bioc/R/bin/R CMD check --install=check:fcScan.install-out.txt --library=/home/biocbuild/bbs-3.19-bioc/R/site-library --timings fcScan_1.18.0.tar.gz
###
##############################################################################
##############################################################################
* using log directory ‘/home/biocbuild/bbs-3.19-bioc/meat/fcScan.Rcheck’
* using R version 4.4.1 (2024-06-14)
* using platform: x86_64-pc-linux-gnu
* R was compiled by
gcc (Ubuntu 11.4.0-1ubuntu1~22.04) 11.4.0
GNU Fortran (Ubuntu 11.4.0-1ubuntu1~22.04) 11.4.0
* running under: Ubuntu 22.04.5 LTS
* using session charset: UTF-8
* checking for file ‘fcScan/DESCRIPTION’ ... OK
* checking extension type ... Package
* this is package ‘fcScan’ version ‘1.18.0’
* package encoding: UTF-8
* checking package namespace information ... OK
* checking package dependencies ... OK
* checking if this is a source package ... OK
* checking if there is a namespace ... OK
* checking for hidden files and directories ... OK
* checking for portable file names ... OK
* checking for sufficient/correct file permissions ... OK
* checking whether package ‘fcScan’ can be installed ... OK
* checking installed package size ... OK
* checking package directory ... OK
* checking ‘build’ directory ... OK
* checking DESCRIPTION meta-information ... OK
* checking top-level files ... OK
* checking for left-over files ... OK
* checking index information ... OK
* checking package subdirectories ... OK
* checking code files for non-ASCII characters ... OK
* checking R files for syntax errors ... OK
* checking whether the package can be loaded ... OK
* checking whether the package can be loaded with stated dependencies ... OK
* checking whether the package can be unloaded cleanly ... OK
* checking whether the namespace can be loaded with stated dependencies ... OK
* checking whether the namespace can be unloaded cleanly ... OK
* checking loading without being on the library search path ... OK
* checking dependencies in R code ... OK
* checking S3 generic/method consistency ... OK
* checking replacement functions ... OK
* checking foreign function calls ... OK
* checking R code for possible problems ... OK
* checking Rd files ... OK
* checking Rd metadata ... OK
* checking Rd cross-references ... OK
* checking for missing documentation entries ... OK
* checking for code/documentation mismatches ... OK
* checking Rd \usage sections ... OK
* checking Rd contents ... OK
* checking for unstated dependencies in examples ... OK
* checking files in ‘vignettes’ ... OK
* checking examples ... OK
* checking for unstated dependencies in ‘tests’ ... OK
* checking tests ...
Running ‘runTests.R’
OK
* checking for unstated dependencies in vignettes ... OK
* checking package vignettes ... OK
* checking re-building of vignette outputs ... OK
* checking PDF version of manual ... OK
* DONE
Status: OK
fcScan.Rcheck/00install.out
############################################################################## ############################################################################## ### ### Running command: ### ### /home/biocbuild/bbs-3.19-bioc/R/bin/R CMD INSTALL fcScan ### ############################################################################## ############################################################################## * installing to library ‘/home/biocbuild/bbs-3.19-bioc/R/site-library’ * installing *source* package ‘fcScan’ ... ** using staged installation ** R ** inst ** byte-compile and prepare package for lazy loading ** help *** installing help indices ** building package indices ** installing vignettes ** testing if installed package can be loaded from temporary location ** testing if installed package can be loaded from final location ** testing if installed package keeps a record of temporary installation path * DONE (fcScan)
fcScan.Rcheck/tests/runTests.Rout
R version 4.4.1 (2024-06-14) -- "Race for Your Life"
Copyright (C) 2024 The R Foundation for Statistical Computing
Platform: x86_64-pc-linux-gnu
R is free software and comes with ABSOLUTELY NO WARRANTY.
You are welcome to redistribute it under certain conditions.
Type 'license()' or 'licence()' for distribution details.
R is a collaborative project with many contributors.
Type 'contributors()' for more information and
'citation()' on how to cite R or R packages in publications.
Type 'demo()' for some demos, 'help()' for on-line help, or
'help.start()' for an HTML browser interface to help.
Type 'q()' to quit R.
> BiocGenerics:::testPackage("fcScan")
Loading required package: GenomicRanges
Loading required package: stats4
Loading required package: BiocGenerics
Attaching package: 'BiocGenerics'
The following objects are masked from 'package:stats':
IQR, mad, sd, var, xtabs
The following objects are masked from 'package:base':
Filter, Find, Map, Position, Reduce, anyDuplicated, aperm, append,
as.data.frame, basename, cbind, colnames, dirname, do.call,
duplicated, eval, evalq, get, grep, grepl, intersect, is.unsorted,
lapply, mapply, match, mget, order, paste, pmax, pmax.int, pmin,
pmin.int, rank, rbind, rownames, sapply, setdiff, table, tapply,
union, unique, unsplit, which.max, which.min
Loading required package: S4Vectors
Attaching package: 'S4Vectors'
The following object is masked from 'package:utils':
findMatches
The following objects are masked from 'package:base':
I, expand.grid, unname
Loading required package: IRanges
Loading required package: GenomeInfoDb
17 entries loaded
Running getCluster using 1 threads
Time difference of 0.237195 secs
Sites in condition do not match sites in data
3 entries loaded
Running getCluster using 1 threads
Time difference of 0.09854174 secs
17 entries loaded
Running getCluster using 1 threads
Time difference of 0.09808207 secs
17 entries loaded
Running getCluster using 1 threads
Time difference of 0.09851074 secs
17 entries loaded
Running getCluster using 1 threads
No cluster found
17 entries loaded
Running getCluster using 1 threads
Time difference of 0.09828854 secs
17 entries loaded
Running getCluster using 1 threads
Time difference of 0.09559631 secs
17 entries loaded
Running getCluster using 1 threads
Time difference of 0.1049633 secs
17 entries loaded
Running getCluster using 1 threads
Time difference of 0.0945189 secs
17 entries loaded
Running getCluster using 1 threads
Time difference of 0.06699419 secs
17 entries loaded
Running getCluster using 1 threads
Time difference of 0.08639932 secs
6 entries loaded
Running getCluster using 1 threads
Time difference of 0.07513022 secs
6 entries loaded
Running getCluster using 1 threads
Time difference of 0.08781791 secs
6 entries loaded
Running getCluster using 1 threads
Time difference of 0.05911422 secs
6 entries loaded
Running getCluster using 1 threads
Time difference of 0.08243632 secs
10 entries loaded
Running getCluster using 1 threads
Time difference of 0.06841612 secs
10 entries loaded
Running getCluster using 1 threads
No cluster found
10 entries loaded
Running getCluster using 1 threads
Time difference of 0.07129574 secs
16 entries loaded
Running getCluster using 1 threads
Time difference of 0.05870485 secs
6 entries loaded
Running getCluster using 1 threads
Time difference of 0.06598425 secs
6 entries loaded
Running getCluster using 1 threads
Time difference of 0.07118917 secs
6 entries loaded
Running getCluster using 1 threads
Time difference of 0.09265447 secs
6 entries loaded
Running getCluster using 1 threads
Time difference of 0.09258604 secs
6 entries loaded
Running getCluster using 1 threads
Time difference of 0.06990767 secs
17 entries loaded
Running getCluster using 1 threads
Time difference of 0.0644207 secs
17 entries loaded
Running getCluster using 1 threads
Time difference of 0.07086444 secs
17 entries loaded
Running getCluster using 1 threads
Time difference of 0.09576917 secs
17 entries loaded
Running getCluster using 1 threads
Time difference of 0.09503317 secs
17 entries loaded
Running getCluster using 1 threads
Time difference of 0.08453918 secs
17 entries loaded
Running getCluster using 1 threads
Time difference of 0.05904531 secs
17 entries loaded
Running getCluster using 1 threads
Time difference of 0.0825119 secs
17 entries loaded
Running getCluster using 1 threads
Time difference of 0.08891869 secs
17 entries loaded
Running getCluster using 1 threads
Time difference of 0.1078806 secs
17 entries loaded
Running getCluster using 1 threads
Time difference of 0.1157107 secs
17 entries loaded
Running getCluster using 1 threads
Time difference of 0.1240387 secs
17 entries loaded
Running getCluster using 1 threads
Time difference of 0.0753386 secs
17 entries loaded
Running getCluster using 1 threads
Time difference of 0.09206271 secs
17 entries loaded
Running getCluster using 1 threads
Time difference of 0.1088939 secs
17 entries loaded
Running getCluster using 1 threads
Time difference of 0.09039617 secs
17 entries loaded
Running getCluster using 1 threads
Time difference of 0.07138705 secs
17 entries loaded
Running getCluster using 1 threads
Time difference of 0.08752894 secs
17 entries loaded
Running getCluster using 1 threads
Time difference of 0.1080253 secs
17 entries loaded
Running getCluster using 1 threads
Time difference of 0.09687185 secs
17 entries loaded
Running getCluster using 1 threads
Time difference of 0.09736419 secs
RUNIT TEST PROTOCOL -- Thu Oct 17 00:28:58 2024
***********************************************
Number of test functions: 1
Number of errors: 0
Number of failures: 0
1 Test Suite :
fcScan RUnit Tests - 1 test function, 0 errors, 0 failures
Number of test functions: 1
Number of errors: 0
Number of failures: 0
>
> proc.time()
user system elapsed
16.123 1.108 17.739
fcScan.Rcheck/fcScan-Ex.timings
| name | user | system | elapsed | |
| getCluster | 0.269 | 0.003 | 0.293 | |