| Back to Multiple platform build/check report for BioC 3.19: simplified long |
|
This page was generated on 2024-06-11 14:42 -0400 (Tue, 11 Jun 2024).
| Hostname | OS | Arch (*) | R version | Installed pkgs |
|---|---|---|---|---|
| nebbiolo1 | Linux (Ubuntu 22.04.3 LTS) | x86_64 | 4.4.0 (2024-04-24) -- "Puppy Cup" | 4757 |
| palomino3 | Windows Server 2022 Datacenter | x64 | 4.4.0 (2024-04-24 ucrt) -- "Puppy Cup" | 4491 |
| lconway | macOS 12.7.1 Monterey | x86_64 | 4.4.0 (2024-04-24) -- "Puppy Cup" | 4522 |
| kjohnson3 | macOS 13.6.5 Ventura | arm64 | 4.4.0 (2024-04-24) -- "Puppy Cup" | 4468 |
| Click on any hostname to see more info about the system (e.g. compilers) (*) as reported by 'uname -p', except on Windows and Mac OS X | ||||
| Package 608/2300 | Hostname | OS / Arch | INSTALL | BUILD | CHECK | BUILD BIN | ||||||||
| dreamlet 1.2.1 (landing page) Gabriel Hoffman
| nebbiolo1 | Linux (Ubuntu 22.04.3 LTS) / x86_64 | OK | OK | OK | |||||||||
| palomino3 | Windows Server 2022 Datacenter / x64 | OK | OK | OK | OK | |||||||||
| lconway | macOS 12.7.1 Monterey / x86_64 | OK | OK | OK | OK | |||||||||
| kjohnson3 | macOS 13.6.5 Ventura / arm64 | OK | OK | OK | OK | |||||||||
|
To the developers/maintainers of the dreamlet package: - Allow up to 24 hours (and sometimes 48 hours) for your latest push to git@git.bioconductor.org:packages/dreamlet.git to reflect on this report. See Troubleshooting Build Report for more information. - Use the following Renviron settings to reproduce errors and warnings. - If 'R CMD check' started to fail recently on the Linux builder(s) over a missing dependency, add the missing dependency to 'Suggests:' in your DESCRIPTION file. See Renviron.bioc for more information. |
| Package: dreamlet |
| Version: 1.2.1 |
| Command: /Library/Frameworks/R.framework/Resources/bin/R CMD check --install=check:dreamlet.install-out.txt --library=/Library/Frameworks/R.framework/Resources/library --no-vignettes --timings dreamlet_1.2.1.tar.gz |
| StartedAt: 2024-06-09 20:06:14 -0400 (Sun, 09 Jun 2024) |
| EndedAt: 2024-06-09 20:18:44 -0400 (Sun, 09 Jun 2024) |
| EllapsedTime: 750.4 seconds |
| RetCode: 0 |
| Status: OK |
| CheckDir: dreamlet.Rcheck |
| Warnings: 0 |
##############################################################################
##############################################################################
###
### Running command:
###
### /Library/Frameworks/R.framework/Resources/bin/R CMD check --install=check:dreamlet.install-out.txt --library=/Library/Frameworks/R.framework/Resources/library --no-vignettes --timings dreamlet_1.2.1.tar.gz
###
##############################################################################
##############################################################################
* using log directory ‘/Users/biocbuild/bbs-3.19-bioc/meat/dreamlet.Rcheck’
* using R version 4.4.0 (2024-04-24)
* using platform: x86_64-apple-darwin20
* R was compiled by
Apple clang version 14.0.0 (clang-1400.0.29.202)
GNU Fortran (GCC) 12.2.0
* running under: macOS Monterey 12.7.1
* using session charset: UTF-8
* using option ‘--no-vignettes’
* checking for file ‘dreamlet/DESCRIPTION’ ... OK
* checking extension type ... Package
* this is package ‘dreamlet’ version ‘1.2.1’
* package encoding: UTF-8
* checking package namespace information ... OK
* checking package dependencies ... OK
* checking if this is a source package ... OK
* checking if there is a namespace ... OK
* checking for hidden files and directories ... OK
* checking for portable file names ... OK
* checking for sufficient/correct file permissions ... OK
* checking whether package ‘dreamlet’ can be installed ... OK
* used C++ compiler: ‘Apple clang version 14.0.0 (clang-1400.0.29.202)’
* used SDK: ‘MacOSX11.3.sdk’
* checking C++ specification ... NOTE
Specified C++11: please drop specification unless essential
* checking installed package size ... OK
* checking package directory ... OK
* checking ‘build’ directory ... OK
* checking DESCRIPTION meta-information ... OK
* checking top-level files ... OK
* checking for left-over files ... OK
* checking index information ... OK
* checking package subdirectories ... OK
* checking code files for non-ASCII characters ... OK
* checking R files for syntax errors ... OK
* checking whether the package can be loaded ... OK
* checking whether the package can be loaded with stated dependencies ... OK
* checking whether the package can be unloaded cleanly ... OK
* checking whether the namespace can be loaded with stated dependencies ... OK
* checking whether the namespace can be unloaded cleanly ... OK
* checking dependencies in R code ... OK
* checking S3 generic/method consistency ... OK
* checking replacement functions ... OK
* checking foreign function calls ... OK
* checking R code for possible problems ... OK
* checking Rd files ... NOTE
checkRd: (-1) meta_analysis.Rd:28: Lost braces in \itemize; meant \describe ?
checkRd: (-1) meta_analysis.Rd:29: Lost braces in \itemize; meant \describe ?
checkRd: (-1) meta_analysis.Rd:30: Lost braces in \itemize; meant \describe ?
checkRd: (-1) outlierByAssay.Rd:22: Lost braces in \itemize; \value handles \item{}{} directly
checkRd: (-1) outlierByAssay.Rd:23: Lost braces in \itemize; \value handles \item{}{} directly
checkRd: (-1) outlierByAssay.Rd:24: Lost braces in \itemize; \value handles \item{}{} directly
checkRd: (-1) outlierByAssay.Rd:25: Lost braces in \itemize; \value handles \item{}{} directly
checkRd: (-1) outlierByAssay.Rd:26: Lost braces in \itemize; \value handles \item{}{} directly
* checking Rd metadata ... OK
* checking Rd cross-references ... OK
* checking for missing documentation entries ... OK
* checking for code/documentation mismatches ... OK
* checking Rd \usage sections ... OK
* checking Rd contents ... OK
* checking for unstated dependencies in examples ... OK
* checking line endings in C/C++/Fortran sources/headers ... OK
* checking line endings in Makefiles ... OK
* checking compilation flags in Makevars ... OK
* checking for GNU extensions in Makefiles ... OK
* checking for portable use of $(BLAS_LIBS) and $(LAPACK_LIBS) ... OK
* checking use of PKG_*FLAGS in Makefiles ... OK
* checking compiled code ... NOTE
Note: information on .o files is not available
* checking files in ‘vignettes’ ... NOTE
The following directory looks like a leftover from 'knitr':
‘figure’
Please remove from your package.
* checking examples ... OK
Examples with CPU (user + system) or elapsed time > 5s
user system elapsed
zenith_gsa-methods 91.870 5.519 98.159
fitVarPart 20.412 0.145 20.621
plotVarPart-methods 19.214 0.072 19.312
sortCols-method 18.744 0.060 18.829
plotPercentBars-methods 18.121 0.062 18.212
meta_analysis 17.797 0.279 18.114
stackAssays 10.482 0.106 10.639
run_mash 10.172 0.120 10.324
compositePosteriorTest 9.118 0.100 9.250
aggregateNonCountSignal 7.646 0.470 8.356
plotVolcano-methods 5.154 0.064 5.225
* checking for unstated dependencies in ‘tests’ ... OK
* checking tests ...
Running ‘runTests.R’
OK
* checking for unstated dependencies in vignettes ... OK
* checking package vignettes ... OK
* checking running R code from vignettes ... SKIPPED
* checking re-building of vignette outputs ... SKIPPED
* checking PDF version of manual ... OK
* DONE
Status: 4 NOTEs
See
‘/Users/biocbuild/bbs-3.19-bioc/meat/dreamlet.Rcheck/00check.log’
for details.
dreamlet.Rcheck/00install.out
##############################################################################
##############################################################################
###
### Running command:
###
### /Library/Frameworks/R.framework/Resources/bin/R CMD INSTALL dreamlet
###
##############################################################################
##############################################################################
* installing to library ‘/Library/Frameworks/R.framework/Versions/4.4-x86_64/Resources/library’
* installing *source* package ‘dreamlet’ ...
** using staged installation
** libs
using C++ compiler: ‘Apple clang version 14.0.0 (clang-1400.0.29.202)’
using C++11
using SDK: ‘MacOSX11.3.sdk’
clang++ -arch x86_64 -std=gnu++11 -I"/Library/Frameworks/R.framework/Resources/include" -DNDEBUG -I'/Library/Frameworks/R.framework/Versions/4.4-x86_64/Resources/library/Rcpp/include' -I'/Library/Frameworks/R.framework/Versions/4.4-x86_64/Resources/library/beachmat/include' -I/opt/R/x86_64/include -fPIC -falign-functions=64 -Wall -g -O2 -c RcppExports.cpp -o RcppExports.o
clang++ -arch x86_64 -std=gnu++11 -I"/Library/Frameworks/R.framework/Resources/include" -DNDEBUG -I'/Library/Frameworks/R.framework/Versions/4.4-x86_64/Resources/library/Rcpp/include' -I'/Library/Frameworks/R.framework/Versions/4.4-x86_64/Resources/library/beachmat/include' -I/opt/R/x86_64/include -fPIC -falign-functions=64 -Wall -g -O2 -c colsum_beachmat.cpp -o colsum_beachmat.o
In file included from colsum_beachmat.cpp:1:
In file included from /Library/Frameworks/R.framework/Versions/4.4-x86_64/Resources/library/beachmat/include/beachmat3/beachmat.h:24:
In file included from /Library/Frameworks/R.framework/Versions/4.4-x86_64/Resources/library/beachmat/include/beachmat3/read_lin_block.h:11:
/Library/Frameworks/R.framework/Versions/4.4-x86_64/Resources/library/beachmat/include/beachmat3/lin_matrix.h:218:43: warning: 'beachmat::lin_sparse_matrix::get_row' hides overloaded virtual functions [-Woverloaded-virtual]
virtual sparse_index<const int*, int> get_row(size_t r, int* work_x, int* work_i, size_t first, size_t last) = 0;
^
/Library/Frameworks/R.framework/Versions/4.4-x86_64/Resources/library/beachmat/include/beachmat3/lin_matrix.h:66:24: note: hidden overloaded virtual function 'beachmat::lin_matrix::get_row' declared here: different number of parameters (4 vs 5)
virtual const int* get_row(size_t r, int* work, size_t first, size_t last) = 0;
^
/Library/Frameworks/R.framework/Versions/4.4-x86_64/Resources/library/beachmat/include/beachmat3/lin_matrix.h:95:27: note: hidden overloaded virtual function 'beachmat::lin_matrix::get_row' declared here: different number of parameters (4 vs 5)
virtual const double* get_row(size_t r, double* work, size_t first, size_t last) = 0;
^
/Library/Frameworks/R.framework/Versions/4.4-x86_64/Resources/library/beachmat/include/beachmat3/lin_matrix.h:236:43: warning: 'beachmat::lin_sparse_matrix::get_col' hides overloaded virtual functions [-Woverloaded-virtual]
virtual sparse_index<const int*, int> get_col(size_t c, int* work_x, int* work_i, size_t first, size_t last) = 0;
^
/Library/Frameworks/R.framework/Versions/4.4-x86_64/Resources/library/beachmat/include/beachmat3/lin_matrix.h:52:24: note: hidden overloaded virtual function 'beachmat::lin_matrix::get_col' declared here: different number of parameters (4 vs 5)
virtual const int* get_col(size_t c, int* work, size_t first, size_t last) = 0;
^
/Library/Frameworks/R.framework/Versions/4.4-x86_64/Resources/library/beachmat/include/beachmat3/lin_matrix.h:81:27: note: hidden overloaded virtual function 'beachmat::lin_matrix::get_col' declared here: different number of parameters (4 vs 5)
virtual const double* get_col(size_t c, double* work, size_t first, size_t last) = 0;
^
/Library/Frameworks/R.framework/Versions/4.4-x86_64/Resources/library/beachmat/include/beachmat3/lin_matrix.h:254:46: warning: 'beachmat::lin_sparse_matrix::get_row' hides overloaded virtual functions [-Woverloaded-virtual]
virtual sparse_index<const double*, int> get_row(size_t r, double* work_x, int* work_i, size_t first, size_t last) = 0;
^
/Library/Frameworks/R.framework/Versions/4.4-x86_64/Resources/library/beachmat/include/beachmat3/lin_matrix.h:66:24: note: hidden overloaded virtual function 'beachmat::lin_matrix::get_row' declared here: different number of parameters (4 vs 5)
virtual const int* get_row(size_t r, int* work, size_t first, size_t last) = 0;
^
/Library/Frameworks/R.framework/Versions/4.4-x86_64/Resources/library/beachmat/include/beachmat3/lin_matrix.h:95:27: note: hidden overloaded virtual function 'beachmat::lin_matrix::get_row' declared here: different number of parameters (4 vs 5)
virtual const double* get_row(size_t r, double* work, size_t first, size_t last) = 0;
^
/Library/Frameworks/R.framework/Versions/4.4-x86_64/Resources/library/beachmat/include/beachmat3/lin_matrix.h:272:46: warning: 'beachmat::lin_sparse_matrix::get_col' hides overloaded virtual functions [-Woverloaded-virtual]
virtual sparse_index<const double*, int> get_col(size_t c, double* work_x, int* work_i, size_t first, size_t last) = 0;
^
/Library/Frameworks/R.framework/Versions/4.4-x86_64/Resources/library/beachmat/include/beachmat3/lin_matrix.h:52:24: note: hidden overloaded virtual function 'beachmat::lin_matrix::get_col' declared here: different number of parameters (4 vs 5)
virtual const int* get_col(size_t c, int* work, size_t first, size_t last) = 0;
^
/Library/Frameworks/R.framework/Versions/4.4-x86_64/Resources/library/beachmat/include/beachmat3/lin_matrix.h:81:27: note: hidden overloaded virtual function 'beachmat::lin_matrix::get_col' declared here: different number of parameters (4 vs 5)
virtual const double* get_col(size_t c, double* work, size_t first, size_t last) = 0;
^
/Library/Frameworks/R.framework/Versions/4.4-x86_64/Resources/library/beachmat/include/beachmat3/lin_matrix.h:287:35: warning: 'beachmat::lin_sparse_matrix::get_col' hides overloaded virtual functions [-Woverloaded-virtual]
sparse_index<const int*, int> get_col(size_t c, int* work_x, int* work_i) {
^
/Library/Frameworks/R.framework/Versions/4.4-x86_64/Resources/library/beachmat/include/beachmat3/lin_matrix.h:52:24: note: hidden overloaded virtual function 'beachmat::lin_matrix::get_col' declared here: different number of parameters (4 vs 3)
virtual const int* get_col(size_t c, int* work, size_t first, size_t last) = 0;
^
/Library/Frameworks/R.framework/Versions/4.4-x86_64/Resources/library/beachmat/include/beachmat3/lin_matrix.h:81:27: note: hidden overloaded virtual function 'beachmat::lin_matrix::get_col' declared here: different number of parameters (4 vs 3)
virtual const double* get_col(size_t c, double* work, size_t first, size_t last) = 0;
^
/Library/Frameworks/R.framework/Versions/4.4-x86_64/Resources/library/beachmat/include/beachmat3/lin_matrix.h:304:35: warning: 'beachmat::lin_sparse_matrix::get_row' hides overloaded virtual functions [-Woverloaded-virtual]
sparse_index<const int*, int> get_row(size_t r, int* work_x, int* work_i) {
^
/Library/Frameworks/R.framework/Versions/4.4-x86_64/Resources/library/beachmat/include/beachmat3/lin_matrix.h:66:24: note: hidden overloaded virtual function 'beachmat::lin_matrix::get_row' declared here: different number of parameters (4 vs 3)
virtual const int* get_row(size_t r, int* work, size_t first, size_t last) = 0;
^
/Library/Frameworks/R.framework/Versions/4.4-x86_64/Resources/library/beachmat/include/beachmat3/lin_matrix.h:95:27: note: hidden overloaded virtual function 'beachmat::lin_matrix::get_row' declared here: different number of parameters (4 vs 3)
virtual const double* get_row(size_t r, double* work, size_t first, size_t last) = 0;
^
/Library/Frameworks/R.framework/Versions/4.4-x86_64/Resources/library/beachmat/include/beachmat3/lin_matrix.h:321:38: warning: 'beachmat::lin_sparse_matrix::get_col' hides overloaded virtual functions [-Woverloaded-virtual]
sparse_index<const double*, int> get_col(size_t c, double* work_x, int* work_i) {
^
/Library/Frameworks/R.framework/Versions/4.4-x86_64/Resources/library/beachmat/include/beachmat3/lin_matrix.h:52:24: note: hidden overloaded virtual function 'beachmat::lin_matrix::get_col' declared here: different number of parameters (4 vs 3)
virtual const int* get_col(size_t c, int* work, size_t first, size_t last) = 0;
^
/Library/Frameworks/R.framework/Versions/4.4-x86_64/Resources/library/beachmat/include/beachmat3/lin_matrix.h:81:27: note: hidden overloaded virtual function 'beachmat::lin_matrix::get_col' declared here: different number of parameters (4 vs 3)
virtual const double* get_col(size_t c, double* work, size_t first, size_t last) = 0;
^
/Library/Frameworks/R.framework/Versions/4.4-x86_64/Resources/library/beachmat/include/beachmat3/lin_matrix.h:338:38: warning: 'beachmat::lin_sparse_matrix::get_row' hides overloaded virtual functions [-Woverloaded-virtual]
sparse_index<const double*, int> get_row(size_t r, double* work_x, int* work_i) {
^
/Library/Frameworks/R.framework/Versions/4.4-x86_64/Resources/library/beachmat/include/beachmat3/lin_matrix.h:66:24: note: hidden overloaded virtual function 'beachmat::lin_matrix::get_row' declared here: different number of parameters (4 vs 3)
virtual const int* get_row(size_t r, int* work, size_t first, size_t last) = 0;
^
/Library/Frameworks/R.framework/Versions/4.4-x86_64/Resources/library/beachmat/include/beachmat3/lin_matrix.h:95:27: note: hidden overloaded virtual function 'beachmat::lin_matrix::get_row' declared here: different number of parameters (4 vs 3)
virtual const double* get_row(size_t r, double* work, size_t first, size_t last) = 0;
^
8 warnings generated.
clang++ -arch x86_64 -std=gnu++11 -dynamiclib -Wl,-headerpad_max_install_names -undefined dynamic_lookup -L/Library/Frameworks/R.framework/Resources/lib -L/opt/R/x86_64/lib -o dreamlet.so RcppExports.o colsum_beachmat.o -F/Library/Frameworks/R.framework/.. -framework R -Wl,-framework -Wl,CoreFoundation
installing to /Library/Frameworks/R.framework/Versions/4.4-x86_64/Resources/library/00LOCK-dreamlet/00new/dreamlet/libs
** R
** inst
** byte-compile and prepare package for lazy loading
** help
Loading required namespace: variancePartition
Loading required namespace: dreamlet
*** installing help indices
*** copying figures
** building package indices
** installing vignettes
** testing if installed package can be loaded from temporary location
** checking absolute paths in shared objects and dynamic libraries
** testing if installed package can be loaded from final location
** testing if installed package keeps a record of temporary installation path
* DONE (dreamlet)
dreamlet.Rcheck/tests/runTests.Rout
R version 4.4.0 (2024-04-24) -- "Puppy Cup"
Copyright (C) 2024 The R Foundation for Statistical Computing
Platform: x86_64-apple-darwin20
R is free software and comes with ABSOLUTELY NO WARRANTY.
You are welcome to redistribute it under certain conditions.
Type 'license()' or 'licence()' for distribution details.
R is a collaborative project with many contributors.
Type 'contributors()' for more information and
'citation()' on how to cite R or R packages in publications.
Type 'demo()' for some demos, 'help()' for on-line help, or
'help.start()' for an HTML browser interface to help.
Type 'q()' to quit R.
> library(Matrix)
> library(dreamlet)
Loading required package: variancePartition
Loading required package: ggplot2
Loading required package: limma
Loading required package: BiocParallel
Attaching package: 'variancePartition'
The following object is masked from 'package:limma':
topTable
Loading required package: SingleCellExperiment
Loading required package: SummarizedExperiment
Loading required package: MatrixGenerics
Loading required package: matrixStats
Attaching package: 'MatrixGenerics'
The following objects are masked from 'package:matrixStats':
colAlls, colAnyNAs, colAnys, colAvgsPerRowSet, colCollapse,
colCounts, colCummaxs, colCummins, colCumprods, colCumsums,
colDiffs, colIQRDiffs, colIQRs, colLogSumExps, colMadDiffs,
colMads, colMaxs, colMeans2, colMedians, colMins, colOrderStats,
colProds, colQuantiles, colRanges, colRanks, colSdDiffs, colSds,
colSums2, colTabulates, colVarDiffs, colVars, colWeightedMads,
colWeightedMeans, colWeightedMedians, colWeightedSds,
colWeightedVars, rowAlls, rowAnyNAs, rowAnys, rowAvgsPerColSet,
rowCollapse, rowCounts, rowCummaxs, rowCummins, rowCumprods,
rowCumsums, rowDiffs, rowIQRDiffs, rowIQRs, rowLogSumExps,
rowMadDiffs, rowMads, rowMaxs, rowMeans2, rowMedians, rowMins,
rowOrderStats, rowProds, rowQuantiles, rowRanges, rowRanks,
rowSdDiffs, rowSds, rowSums2, rowTabulates, rowVarDiffs, rowVars,
rowWeightedMads, rowWeightedMeans, rowWeightedMedians,
rowWeightedSds, rowWeightedVars
Loading required package: GenomicRanges
Loading required package: stats4
Loading required package: BiocGenerics
Attaching package: 'BiocGenerics'
The following object is masked from 'package:limma':
plotMA
The following objects are masked from 'package:stats':
IQR, mad, sd, var, xtabs
The following objects are masked from 'package:base':
Filter, Find, Map, Position, Reduce, anyDuplicated, aperm, append,
as.data.frame, basename, cbind, colnames, dirname, do.call,
duplicated, eval, evalq, get, grep, grepl, intersect, is.unsorted,
lapply, mapply, match, mget, order, paste, pmax, pmax.int, pmin,
pmin.int, rank, rbind, rownames, sapply, setdiff, table, tapply,
union, unique, unsplit, which.max, which.min
Loading required package: S4Vectors
Attaching package: 'S4Vectors'
The following objects are masked from 'package:Matrix':
expand, unname
The following object is masked from 'package:utils':
findMatches
The following objects are masked from 'package:base':
I, expand.grid, unname
Loading required package: IRanges
Loading required package: GenomeInfoDb
Loading required package: Biobase
Welcome to Bioconductor
Vignettes contain introductory material; view with
'browseVignettes()'. To cite Bioconductor, see
'citation("Biobase")', and for packages 'citation("pkgname")'.
Attaching package: 'Biobase'
The following object is masked from 'package:MatrixGenerics':
rowMedians
The following objects are masked from 'package:matrixStats':
anyMissing, rowMedians
> library(DelayedArray)
Loading required package: S4Arrays
Loading required package: abind
Attaching package: 'S4Arrays'
The following object is masked from 'package:abind':
abind
The following object is masked from 'package:base':
rowsum
Loading required package: SparseArray
Attaching package: 'DelayedArray'
The following objects are masked from 'package:base':
apply, scale, sweep
> library(edgeR)
Attaching package: 'edgeR'
The following object is masked from 'package:SingleCellExperiment':
cpm
> library(muscat)
Warning message:
In checkDepPackageVersion(dep_pkg = "TMB") :
Package version inconsistency detected.
glmmTMB was built with TMB version 1.9.10
Current TMB version is 1.9.11
Please re-install glmmTMB from source or restore original 'TMB' package (see '?reinstalling' for more information)
> library(RUnit)
>
> BiocGenerics:::testPackage("dreamlet")
Processing: B cells
Computing library sizes...
Processing samples...
Processing: CD14+ Monocytes
Computing library sizes...
Processing samples...
Processing: CD4 T cells
Computing library sizes...
Processing samples...
Processing: CD8 T cells
Computing library sizes...
Processing samples...
Processing: FCGR3A+ Monocytes
Computing library sizes...
Processing samples...
B cells...0.29 secs
CD14+ Monocytes...0.43 secs
CD4 T cells...0.31 secs
CD8 T cells...0.21 secs
FCGR3A+ Monocytes...0.46 secs
B cells...0.25 secs
CD14+ Monocytes...0.32 secs
CD4 T cells...0.29 secs
CD8 T cells...0.18 secs
FCGR3A+ Monocytes...0.32 secs
B cells...0.28 secs
CD14+ Monocytes...0.45 secs
CD4 T cells...0.32 secs
CD8 T cells...0.15 secs
FCGR3A+ Monocytes...0.35 secs
Processing: B cells
Computing library sizes...
Processing samples...
Processing: CD14+ Monocytes
Computing library sizes...
Processing samples...
Processing: CD4 T cells
Computing library sizes...
Processing samples...
Processing: CD8 T cells
Computing library sizes...
Processing samples...
Processing: FCGR3A+ Monocytes
Computing library sizes...
Processing samples...
B cells...0.28 secs
CD14+ Monocytes...0.4 secs
CD4 T cells...0.29 secs
CD8 T cells...0.13 secs
FCGR3A+ Monocytes...0.4 secs
B cells...0.25 secs
CD14+ Monocytes...0.4 secs
CD4 T cells...0.3 secs
CD8 T cells...0.18 secs
FCGR3A+ Monocytes...0.38 secs
B cells...0.25 secs
B cells...0.23 secs
Processing block [[1/1, 1/1]] ... OK
B cells...0.22 secs
CD14+ Monocytes...0.3 secs
CD4 T cells...0.28 secs
CD8 T cells...0.22 secs
FCGR3A+ Monocytes...0.23 secs
B cells...3.1 secs
CD14+ Monocytes...4 secs
CD4 T cells...3.7 secs
CD8 T cells...2.6 secs
FCGR3A+ Monocytes...11 secs
B cells...0.15 secs
CD14+ Monocytes...0.39 secs
CD4 T cells...0.26 secs
CD8 T cells...0.26 secs
FCGR3A+ Monocytes...0.43 secs
RUNIT TEST PROTOCOL -- Sun Jun 9 20:18:09 2024
***********************************************
Number of test functions: 12
Number of errors: 0
Number of failures: 0
1 Test Suite :
dreamlet RUnit Tests - 12 test functions, 0 errors, 0 failures
Number of test functions: 12
Number of errors: 0
Number of failures: 0
>
> proc.time()
user system elapsed
71.642 2.460 94.781
dreamlet.Rcheck/dreamlet-Ex.timings
| name | user | system | elapsed | |
| aggregateNonCountSignal | 7.646 | 0.470 | 8.356 | |
| aggregateToPseudoBulk | 1.209 | 0.022 | 1.269 | |
| aggregateVar | 1.327 | 0.022 | 1.355 | |
| as.dreamletResult | 2.356 | 0.041 | 2.406 | |
| buildClusterTreeFromPB | 0.665 | 0.018 | 0.688 | |
| cellCounts | 0.658 | 0.036 | 0.698 | |
| cellTypeSpecificity | 2.772 | 0.049 | 2.836 | |
| checkFormula | 0.000 | 0.001 | 0.001 | |
| coefNames-methods | 3.349 | 0.056 | 3.432 | |
| compositePosteriorTest | 9.118 | 0.100 | 9.250 | |
| computeCellCounts | 0.182 | 0.006 | 0.191 | |
| computeLogCPM | 0.371 | 0.037 | 0.409 | |
| computeNormCounts | 0.275 | 0.020 | 0.296 | |
| details-methods | 2.087 | 0.027 | 2.118 | |
| diffVar-methods | 4.296 | 0.047 | 4.354 | |
| dreamlet | 3.815 | 0.056 | 3.879 | |
| dreamletCompareClusters | 2.791 | 0.042 | 2.846 | |
| dropRedundantTerms | 0.005 | 0.001 | 0.006 | |
| equalFormulas | 0 | 0 | 0 | |
| extractData-methods | 2.486 | 0.031 | 2.533 | |
| fitVarPart | 20.412 | 0.145 | 20.621 | |
| getExprGeneNames | 3.010 | 0.072 | 3.095 | |
| getTreat-methods | 2.848 | 0.025 | 2.878 | |
| meta_analysis | 17.797 | 0.279 | 18.114 | |
| outlier | 0.002 | 0.001 | 0.002 | |
| outlierByAssay | 2.069 | 0.017 | 2.089 | |
| pbWeights | 3.296 | 0.069 | 3.369 | |
| plotBeeswarm | 4.562 | 0.045 | 4.617 | |
| plotCellComposition | 0.959 | 0.013 | 0.974 | |
| plotForest-methods | 3.507 | 0.031 | 3.546 | |
| plotGeneHeatmap-methods | 3.416 | 0.032 | 3.455 | |
| plotHeatmap-methods | 0.814 | 0.010 | 0.825 | |
| plotPCA | 4.532 | 0.061 | 4.607 | |
| plotPercentBars-methods | 18.121 | 0.062 | 18.212 | |
| plotProjection | 1.650 | 0.067 | 1.688 | |
| plotVarPart-methods | 19.214 | 0.072 | 19.312 | |
| plotViolin-methods | 1.211 | 0.017 | 1.228 | |
| plotVolcano-methods | 5.154 | 0.064 | 5.225 | |
| plotVoom-methods | 3.010 | 0.037 | 3.058 | |
| processAssays | 3.105 | 0.017 | 3.126 | |
| removeConstantTerms | 0.005 | 0.000 | 0.006 | |
| residuals-methods | 2.942 | 0.054 | 2.998 | |
| run_mash | 10.172 | 0.120 | 10.324 | |
| seeErrors-methods | 2.925 | 0.026 | 2.963 | |
| sortCols-method | 18.744 | 0.060 | 18.829 | |
| stackAssays | 10.482 | 0.106 | 10.639 | |
| topTable-methods | 3.130 | 0.024 | 3.161 | |
| zenith_gsa-methods | 91.870 | 5.519 | 98.159 | |