| Back to Multiple platform build/check report for BioC 3.19: simplified long |
|
This page was generated on 2024-10-18 20:38 -0400 (Fri, 18 Oct 2024).
| Hostname | OS | Arch (*) | R version | Installed pkgs |
|---|---|---|---|---|
| nebbiolo1 | Linux (Ubuntu 22.04.3 LTS) | x86_64 | 4.4.1 (2024-06-14) -- "Race for Your Life" | 4763 |
| palomino7 | Windows Server 2022 Datacenter | x64 | 4.4.1 (2024-06-14 ucrt) -- "Race for Your Life" | 4500 |
| merida1 | macOS 12.7.5 Monterey | x86_64 | 4.4.1 (2024-06-14) -- "Race for Your Life" | 4530 |
| kjohnson1 | macOS 13.6.6 Ventura | arm64 | 4.4.1 (2024-06-14) -- "Race for Your Life" | 4480 |
| Click on any hostname to see more info about the system (e.g. compilers) (*) as reported by 'uname -p', except on Windows and Mac OS X | ||||
| Package 605/2300 | Hostname | OS / Arch | INSTALL | BUILD | CHECK | BUILD BIN | ||||||||
| doubletrouble 1.4.4 (landing page) Fabrício Almeida-Silva
| nebbiolo1 | Linux (Ubuntu 22.04.3 LTS) / x86_64 | OK | OK | OK | |||||||||
| palomino7 | Windows Server 2022 Datacenter / x64 | OK | OK | OK | OK | |||||||||
| merida1 | macOS 12.7.5 Monterey / x86_64 | OK | OK | OK | OK | |||||||||
| kjohnson1 | macOS 13.6.6 Ventura / arm64 | OK | OK | OK | OK | |||||||||
|
To the developers/maintainers of the doubletrouble package: - Allow up to 24 hours (and sometimes 48 hours) for your latest push to git@git.bioconductor.org:packages/doubletrouble.git to reflect on this report. See Troubleshooting Build Report for more information. - Use the following Renviron settings to reproduce errors and warnings. - If 'R CMD check' started to fail recently on the Linux builder(s) over a missing dependency, add the missing dependency to 'Suggests:' in your DESCRIPTION file. See Renviron.bioc for more information. |
| Package: doubletrouble |
| Version: 1.4.4 |
| Command: /home/biocbuild/bbs-3.19-bioc/R/bin/R CMD check --install=check:doubletrouble.install-out.txt --library=/home/biocbuild/bbs-3.19-bioc/R/site-library --timings doubletrouble_1.4.4.tar.gz |
| StartedAt: 2024-10-16 23:56:38 -0400 (Wed, 16 Oct 2024) |
| EndedAt: 2024-10-17 00:02:36 -0400 (Thu, 17 Oct 2024) |
| EllapsedTime: 357.7 seconds |
| RetCode: 0 |
| Status: OK |
| CheckDir: doubletrouble.Rcheck |
| Warnings: 0 |
##############################################################################
##############################################################################
###
### Running command:
###
### /home/biocbuild/bbs-3.19-bioc/R/bin/R CMD check --install=check:doubletrouble.install-out.txt --library=/home/biocbuild/bbs-3.19-bioc/R/site-library --timings doubletrouble_1.4.4.tar.gz
###
##############################################################################
##############################################################################
* using log directory ‘/home/biocbuild/bbs-3.19-bioc/meat/doubletrouble.Rcheck’
* using R version 4.4.1 (2024-06-14)
* using platform: x86_64-pc-linux-gnu
* R was compiled by
gcc (Ubuntu 11.4.0-1ubuntu1~22.04) 11.4.0
GNU Fortran (Ubuntu 11.4.0-1ubuntu1~22.04) 11.4.0
* running under: Ubuntu 22.04.5 LTS
* using session charset: UTF-8
* checking for file ‘doubletrouble/DESCRIPTION’ ... OK
* this is package ‘doubletrouble’ version ‘1.4.4’
* package encoding: UTF-8
* checking package namespace information ... OK
* checking package dependencies ... OK
* checking if this is a source package ... OK
* checking if there is a namespace ... OK
* checking for hidden files and directories ... OK
* checking for portable file names ... OK
* checking for sufficient/correct file permissions ... OK
* checking whether package ‘doubletrouble’ can be installed ... OK
* checking installed package size ... OK
* checking package directory ... OK
* checking ‘build’ directory ... OK
* checking DESCRIPTION meta-information ... OK
* checking top-level files ... OK
* checking for left-over files ... OK
* checking index information ... OK
* checking package subdirectories ... OK
* checking code files for non-ASCII characters ... OK
* checking R files for syntax errors ... OK
* checking whether the package can be loaded ... OK
* checking whether the package can be loaded with stated dependencies ... OK
* checking whether the package can be unloaded cleanly ... OK
* checking whether the namespace can be loaded with stated dependencies ... OK
* checking whether the namespace can be unloaded cleanly ... OK
* checking loading without being on the library search path ... OK
* checking dependencies in R code ... OK
* checking S3 generic/method consistency ... OK
* checking replacement functions ... OK
* checking foreign function calls ... OK
* checking R code for possible problems ... OK
* checking Rd files ... OK
* checking Rd metadata ... OK
* checking Rd cross-references ... OK
* checking for missing documentation entries ... OK
* checking for code/documentation mismatches ... OK
* checking Rd \usage sections ... OK
* checking Rd contents ... OK
* checking for unstated dependencies in examples ... OK
* checking contents of ‘data’ directory ... OK
* checking data for non-ASCII characters ... OK
* checking data for ASCII and uncompressed saves ... OK
* checking files in ‘vignettes’ ... OK
* checking examples ... OK
Examples with CPU (user + system) or elapsed time > 5s
user system elapsed
classify_gene_pairs 6.9 0.311 7.212
* checking for unstated dependencies in ‘tests’ ... OK
* checking tests ...
Running ‘testthat.R’
OK
* checking for unstated dependencies in vignettes ... OK
* checking package vignettes ... OK
* checking re-building of vignette outputs ... OK
* checking PDF version of manual ... OK
* DONE
Status: OK
doubletrouble.Rcheck/00install.out
############################################################################## ############################################################################## ### ### Running command: ### ### /home/biocbuild/bbs-3.19-bioc/R/bin/R CMD INSTALL doubletrouble ### ############################################################################## ############################################################################## * installing to library ‘/home/biocbuild/bbs-3.19-bioc/R/site-library’ * installing *source* package ‘doubletrouble’ ... ** using staged installation ** R ** data ** inst ** byte-compile and prepare package for lazy loading ** help *** installing help indices *** copying figures ** building package indices ** installing vignettes ** testing if installed package can be loaded from temporary location ** testing if installed package can be loaded from final location ** testing if installed package keeps a record of temporary installation path * DONE (doubletrouble)
doubletrouble.Rcheck/tests/testthat.Rout
R version 4.4.1 (2024-06-14) -- "Race for Your Life"
Copyright (C) 2024 The R Foundation for Statistical Computing
Platform: x86_64-pc-linux-gnu
R is free software and comes with ABSOLUTELY NO WARRANTY.
You are welcome to redistribute it under certain conditions.
Type 'license()' or 'licence()' for distribution details.
R is a collaborative project with many contributors.
Type 'contributors()' for more information and
'citation()' on how to cite R or R packages in publications.
Type 'demo()' for some demos, 'help()' for on-line help, or
'help.start()' for an HTML browser interface to help.
Type 'q()' to quit R.
> # This file is part of the standard setup for testthat.
> # It is recommended that you do not modify it.
> #
> # Where should you do additional test configuration?
> # Learn more about the roles of various files in:
> # * https://r-pkgs.org/tests.html
> # * https://testthat.r-lib.org/reference/test_package.html#special-files
>
> library(testthat)
> library(doubletrouble)
>
> test_check("doubletrouble")
Loading required package: BiocGenerics
Attaching package: 'BiocGenerics'
The following objects are masked from 'package:stats':
IQR, mad, sd, var, xtabs
The following objects are masked from 'package:base':
Filter, Find, Map, Position, Reduce, anyDuplicated, aperm, append,
as.data.frame, basename, cbind, colnames, dirname, do.call,
duplicated, eval, evalq, get, grep, grepl, intersect, is.unsorted,
lapply, mapply, match, mget, order, paste, pmax, pmax.int, pmin,
pmin.int, rank, rbind, rownames, sapply, setdiff, table, tapply,
union, unique, unsplit, which.max, which.min
Loading required package: S4Vectors
Loading required package: stats4
Attaching package: 'S4Vectors'
The following object is masked from 'package:utils':
findMatches
The following objects are masked from 'package:base':
I, expand.grid, unname
Loading required package: GenomeInfoDb
Loading required package: IRanges
Loading required package: GenomicRanges
Loading required package: GenomicFeatures
Loading required package: AnnotationDbi
Loading required package: Biobase
Welcome to Bioconductor
Vignettes contain introductory material; view with
'browseVignettes()'. To cite Bioconductor, see
'citation("Biobase")', and for packages 'citation("pkgname")'.
Attaching package: 'txdbmaker'
The following objects are masked from 'package:GenomicFeatures':
UCSCFeatureDbTableSchema, browseUCSCtrack, getChromInfoFromBiomart,
makeFDbPackageFromUCSC, makeFeatureDbFromUCSC, makePackageName,
makeTxDb, makeTxDbFromBiomart, makeTxDbFromEnsembl,
makeTxDbFromGFF, makeTxDbFromGRanges, makeTxDbFromUCSC,
makeTxDbPackage, makeTxDbPackageFromBiomart,
makeTxDbPackageFromUCSC, supportedMiRBaseBuildValues,
supportedUCSCFeatureDbTables, supportedUCSCFeatureDbTracks,
supportedUCSCtables
Calculating rates for species 'Scerevisiae'
For species Scerevisiae, the lengths of 1 CDS are not multiples of 3. Removing them...
Bayesian Information Criterion (BIC):
E V
1 -5627.215 -5627.215
2 -4833.369 -4312.906
Top 3 models based on the BIC criterion:
V,2 E,2 E,1
-4312.906 -4833.369 -5627.215
[ FAIL 0 | WARN 0 | SKIP 0 | PASS 69 ]
>
> proc.time()
user system elapsed
25.035 1.998 26.914
doubletrouble.Rcheck/doubletrouble-Ex.timings
| name | user | system | elapsed | |
| cds_scerevisiae | 0.004 | 0.000 | 0.004 | |
| classify_gene_pairs | 6.900 | 0.311 | 7.212 | |
| classify_genes | 0.048 | 0.012 | 0.060 | |
| diamond_inter | 0.037 | 0.000 | 0.037 | |
| diamond_intra | 0.036 | 0.004 | 0.040 | |
| duplicates2counts | 0.032 | 0.003 | 0.036 | |
| find_ks_peaks | 0.094 | 0.000 | 0.094 | |
| fungi_kaks | 0.019 | 0.000 | 0.019 | |
| get_anchors_list | 0.961 | 0.028 | 0.989 | |
| get_intron_counts | 2.661 | 0.124 | 2.785 | |
| get_segmental | 0.955 | 0.020 | 0.975 | |
| get_tandem_proximal | 0.781 | 0.000 | 0.781 | |
| get_transposed | 1.178 | 0.048 | 1.226 | |
| get_transposed_classes | 2.354 | 0.024 | 2.379 | |
| gmax_ks | 0.213 | 0.001 | 0.215 | |
| pairs2kaks | 1.467 | 0.076 | 2.957 | |
| plot_duplicate_freqs | 1.602 | 0.300 | 0.414 | |
| plot_ks_distro | 0.491 | 0.084 | 0.575 | |
| plot_ks_peaks | 0.218 | 0.007 | 0.226 | |
| plot_rates_by_species | 0.204 | 0.012 | 0.216 | |
| split_pairs_by_peak | 0.281 | 0.020 | 0.301 | |
| yeast_annot | 0.195 | 0.004 | 0.199 | |
| yeast_seq | 0.242 | 0.008 | 0.250 | |