| Back to Multiple platform build/check report for BioC 3.19: simplified long |
|
This page was generated on 2024-06-11 14:43 -0400 (Tue, 11 Jun 2024).
| Hostname | OS | Arch (*) | R version | Installed pkgs |
|---|---|---|---|---|
| nebbiolo1 | Linux (Ubuntu 22.04.3 LTS) | x86_64 | 4.4.0 (2024-04-24) -- "Puppy Cup" | 4757 |
| palomino3 | Windows Server 2022 Datacenter | x64 | 4.4.0 (2024-04-24 ucrt) -- "Puppy Cup" | 4491 |
| lconway | macOS 12.7.1 Monterey | x86_64 | 4.4.0 (2024-04-24) -- "Puppy Cup" | 4522 |
| kjohnson3 | macOS 13.6.5 Ventura | arm64 | 4.4.0 (2024-04-24) -- "Puppy Cup" | 4468 |
| Click on any hostname to see more info about the system (e.g. compilers) (*) as reported by 'uname -p', except on Windows and Mac OS X | ||||
| Package 542/2300 | Hostname | OS / Arch | INSTALL | BUILD | CHECK | BUILD BIN | ||||||||
| deltaCaptureC 1.18.0 (landing page) Michael Shapiro
| nebbiolo1 | Linux (Ubuntu 22.04.3 LTS) / x86_64 | OK | OK | OK | |||||||||
| palomino3 | Windows Server 2022 Datacenter / x64 | OK | OK | OK | OK | |||||||||
| lconway | macOS 12.7.1 Monterey / x86_64 | OK | OK | OK | OK | |||||||||
| kjohnson3 | macOS 13.6.5 Ventura / arm64 | OK | OK | OK | OK | |||||||||
|
To the developers/maintainers of the deltaCaptureC package: - Allow up to 24 hours (and sometimes 48 hours) for your latest push to git@git.bioconductor.org:packages/deltaCaptureC.git to reflect on this report. See Troubleshooting Build Report for more information. - Use the following Renviron settings to reproduce errors and warnings. - If 'R CMD check' started to fail recently on the Linux builder(s) over a missing dependency, add the missing dependency to 'Suggests:' in your DESCRIPTION file. See Renviron.bioc for more information. |
| Package: deltaCaptureC |
| Version: 1.18.0 |
| Command: /Library/Frameworks/R.framework/Resources/bin/R CMD check --install=check:deltaCaptureC.install-out.txt --library=/Library/Frameworks/R.framework/Resources/library --no-vignettes --timings deltaCaptureC_1.18.0.tar.gz |
| StartedAt: 2024-06-10 13:23:30 -0400 (Mon, 10 Jun 2024) |
| EndedAt: 2024-06-10 13:31:35 -0400 (Mon, 10 Jun 2024) |
| EllapsedTime: 485.2 seconds |
| RetCode: 0 |
| Status: OK |
| CheckDir: deltaCaptureC.Rcheck |
| Warnings: 0 |
##############################################################################
##############################################################################
###
### Running command:
###
### /Library/Frameworks/R.framework/Resources/bin/R CMD check --install=check:deltaCaptureC.install-out.txt --library=/Library/Frameworks/R.framework/Resources/library --no-vignettes --timings deltaCaptureC_1.18.0.tar.gz
###
##############################################################################
##############################################################################
* using log directory ‘/Users/biocbuild/bbs-3.19-bioc/meat/deltaCaptureC.Rcheck’
* using R version 4.4.0 (2024-04-24)
* using platform: aarch64-apple-darwin20
* R was compiled by
Apple clang version 14.0.0 (clang-1400.0.29.202)
GNU Fortran (GCC) 12.2.0
* running under: macOS Ventura 13.6.5
* using session charset: UTF-8
* using option ‘--no-vignettes’
* checking for file ‘deltaCaptureC/DESCRIPTION’ ... OK
* this is package ‘deltaCaptureC’ version ‘1.18.0’
* package encoding: UTF-8
* checking package namespace information ... OK
* checking package dependencies ... OK
* checking if this is a source package ... OK
* checking if there is a namespace ... OK
* checking for hidden files and directories ... OK
* checking for portable file names ... OK
* checking for sufficient/correct file permissions ... OK
* checking whether package ‘deltaCaptureC’ can be installed ... OK
* checking installed package size ... OK
* checking package directory ... OK
* checking ‘build’ directory ... OK
* checking DESCRIPTION meta-information ... OK
* checking top-level files ... OK
* checking for left-over files ... OK
* checking index information ... OK
* checking package subdirectories ... OK
* checking code files for non-ASCII characters ... OK
* checking R files for syntax errors ... OK
* checking whether the package can be loaded ... OK
* checking whether the package can be loaded with stated dependencies ... OK
* checking whether the package can be unloaded cleanly ... OK
* checking whether the namespace can be loaded with stated dependencies ... OK
* checking whether the namespace can be unloaded cleanly ... OK
* checking dependencies in R code ... NOTE
Namespace in Imports field not imported from: ‘tictoc’
All declared Imports should be used.
* checking S3 generic/method consistency ... OK
* checking replacement functions ... OK
* checking foreign function calls ... OK
* checking R code for possible problems ... NOTE
getDeltaSE: warning in SummarizedExperiment(assay = list(delta =
delta), colData = colData): partial argument match of 'assay' to
'assays'
plotSignificantRegions: no visible binding for global variable ‘ctr’
plotSignificantRegions: no visible binding for global variable ‘delta’
plotSignificantRegions: no visible binding for global variable
‘significance’
Undefined global functions or variables:
ctr delta significance
* checking Rd files ... OK
* checking Rd metadata ... OK
* checking Rd cross-references ... OK
* checking for missing documentation entries ... OK
* checking for code/documentation mismatches ... OK
* checking Rd \usage sections ... OK
* checking Rd contents ... OK
* checking for unstated dependencies in examples ... OK
* checking contents of ‘data’ directory ... OK
* checking data for non-ASCII characters ... OK
* checking LazyData ... OK
* checking data for ASCII and uncompressed saves ... OK
* checking files in ‘vignettes’ ... OK
* checking examples ... OK
Examples with CPU (user + system) or elapsed time > 5s
user system elapsed
binSummarizedExperiment 96.819 0.988 138.438
getOverlapWeights 11.651 0.113 17.580
* checking for unstated dependencies in vignettes ... OK
* checking package vignettes ... OK
* checking running R code from vignettes ... SKIPPED
* checking re-building of vignette outputs ... SKIPPED
* checking PDF version of manual ... OK
* DONE
Status: 2 NOTEs
See
‘/Users/biocbuild/bbs-3.19-bioc/meat/deltaCaptureC.Rcheck/00check.log’
for details.
deltaCaptureC.Rcheck/00install.out
############################################################################## ############################################################################## ### ### Running command: ### ### /Library/Frameworks/R.framework/Resources/bin/R CMD INSTALL deltaCaptureC ### ############################################################################## ############################################################################## * installing to library ‘/Library/Frameworks/R.framework/Versions/4.4-arm64/Resources/library’ * installing *source* package ‘deltaCaptureC’ ... ** using staged installation ** R ** data *** moving datasets to lazyload DB ** inst ** byte-compile and prepare package for lazy loading ** help *** installing help indices ** building package indices ** installing vignettes ** testing if installed package can be loaded from temporary location ** testing if installed package can be loaded from final location ** testing if installed package keeps a record of temporary installation path * DONE (deltaCaptureC)
deltaCaptureC.Rcheck/deltaCaptureC-Ex.timings
| name | user | system | elapsed | |
| binSummarizedExperiment | 96.819 | 0.988 | 138.438 | |
| downshiftDFtoMatrix | 0.002 | 0.001 | 0.002 | |
| generatePermutation | 0.022 | 0.001 | 0.035 | |
| getDeltaSE | 0.323 | 0.004 | 0.456 | |
| getLopsidedness | 0.108 | 0.002 | 0.170 | |
| getMeanNormalizedCountsSE | 0.174 | 0.001 | 0.244 | |
| getNormalizedCountsSE | 0.138 | 0.001 | 0.194 | |
| getOverlapWeights | 11.651 | 0.113 | 17.580 | |
| getPValueCutoff | 0.000 | 0.000 | 0.001 | |
| getRunTotals | 0.138 | 0.001 | 0.198 | |
| getSizeFactorsDF | 0.002 | 0.000 | 0.003 | |
| getSizeFactorsSE | 0.014 | 0.000 | 0.015 | |
| plotSignificantRegions | 0.062 | 0.001 | 0.091 | |
| rebinToMultiple | 0.538 | 0.005 | 0.838 | |