| Back to Multiple platform build/check report for BioC 3.19: simplified long |
|
This page was generated on 2024-05-09 11:40:44 -0400 (Thu, 09 May 2024).
| Hostname | OS | Arch (*) | R version | Installed pkgs |
|---|---|---|---|---|
| nebbiolo1 | Linux (Ubuntu 22.04.3 LTS) | x86_64 | 4.4.0 (2024-04-24) -- "Puppy Cup" | 4748 |
| palomino3 | Windows Server 2022 Datacenter | x64 | 4.4.0 (2024-04-24 ucrt) -- "Puppy Cup" | 4484 |
| lconway | macOS 12.7.1 Monterey | x86_64 | 4.4.0 (2024-04-24) -- "Puppy Cup" | 4514 |
| kunpeng2 | Linux (openEuler 22.03 LTS-SP1) | aarch64 | 4.4.0 beta (2024-04-15 r86425) -- "Puppy Cup" | 4480 |
| Click on any hostname to see more info about the system (e.g. compilers) (*) as reported by 'uname -p', except on Windows and Mac OS X | ||||
| Package 512/2300 | Hostname | OS / Arch | INSTALL | BUILD | CHECK | BUILD BIN | ||||||||
| dcanr 1.20.0 (landing page) Dharmesh D. Bhuva
| nebbiolo1 | Linux (Ubuntu 22.04.3 LTS) / x86_64 | OK | OK | OK | |||||||||
| palomino3 | Windows Server 2022 Datacenter / x64 | OK | OK | OK | OK | |||||||||
| lconway | macOS 12.7.1 Monterey / x86_64 | OK | OK | OK | OK | |||||||||
| kunpeng2 | Linux (openEuler 22.03 LTS-SP1) / aarch64 | OK | OK | OK | ||||||||||
| kjohnson3 | macOS 13.6.5 Ventura / arm64 | see weekly results here | ||||||||||||
|
To the developers/maintainers of the dcanr package: - Allow up to 24 hours (and sometimes 48 hours) for your latest push to git@git.bioconductor.org:packages/dcanr.git to reflect on this report. See Troubleshooting Build Report for more information. - Use the following Renviron settings to reproduce errors and warnings. - If 'R CMD check' started to fail recently on the Linux builder(s) over a missing dependency, add the missing dependency to 'Suggests:' in your DESCRIPTION file. See Renviron.bioc for more information. - See Martin Grigorov's blog post for how to debug Linux ARM64 related issues on a x86_64 host. |
| Package: dcanr |
| Version: 1.20.0 |
| Command: /home/biocbuild/R/R-beta-2024-04-15_r86425/bin/R CMD check --install=check:dcanr.install-out.txt --library=/home/biocbuild/R/R-beta-2024-04-15_r86425/site-library --no-vignettes --timings dcanr_1.20.0.tar.gz |
| StartedAt: 2024-05-09 06:31:23 -0000 (Thu, 09 May 2024) |
| EndedAt: 2024-05-09 06:32:33 -0000 (Thu, 09 May 2024) |
| EllapsedTime: 70.1 seconds |
| RetCode: 0 |
| Status: OK |
| CheckDir: dcanr.Rcheck |
| Warnings: 0 |
##############################################################################
##############################################################################
###
### Running command:
###
### /home/biocbuild/R/R-beta-2024-04-15_r86425/bin/R CMD check --install=check:dcanr.install-out.txt --library=/home/biocbuild/R/R-beta-2024-04-15_r86425/site-library --no-vignettes --timings dcanr_1.20.0.tar.gz
###
##############################################################################
##############################################################################
* using log directory ‘/home/biocbuild/bbs-3.19-bioc/meat/dcanr.Rcheck’
* using R version 4.4.0 beta (2024-04-15 r86425)
* using platform: aarch64-unknown-linux-gnu
* R was compiled by
gcc (GCC) 10.3.1
GNU Fortran (GCC) 10.3.1
* running under: openEuler 22.03 (LTS-SP1)
* using session charset: UTF-8
* using option ‘--no-vignettes’
* checking for file ‘dcanr/DESCRIPTION’ ... OK
* this is package ‘dcanr’ version ‘1.20.0’
* package encoding: UTF-8
* checking package namespace information ... OK
* checking package dependencies ... OK
* checking if this is a source package ... OK
* checking if there is a namespace ... OK
* checking for hidden files and directories ... OK
* checking for portable file names ... OK
* checking for sufficient/correct file permissions ... OK
* checking whether package ‘dcanr’ can be installed ... OK
* checking installed package size ... OK
* checking package directory ... OK
* checking ‘build’ directory ... OK
* checking DESCRIPTION meta-information ...Warning in person1(given = given[[i]], family = family[[i]], middle = middle[[i]], :
It is recommended to use ‘given’ instead of ‘middle’.
OK
* checking top-level files ... OK
* checking for left-over files ... OK
* checking index information ... OK
* checking package subdirectories ... OK
* checking code files for non-ASCII characters ... OK
* checking R files for syntax errors ... OK
* checking whether the package can be loaded ... OK
* checking whether the package can be loaded with stated dependencies ... OK
* checking whether the package can be unloaded cleanly ... OK
* checking whether the namespace can be loaded with stated dependencies ... OK
* checking whether the namespace can be unloaded cleanly ... OK
* checking loading without being on the library search path ... OK
* checking dependencies in R code ... OK
* checking S3 generic/method consistency ... OK
* checking replacement functions ... OK
* checking foreign function calls ... OK
* checking R code for possible problems ... NOTE
ftgi.score: no visible binding for global variable ‘i’
ftgi.score: no visible binding for global variable ‘j’
Undefined global functions or variables:
i j
* checking Rd files ... OK
* checking Rd metadata ... OK
* checking Rd cross-references ... OK
* checking for missing documentation entries ... OK
* checking for code/documentation mismatches ... OK
* checking Rd \usage sections ... OK
* checking Rd contents ... OK
* checking for unstated dependencies in examples ... OK
* checking contents of ‘data’ directory ... OK
* checking data for non-ASCII characters ... OK
* checking data for ASCII and uncompressed saves ... OK
* checking files in ‘vignettes’ ... OK
* checking examples ... OK
* checking for unstated dependencies in ‘tests’ ... OK
* checking tests ...
Running ‘testthat.R’
OK
* checking for unstated dependencies in vignettes ... OK
* checking package vignettes ... OK
* checking running R code from vignettes ... SKIPPED
* checking re-building of vignette outputs ... SKIPPED
* checking PDF version of manual ... OK
* DONE
Status: 1 NOTE
See
‘/home/biocbuild/bbs-3.19-bioc/meat/dcanr.Rcheck/00check.log’
for details.
dcanr.Rcheck/00install.out
############################################################################## ############################################################################## ### ### Running command: ### ### /home/biocbuild/R/R-beta-2024-04-15_r86425/bin/R CMD INSTALL dcanr ### ############################################################################## ############################################################################## * installing to library ‘/home/biocbuild/R/R-beta-2024-04-15_r86425/site-library’ * installing *source* package ‘dcanr’ ... ** using staged installation Warning in person1(given = given[[i]], family = family[[i]], middle = middle[[i]], : It is recommended to use ‘given’ instead of ‘middle’. Warning in person1(given = given[[i]], family = family[[i]], middle = middle[[i]], : It is recommended to use ‘given’ instead of ‘middle’. ** R ** data ** inst ** byte-compile and prepare package for lazy loading in method for ‘dcScore’ with signature ‘"Matrix","ANY","ANY"’: no definition for class “Matrix” in method for ‘dcScore’ with signature ‘"ExpressionSet","ANY","ANY"’: no definition for class “ExpressionSet” in method for ‘dcScore’ with signature ‘"SummarizedExperiment","ANY","ANY"’: no definition for class “SummarizedExperiment” in method for ‘dcScore’ with signature ‘"DGEList","ANY","ANY"’: no definition for class “DGEList” ** help *** installing help indices ** building package indices ** installing vignettes ** testing if installed package can be loaded from temporary location ** testing if installed package can be loaded from final location ** testing if installed package keeps a record of temporary installation path * DONE (dcanr)
dcanr.Rcheck/tests/testthat.Rout
R version 4.4.0 beta (2024-04-15 r86425) -- "Puppy Cup"
Copyright (C) 2024 The R Foundation for Statistical Computing
Platform: aarch64-unknown-linux-gnu
R is free software and comes with ABSOLUTELY NO WARRANTY.
You are welcome to redistribute it under certain conditions.
Type 'license()' or 'licence()' for distribution details.
R is a collaborative project with many contributors.
Type 'contributors()' for more information and
'citation()' on how to cite R or R packages in publications.
Type 'demo()' for some demos, 'help()' for on-line help, or
'help.start()' for an HTML browser interface to help.
Type 'q()' to quit R.
> library(testthat)
> library(dcanr)
>
> test_check("dcanr")
Begin Phase I (Initial E-Step) ...
Begin Phase II (M2-Step) ...
Begin Phase III ([E M1] Cycle) ...
Iteration: 1
Iteration: 2
One-Stepper Time: 0.00999999999999801
Estimating optimal shrinkage intensity lambda (correlation matrix): 0.6287
Estimating optimal shrinkage intensity lambda (correlation matrix): 1
Estimate (local) false discovery rates (partial correlations):
Estimate (local) false discovery rates (partial correlations):
Begin Phase I (Initial E-Step) ...
Begin Phase II (M2-Step) ...
Begin Phase III ([E M1] Cycle) ...
Iteration: 1
Iteration: 2
One-Stepper Time: 0.0100000000000016
Estimating optimal shrinkage intensity lambda (correlation matrix): 0.6287
Estimating optimal shrinkage intensity lambda (correlation matrix): 1
Estimate (local) false discovery rates (partial correlations):
Estimate (local) false discovery rates (partial correlations):
Begin Phase I (Initial E-Step) ...
Begin Phase II (M2-Step) ...
Begin Phase III ([E M1] Cycle) ...
Iteration: 1
Iteration: 2
One-Stepper Time: 0.00900000000000034
Estimating optimal shrinkage intensity lambda (correlation matrix): 0.6287
Estimating optimal shrinkage intensity lambda (correlation matrix): 1
Estimate (local) false discovery rates (partial correlations):
Estimate (local) false discovery rates (partial correlations):
Begin Phase I (Initial E-Step) ...
Begin Phase II (M2-Step) ...
Begin Phase III ([E M1] Cycle) ...
Iteration: 1
Iteration: 2
One-Stepper Time: 0.0100000000000016
Estimating optimal shrinkage intensity lambda (correlation matrix): 0.6287
Estimating optimal shrinkage intensity lambda (correlation matrix): 1
Estimate (local) false discovery rates (partial correlations):
Estimate (local) false discovery rates (partial correlations):
Begin Phase I (Initial E-Step) ...
Begin Phase II (M2-Step) ...
Begin Phase III ([E M1] Cycle) ...
Iteration: 1
Iteration: 2
One-Stepper Time: 0.00899999999999679
Begin Phase I (Initial E-Step) ...
Begin Phase II (M2-Step) ...
Begin Phase III ([E M1] Cycle) ...
Iteration: 1
Iteration: 2
One-Stepper Time: 0.00900000000000034
Estimating optimal shrinkage intensity lambda (correlation matrix): 0.6287
Estimating optimal shrinkage intensity lambda (correlation matrix): 1
Estimate (local) false discovery rates (partial correlations):
Estimate (local) false discovery rates (partial correlations):
Estimating optimal shrinkage intensity lambda (correlation matrix): 0.6287
Estimating optimal shrinkage intensity lambda (correlation matrix): 1
Estimate (local) false discovery rates (partial correlations):
Estimate (local) false discovery rates (partial correlations):
Begin Phase I (Initial E-Step) ...
Begin Phase II (M2-Step) ...
Begin Phase III ([E M1] Cycle) ...
Iteration: 1
Iteration: 2
One-Stepper Time: 0.00900000000000034
Begin Phase I (Initial E-Step) ...
Begin Phase II (M2-Step) ...
Begin Phase III ([E M1] Cycle) ...
Iteration: 1
Iteration: 2
One-Stepper Time: 0.0100000000000016
[ FAIL 0 | WARN 314 | SKIP 0 | PASS 172 ]
[ FAIL 0 | WARN 314 | SKIP 0 | PASS 172 ]
>
> proc.time()
user system elapsed
23.607 0.689 24.341
dcanr.Rcheck/dcanr-Ex.timings
| name | user | system | elapsed | |
| cor.pairs | 0.002 | 0.000 | 0.003 | |
| dcAdjust | 0.003 | 0.000 | 0.003 | |
| dcEvaluate | 2.140 | 0.083 | 2.228 | |
| dcMethods | 0 | 0 | 0 | |
| dcNetwork | 0.103 | 0.000 | 0.103 | |
| dcPipeline | 1.577 | 0.008 | 1.588 | |
| dcScore | 0.002 | 0.000 | 0.003 | |
| dcTest | 1.854 | 0.032 | 1.889 | |
| dcZscore | 0.082 | 0.004 | 0.086 | |
| getSimData | 0.108 | 0.004 | 0.112 | |
| mi.ap | 0.189 | 0.000 | 0.189 | |
| perfMethods | 0 | 0 | 0 | |
| performanceMeasure | 0.000 | 0.000 | 0.001 | |
| plotSimNetwork | 0.183 | 0.012 | 0.196 | |