Back to Multiple platform build/check report for BioC 3.19: simplified long |
|
This page was generated on 2024-06-11 14:43 -0400 (Tue, 11 Jun 2024).
Hostname | OS | Arch (*) | R version | Installed pkgs |
---|---|---|---|---|
nebbiolo1 | Linux (Ubuntu 22.04.3 LTS) | x86_64 | 4.4.0 (2024-04-24) -- "Puppy Cup" | 4757 |
palomino3 | Windows Server 2022 Datacenter | x64 | 4.4.0 (2024-04-24 ucrt) -- "Puppy Cup" | 4491 |
lconway | macOS 12.7.1 Monterey | x86_64 | 4.4.0 (2024-04-24) -- "Puppy Cup" | 4522 |
kjohnson3 | macOS 13.6.5 Ventura | arm64 | 4.4.0 (2024-04-24) -- "Puppy Cup" | 4468 |
Click on any hostname to see more info about the system (e.g. compilers) (*) as reported by 'uname -p', except on Windows and Mac OS X |
Package 486/2300 | Hostname | OS / Arch | INSTALL | BUILD | CHECK | BUILD BIN | ||||||||
cyanoFilter 1.12.0 (landing page) Oluwafemi Olusoji
| nebbiolo1 | Linux (Ubuntu 22.04.3 LTS) / x86_64 | OK | OK | OK | |||||||||
palomino3 | Windows Server 2022 Datacenter / x64 | OK | OK | OK | OK | |||||||||
lconway | macOS 12.7.1 Monterey / x86_64 | OK | OK | OK | OK | |||||||||
kjohnson3 | macOS 13.6.5 Ventura / arm64 | OK | OK | OK | OK | |||||||||
To the developers/maintainers of the cyanoFilter package: - Allow up to 24 hours (and sometimes 48 hours) for your latest push to git@git.bioconductor.org:packages/cyanoFilter.git to reflect on this report. See Troubleshooting Build Report for more information. - Use the following Renviron settings to reproduce errors and warnings. - If 'R CMD check' started to fail recently on the Linux builder(s) over a missing dependency, add the missing dependency to 'Suggests:' in your DESCRIPTION file. See Renviron.bioc for more information. |
Package: cyanoFilter |
Version: 1.12.0 |
Command: /Library/Frameworks/R.framework/Resources/bin/R CMD check --install=check:cyanoFilter.install-out.txt --library=/Library/Frameworks/R.framework/Resources/library --no-vignettes --timings cyanoFilter_1.12.0.tar.gz |
StartedAt: 2024-06-10 12:34:06 -0400 (Mon, 10 Jun 2024) |
EndedAt: 2024-06-10 12:36:58 -0400 (Mon, 10 Jun 2024) |
EllapsedTime: 172.5 seconds |
RetCode: 0 |
Status: OK |
CheckDir: cyanoFilter.Rcheck |
Warnings: 0 |
############################################################################## ############################################################################## ### ### Running command: ### ### /Library/Frameworks/R.framework/Resources/bin/R CMD check --install=check:cyanoFilter.install-out.txt --library=/Library/Frameworks/R.framework/Resources/library --no-vignettes --timings cyanoFilter_1.12.0.tar.gz ### ############################################################################## ############################################################################## * using log directory ‘/Users/biocbuild/bbs-3.19-bioc/meat/cyanoFilter.Rcheck’ * using R version 4.4.0 (2024-04-24) * using platform: aarch64-apple-darwin20 * R was compiled by Apple clang version 14.0.0 (clang-1400.0.29.202) GNU Fortran (GCC) 12.2.0 * running under: macOS Ventura 13.6.5 * using session charset: UTF-8 * using option ‘--no-vignettes’ * checking for file ‘cyanoFilter/DESCRIPTION’ ... OK * checking extension type ... Package * this is package ‘cyanoFilter’ version ‘1.12.0’ * package encoding: UTF-8 * checking package namespace information ... OK * checking package dependencies ... OK * checking if this is a source package ... OK * checking if there is a namespace ... OK * checking for hidden files and directories ... OK * checking for portable file names ... OK * checking for sufficient/correct file permissions ... OK * checking whether package ‘cyanoFilter’ can be installed ... OK * checking installed package size ... OK * checking package directory ... OK * checking ‘build’ directory ... OK * checking DESCRIPTION meta-information ... OK * checking top-level files ... OK * checking for left-over files ... OK * checking index information ... OK * checking package subdirectories ... OK * checking code files for non-ASCII characters ... OK * checking R files for syntax errors ... OK * checking whether the package can be loaded ... OK * checking whether the package can be loaded with stated dependencies ... OK * checking whether the package can be unloaded cleanly ... OK * checking whether the namespace can be loaded with stated dependencies ... OK * checking whether the namespace can be unloaded cleanly ... OK * checking dependencies in R code ... OK * checking S3 generic/method consistency ... OK * checking replacement functions ... OK * checking foreign function calls ... OK * checking R code for possible problems ... OK * checking Rd files ... OK * checking Rd metadata ... OK * checking Rd cross-references ... OK * checking for missing documentation entries ... OK * checking for code/documentation mismatches ... OK * checking Rd \usage sections ... OK * checking Rd contents ... OK * checking for unstated dependencies in examples ... OK * checking files in ‘vignettes’ ... OK * checking examples ... OK Examples with CPU (user + system) or elapsed time > 5s user system elapsed gateFunc 9.112 0.479 11.524 ggpairsDens 3.413 0.105 5.143 * checking for unstated dependencies in vignettes ... OK * checking package vignettes ... OK * checking running R code from vignettes ... SKIPPED * checking re-building of vignette outputs ... SKIPPED * checking PDF version of manual ... OK * DONE Status: OK
cyanoFilter.Rcheck/00install.out
############################################################################## ############################################################################## ### ### Running command: ### ### /Library/Frameworks/R.framework/Resources/bin/R CMD INSTALL cyanoFilter ### ############################################################################## ############################################################################## * installing to library ‘/Library/Frameworks/R.framework/Versions/4.4-arm64/Resources/library’ * installing *source* package ‘cyanoFilter’ ... ** using staged installation ** R ** inst ** byte-compile and prepare package for lazy loading ** help *** installing help indices ** building package indices ** installing vignettes ** testing if installed package can be loaded from temporary location ** testing if installed package can be loaded from final location ** testing if installed package keeps a record of temporary installation path * DONE (cyanoFilter)
cyanoFilter.Rcheck/cyanoFilter-Ex.timings
name | user | system | elapsed | |
MarginEvents | 1.136 | 0.070 | 1.735 | |
PhytoFilter | 0.565 | 0.053 | 0.961 | |
PhytopFilter | 0.641 | 0.058 | 1.076 | |
accTest | 0.412 | 0.031 | 0.656 | |
accuracy | 0.363 | 0.026 | 0.547 | |
cellmargin | 0.299 | 0.024 | 0.444 | |
clusterExtract | 0.735 | 0.038 | 1.140 | |
clusterExtractp | 1.105 | 0.044 | 1.670 | |
debrisNc | 0.330 | 0.036 | 0.527 | |
fullFlowframe-MarginEvents-method | 0.288 | 0.022 | 0.453 | |
fullFlowframe-PhytopFilter-method | 0.950 | 0.058 | 1.501 | |
fullFlowframe | 0.295 | 0.022 | 0.523 | |
gateFunc | 9.112 | 0.479 | 11.524 | |
ggpairsDens | 3.413 | 0.105 | 5.143 | |
ggplotDens | 1.053 | 0.039 | 1.572 | |
ggplotDens2 | 0.842 | 0.040 | 1.241 | |
goodfcs | 0.067 | 0.010 | 0.120 | |
is.DebrisFilter | 0 | 0 | 0 | |
is.MarginEvents | 0.000 | 0.000 | 0.001 | |
is.PhytopFilter | 0 | 0 | 0 | |
is.flowFrame | 0.000 | 0.000 | 0.001 | |
is.flowSet | 0.000 | 0.000 | 0.001 | |
lnTrans | 0.207 | 0.013 | 0.326 | |
newFlowframe | 0.230 | 0.040 | 0.376 | |
nona | 0.124 | 0.009 | 0.196 | |
noneg | 0.165 | 0.011 | 0.254 | |
oneDgate | 0.208 | 0.040 | 0.339 | |
pairsPlot | 1.870 | 0.118 | 3.062 | |
pigmentGate | 0.323 | 0.039 | 0.533 | |
reducedFlowframe-MarginEvents-method | 0.328 | 0.021 | 0.510 | |
reducedFlowframe | 0.324 | 0.020 | 0.521 | |
retain | 0.033 | 0.002 | 0.055 | |
rowNumbers | 0.234 | 0.040 | 0.388 | |
summaries-DebrisFilter-method | 0.319 | 0.021 | 0.478 | |
summaries-MarginEvents-method | 0.760 | 0.028 | 1.142 | |
summaries-PhytopFilter-method | 0.597 | 0.035 | 0.909 | |
summaries | 0.304 | 0.020 | 0.462 | |