| Back to Multiple platform build/check report for BioC 3.19: simplified long | 
 | 
This page was generated on 2024-10-18 20:39 -0400 (Fri, 18 Oct 2024).
| Hostname | OS | Arch (*) | R version | Installed pkgs | 
|---|---|---|---|---|
| nebbiolo1 | Linux (Ubuntu 22.04.3 LTS) | x86_64 | 4.4.1 (2024-06-14) -- "Race for Your Life" | 4763 | 
| palomino7 | Windows Server 2022 Datacenter | x64 | 4.4.1 (2024-06-14 ucrt) -- "Race for Your Life" | 4500 | 
| merida1 | macOS 12.7.5 Monterey | x86_64 | 4.4.1 (2024-06-14) -- "Race for Your Life" | 4530 | 
| kjohnson1 | macOS 13.6.6 Ventura | arm64 | 4.4.1 (2024-06-14) -- "Race for Your Life" | 4480 | 
| Click on any hostname to see more info about the system (e.g. compilers) (*) as reported by 'uname -p', except on Windows and Mac OS X | ||||
| Package 485/2300 | Hostname | OS / Arch | INSTALL | BUILD | CHECK | BUILD BIN | ||||||||
| customProDB 1.44.0  (landing page) Xiaojing Wang 
 | nebbiolo1 | Linux (Ubuntu 22.04.3 LTS) / x86_64 | OK | OK | WARNINGS |  | ||||||||
| palomino7 | Windows Server 2022 Datacenter / x64 | OK | OK | WARNINGS | OK |  | ||||||||
| merida1 | macOS 12.7.5 Monterey / x86_64 | OK | OK | WARNINGS | OK |  | ||||||||
| kjohnson1 | macOS 13.6.6 Ventura / arm64 | OK | OK | WARNINGS | OK |  | ||||||||
| To the developers/maintainers of the customProDB package: - Allow up to 24 hours (and sometimes 48 hours) for your latest push to git@git.bioconductor.org:packages/customProDB.git to reflect on this report. See Troubleshooting Build Report for more information. - Use the following Renviron settings to reproduce errors and warnings. - If 'R CMD check' started to fail recently on the Linux builder(s) over a missing dependency, add the missing dependency to 'Suggests:' in your DESCRIPTION file. See Renviron.bioc for more information. | 
| Package: customProDB | 
| Version: 1.44.0 | 
| Command: chmod a+r customProDB -R && E:\biocbuild\bbs-3.19-bioc\R\bin\R.exe CMD build --keep-empty-dirs --no-resave-data customProDB | 
| StartedAt: 2024-10-16 18:28:35 -0400 (Wed, 16 Oct 2024) | 
| EndedAt: 2024-10-16 18:29:59 -0400 (Wed, 16 Oct 2024) | 
| EllapsedTime: 84.5 seconds | 
| RetCode: 0 | 
| Status: OK | 
| PackageFile: customProDB_1.44.0.tar.gz | 
| PackageFileSize: 541.2 KiB | 
##############################################################################
##############################################################################
###
### Running command:
###
###   chmod a+r customProDB -R && E:\biocbuild\bbs-3.19-bioc\R\bin\R.exe CMD build --keep-empty-dirs --no-resave-data customProDB
###
##############################################################################
##############################################################################
* checking for file 'customProDB/DESCRIPTION' ... OK
* preparing 'customProDB':
* checking DESCRIPTION meta-information ... OK
* installing the package to build vignettes
* creating vignettes ... OK
* checking for LF line-endings in source and make files and shell scripts
* checking for empty or unneeded directories
  NB: this package now depends on R (>= 3.5.0)
  WARNING: Added dependency on R >= 3.5.0 because serialized objects in
  serialize/load version 3 cannot be read in older versions of R.
  File(s) containing such objects:
    'customProDB/inst/extdata/refseq/cosmic.RData'
    'customProDB/inst/extdata/refseq/dbsnpinCoding.RData'
* building 'customProDB_1.44.0.tar.gz'