| Back to Multiple platform build/check report for BioC 3.19: simplified long |
|
This page was generated on 2024-06-11 14:43 -0400 (Tue, 11 Jun 2024).
| Hostname | OS | Arch (*) | R version | Installed pkgs |
|---|---|---|---|---|
| nebbiolo1 | Linux (Ubuntu 22.04.3 LTS) | x86_64 | 4.4.0 (2024-04-24) -- "Puppy Cup" | 4757 |
| palomino3 | Windows Server 2022 Datacenter | x64 | 4.4.0 (2024-04-24 ucrt) -- "Puppy Cup" | 4491 |
| lconway | macOS 12.7.1 Monterey | x86_64 | 4.4.0 (2024-04-24) -- "Puppy Cup" | 4522 |
| kjohnson3 | macOS 13.6.5 Ventura | arm64 | 4.4.0 (2024-04-24) -- "Puppy Cup" | 4468 |
| Click on any hostname to see more info about the system (e.g. compilers) (*) as reported by 'uname -p', except on Windows and Mac OS X | ||||
| Package 403/2300 | Hostname | OS / Arch | INSTALL | BUILD | CHECK | BUILD BIN | ||||||||
| codelink 1.72.0 (landing page) Diego Diez
| nebbiolo1 | Linux (Ubuntu 22.04.3 LTS) / x86_64 | OK | OK | OK | |||||||||
| palomino3 | Windows Server 2022 Datacenter / x64 | OK | OK | OK | OK | |||||||||
| lconway | macOS 12.7.1 Monterey / x86_64 | OK | OK | OK | OK | |||||||||
| kjohnson3 | macOS 13.6.5 Ventura / arm64 | OK | OK | OK | OK | |||||||||
|
To the developers/maintainers of the codelink package: - Allow up to 24 hours (and sometimes 48 hours) for your latest push to git@git.bioconductor.org:packages/codelink.git to reflect on this report. See Troubleshooting Build Report for more information. - Use the following Renviron settings to reproduce errors and warnings. - If 'R CMD check' started to fail recently on the Linux builder(s) over a missing dependency, add the missing dependency to 'Suggests:' in your DESCRIPTION file. See Renviron.bioc for more information. |
| Package: codelink |
| Version: 1.72.0 |
| Command: /Library/Frameworks/R.framework/Resources/bin/R CMD check --install=check:codelink.install-out.txt --library=/Library/Frameworks/R.framework/Resources/library --no-vignettes --timings codelink_1.72.0.tar.gz |
| StartedAt: 2024-06-10 11:19:04 -0400 (Mon, 10 Jun 2024) |
| EndedAt: 2024-06-10 11:22:34 -0400 (Mon, 10 Jun 2024) |
| EllapsedTime: 209.7 seconds |
| RetCode: 0 |
| Status: OK |
| CheckDir: codelink.Rcheck |
| Warnings: 0 |
##############################################################################
##############################################################################
###
### Running command:
###
### /Library/Frameworks/R.framework/Resources/bin/R CMD check --install=check:codelink.install-out.txt --library=/Library/Frameworks/R.framework/Resources/library --no-vignettes --timings codelink_1.72.0.tar.gz
###
##############################################################################
##############################################################################
* using log directory ‘/Users/biocbuild/bbs-3.19-bioc/meat/codelink.Rcheck’
* using R version 4.4.0 (2024-04-24)
* using platform: aarch64-apple-darwin20
* R was compiled by
Apple clang version 14.0.0 (clang-1400.0.29.202)
GNU Fortran (GCC) 12.2.0
* running under: macOS Ventura 13.6.5
* using session charset: UTF-8
* using option ‘--no-vignettes’
* checking for file ‘codelink/DESCRIPTION’ ... OK
* this is package ‘codelink’ version ‘1.72.0’
* checking package namespace information ... OK
* checking package dependencies ... OK
* checking if this is a source package ... OK
* checking if there is a namespace ... OK
* checking for hidden files and directories ... OK
* checking for portable file names ... OK
* checking for sufficient/correct file permissions ... OK
* checking whether package ‘codelink’ can be installed ... OK
* checking installed package size ... OK
* checking package directory ... OK
* checking ‘build’ directory ... OK
* checking DESCRIPTION meta-information ... OK
* checking top-level files ... OK
* checking for left-over files ... OK
* checking index information ... OK
* checking package subdirectories ... OK
* checking code files for non-ASCII characters ... OK
* checking R files for syntax errors ... OK
* checking whether the package can be loaded ... OK
* checking whether the package can be loaded with stated dependencies ... OK
* checking whether the package can be unloaded cleanly ... OK
* checking whether the namespace can be loaded with stated dependencies ... OK
* checking whether the namespace can be unloaded cleanly ... OK
* checking dependencies in R code ... OK
* checking S3 generic/method consistency ... OK
* checking replacement functions ... OK
* checking foreign function calls ... OK
* checking R code for possible problems ... OK
* checking Rd files ... NOTE
checkRd: (-1) readCodelink.Rd:25: Escaped LaTeX specials: \_
checkRd: (-1) writeCodelink.Rd:21: Escaped LaTeX specials: \_ \_ \_
* checking Rd metadata ... OK
* checking Rd cross-references ... OK
* checking for missing documentation entries ... OK
* checking for code/documentation mismatches ... OK
* checking Rd \usage sections ... OK
* checking Rd contents ... OK
* checking for unstated dependencies in examples ... OK
* checking contents of ‘data’ directory ... OK
* checking data for non-ASCII characters ... OK
* checking data for ASCII and uncompressed saves ... OK
* checking sizes of PDF files under ‘inst/doc’ ... OK
* checking installed files from ‘inst/doc’ ... OK
* checking files in ‘vignettes’ ... OK
* checking examples ... OK
* checking for unstated dependencies in vignettes ... OK
* checking package vignettes ... NOTE
Package vignettes with \VignetteEngine{} not specifying an engine package:
‘Codelink_Introduction.Rnw’
‘Codelink_Legacy.Rnw’
Engines should be specified as \VignetteEngine{PKG::ENG}.
* checking running R code from vignettes ... SKIPPED
* checking re-building of vignette outputs ... SKIPPED
* checking PDF version of manual ... OK
* DONE
Status: 2 NOTEs
See
‘/Users/biocbuild/bbs-3.19-bioc/meat/codelink.Rcheck/00check.log’
for details.
codelink.Rcheck/00install.out
############################################################################## ############################################################################## ### ### Running command: ### ### /Library/Frameworks/R.framework/Resources/bin/R CMD INSTALL codelink ### ############################################################################## ############################################################################## * installing to library ‘/Library/Frameworks/R.framework/Versions/4.4-arm64/Resources/library’ * installing *source* package ‘codelink’ ... ** using staged installation ** R ** data ** inst ** byte-compile and prepare package for lazy loading ** help *** installing help indices ** building package indices ** installing vignettes ** testing if installed package can be loaded from temporary location ** testing if installed package can be loaded from final location ** testing if installed package keeps a record of temporary installation path * DONE (codelink)
codelink.Rcheck/codelink-Ex.timings
| name | user | system | elapsed | |
| Codelink-class | 0.000 | 0.001 | 0.000 | |
| CodelinkSet-class | 0.000 | 0.001 | 0.000 | |
| CodelinkSetUnique-class | 0 | 0 | 0 | |
| arrayNew | 0 | 0 | 0 | |
| as.matrix.Codelink | 0 | 0 | 0 | |
| averageProbes | 0 | 0 | 0 | |
| bkgdCorrect | 0.356 | 0.014 | 0.570 | |
| createWeights | 0.693 | 0.012 | 1.066 | |
| cutCV | 0 | 0 | 0 | |
| dim.Codelink | 0 | 0 | 0 | |
| imageCodelink | 0 | 0 | 0 | |
| logCodelink | 0.000 | 0.000 | 0.001 | |
| mergeArray | 0 | 0 | 0 | |
| na2false | 0 | 0 | 0 | |
| normalize | 1.068 | 0.027 | 1.692 | |
| plotCorrelation | 0.000 | 0.000 | 0.001 | |
| plotDensities | 0.000 | 0.000 | 0.001 | |
| plotMA | 0.000 | 0.001 | 0.000 | |
| readCodelink | 0.000 | 0.000 | 0.001 | |
| readHeader | 0 | 0 | 0 | |
| readHeaderXLS | 0.000 | 0.000 | 0.001 | |
| writeCodelink | 0.000 | 0.001 | 0.000 | |