| Back to Multiple platform build/check report for BioC 3.19: simplified long |
|
This page was generated on 2024-10-18 20:38 -0400 (Fri, 18 Oct 2024).
| Hostname | OS | Arch (*) | R version | Installed pkgs |
|---|---|---|---|---|
| nebbiolo1 | Linux (Ubuntu 22.04.3 LTS) | x86_64 | 4.4.1 (2024-06-14) -- "Race for Your Life" | 4763 |
| palomino7 | Windows Server 2022 Datacenter | x64 | 4.4.1 (2024-06-14 ucrt) -- "Race for Your Life" | 4500 |
| merida1 | macOS 12.7.5 Monterey | x86_64 | 4.4.1 (2024-06-14) -- "Race for Your Life" | 4530 |
| kjohnson1 | macOS 13.6.6 Ventura | arm64 | 4.4.1 (2024-06-14) -- "Race for Your Life" | 4480 |
| Click on any hostname to see more info about the system (e.g. compilers) (*) as reported by 'uname -p', except on Windows and Mac OS X | ||||
| Package 383/2300 | Hostname | OS / Arch | INSTALL | BUILD | CHECK | BUILD BIN | ||||||||
| cmapR 1.16.0 (landing page) Ted Natoli
| nebbiolo1 | Linux (Ubuntu 22.04.3 LTS) / x86_64 | OK | OK | OK | |||||||||
| palomino7 | Windows Server 2022 Datacenter / x64 | OK | OK | OK | OK | |||||||||
| merida1 | macOS 12.7.5 Monterey / x86_64 | OK | OK | OK | OK | |||||||||
| kjohnson1 | macOS 13.6.6 Ventura / arm64 | OK | OK | OK | OK | |||||||||
|
To the developers/maintainers of the cmapR package: - Allow up to 24 hours (and sometimes 48 hours) for your latest push to git@git.bioconductor.org:packages/cmapR.git to reflect on this report. See Troubleshooting Build Report for more information. - Use the following Renviron settings to reproduce errors and warnings. - If 'R CMD check' started to fail recently on the Linux builder(s) over a missing dependency, add the missing dependency to 'Suggests:' in your DESCRIPTION file. See Renviron.bioc for more information. |
| Package: cmapR |
| Version: 1.16.0 |
| Command: /home/biocbuild/bbs-3.19-bioc/R/bin/R CMD check --install=check:cmapR.install-out.txt --library=/home/biocbuild/bbs-3.19-bioc/R/site-library --timings cmapR_1.16.0.tar.gz |
| StartedAt: 2024-10-16 22:54:18 -0400 (Wed, 16 Oct 2024) |
| EndedAt: 2024-10-16 22:57:34 -0400 (Wed, 16 Oct 2024) |
| EllapsedTime: 195.5 seconds |
| RetCode: 0 |
| Status: OK |
| CheckDir: cmapR.Rcheck |
| Warnings: 0 |
##############################################################################
##############################################################################
###
### Running command:
###
### /home/biocbuild/bbs-3.19-bioc/R/bin/R CMD check --install=check:cmapR.install-out.txt --library=/home/biocbuild/bbs-3.19-bioc/R/site-library --timings cmapR_1.16.0.tar.gz
###
##############################################################################
##############################################################################
* using log directory ‘/home/biocbuild/bbs-3.19-bioc/meat/cmapR.Rcheck’
* using R version 4.4.1 (2024-06-14)
* using platform: x86_64-pc-linux-gnu
* R was compiled by
gcc (Ubuntu 11.4.0-1ubuntu1~22.04) 11.4.0
GNU Fortran (Ubuntu 11.4.0-1ubuntu1~22.04) 11.4.0
* running under: Ubuntu 22.04.5 LTS
* using session charset: UTF-8
* checking for file ‘cmapR/DESCRIPTION’ ... OK
* checking extension type ... Package
* this is package ‘cmapR’ version ‘1.16.0’
* checking package namespace information ... OK
* checking package dependencies ... OK
* checking if this is a source package ... OK
* checking if there is a namespace ... OK
* checking for hidden files and directories ... NOTE
Found the following hidden files and directories:
.dockerignore
docs/build/html/.buildinfo
These were most likely included in error. See section ‘Package
structure’ in the ‘Writing R Extensions’ manual.
* checking for portable file names ... OK
* checking for sufficient/correct file permissions ... OK
* checking whether package ‘cmapR’ can be installed ... OK
* checking installed package size ... OK
* checking package directory ... OK
* checking ‘build’ directory ... OK
* checking DESCRIPTION meta-information ... OK
* checking top-level files ... OK
* checking for left-over files ... OK
* checking index information ... OK
* checking package subdirectories ... OK
* checking code files for non-ASCII characters ... OK
* checking R files for syntax errors ... OK
* checking whether the package can be loaded ... OK
* checking whether the package can be loaded with stated dependencies ... OK
* checking whether the package can be unloaded cleanly ... OK
* checking whether the namespace can be loaded with stated dependencies ... OK
* checking whether the namespace can be unloaded cleanly ... OK
* checking loading without being on the library search path ... OK
* checking dependencies in R code ... OK
* checking S3 generic/method consistency ... OK
* checking replacement functions ... OK
* checking foreign function calls ... OK
* checking R code for possible problems ... NOTE
aggregate_gct: no visible binding for global variable ‘.SD’
Undefined global functions or variables:
.SD
* checking Rd files ... OK
* checking Rd metadata ... OK
* checking Rd cross-references ... OK
* checking for missing documentation entries ... OK
* checking for code/documentation mismatches ... OK
* checking Rd \usage sections ... OK
* checking Rd contents ... OK
* checking for unstated dependencies in examples ... OK
* checking contents of ‘data’ directory ... OK
* checking data for non-ASCII characters ... OK
* checking LazyData ... OK
* checking data for ASCII and uncompressed saves ... OK
* checking line endings in Makefiles ... OK
* checking for GNU extensions in Makefiles ... OK
* checking include directives in Makefiles ... OK
* checking files in ‘vignettes’ ... OK
* checking examples ... OK
* checking for unstated dependencies in ‘tests’ ... OK
* checking tests ...
Running ‘testthat.R’
OK
* checking for unstated dependencies in vignettes ... OK
* checking package vignettes ... OK
* checking re-building of vignette outputs ... OK
* checking PDF version of manual ... OK
* DONE
Status: 2 NOTEs
See
‘/home/biocbuild/bbs-3.19-bioc/meat/cmapR.Rcheck/00check.log’
for details.
cmapR.Rcheck/00install.out
############################################################################## ############################################################################## ### ### Running command: ### ### /home/biocbuild/bbs-3.19-bioc/R/bin/R CMD INSTALL cmapR ### ############################################################################## ############################################################################## * installing to library ‘/home/biocbuild/bbs-3.19-bioc/R/site-library’ * installing *source* package ‘cmapR’ ... ** using staged installation ** R ** data *** moving datasets to lazyload DB ** inst ** byte-compile and prepare package for lazy loading ** help *** installing help indices ** building package indices ** installing vignettes ** testing if installed package can be loaded from temporary location ** testing if installed package can be loaded from final location ** testing if installed package keeps a record of temporary installation path * DONE (cmapR)
cmapR.Rcheck/tests/testthat.Rout
R version 4.4.1 (2024-06-14) -- "Race for Your Life"
Copyright (C) 2024 The R Foundation for Statistical Computing
Platform: x86_64-pc-linux-gnu
R is free software and comes with ABSOLUTELY NO WARRANTY.
You are welcome to redistribute it under certain conditions.
Type 'license()' or 'licence()' for distribution details.
R is a collaborative project with many contributors.
Type 'contributors()' for more information and
'citation()' on how to cite R or R packages in publications.
Type 'demo()' for some demos, 'help()' for on-line help, or
'help.start()' for an HTML browser interface to help.
Type 'q()' to quit R.
> library(testthat)
> library(cmapR)
>
> test_check("cmapR")
Saving file to foo.gct
Dimensions of matrix: [10x5]
Setting precision to 4
Saved.
Saving file to foo.gct
Dimensions of matrix: [10x5]
Setting precision to 4
Saved.
Saving file to foo.gct
Dimensions of matrix: [10x5]
Setting precision to 4
Saved.
Saving file to ./foo_n272x978.gct
Dimensions of matrix: [978x272]
Setting precision to 4
Saved.
[ FAIL 0 | WARN 0 | SKIP 2 | PASS 168 ]
══ Skipped tests (2) ═══════════════════════════════════════════════════════════
• empty test (2): 'test_0.2_io.R:66:1', 'test_0.2_io.R:115:1'
[ FAIL 0 | WARN 0 | SKIP 2 | PASS 168 ]
>
> proc.time()
user system elapsed
14.823 0.784 15.347
cmapR.Rcheck/cmapR-Ex.timings
| name | user | system | elapsed | |
| GCT | 0.277 | 0.008 | 0.285 | |
| align_matrices | 0.003 | 0.000 | 0.003 | |
| annotate_gct | 0.130 | 0.028 | 0.158 | |
| append_dim | 0.000 | 0.001 | 0.001 | |
| check_colnames | 0.000 | 0.003 | 0.003 | |
| check_dups | 0 | 0 | 0 | |
| distil | 0.001 | 0.000 | 0.001 | |
| extract_gct | 0.657 | 0.016 | 0.673 | |
| fix_datatypes | 0.01 | 0.00 | 0.01 | |
| ids | 0.017 | 0.000 | 0.017 | |
| is.wholenumber | 0 | 0 | 0 | |
| lxb2mat | 0.095 | 0.044 | 0.140 | |
| mat | 0.001 | 0.002 | 0.002 | |
| melt_gct | 2.247 | 0.118 | 2.191 | |
| merge_gct | 0.073 | 0.007 | 0.081 | |
| merge_with_precedence | 0.008 | 0.001 | 0.008 | |
| meta | 0.002 | 0.000 | 0.003 | |
| na_pad_matrix | 0.001 | 0.003 | 0.004 | |
| parse_gctx | 0.182 | 0.016 | 0.197 | |
| parse_gmt | 0.011 | 0.011 | 0.023 | |
| parse_gmx | 0.011 | 0.000 | 0.012 | |
| parse_grp | 0.000 | 0.002 | 0.002 | |
| process_ids | 0.005 | 0.000 | 0.006 | |
| rank_gct | 0.082 | 0.004 | 0.086 | |
| read_gctx_ids | 0.006 | 0.003 | 0.009 | |
| read_gctx_meta | 0.094 | 0.020 | 0.114 | |
| robust_zscore | 0.002 | 0.000 | 0.001 | |
| subset_gct | 0.038 | 0.004 | 0.041 | |
| threshold | 0.001 | 0.000 | 0.001 | |
| transpose_gct | 0.024 | 0.004 | 0.028 | |
| update_gctx | 0 | 0 | 0 | |
| write_gct | 0.930 | 0.064 | 0.994 | |
| write_gctx | 0.214 | 0.044 | 0.258 | |
| write_gctx_meta | 0 | 0 | 0 | |
| write_gmt | 0.001 | 0.000 | 0.000 | |
| write_grp | 0 | 0 | 0 | |
| write_tbl | 0 | 0 | 0 | |