| Back to Multiple platform build/check report for BioC 3.19: simplified long |
|
This page was generated on 2024-06-11 14:43 -0400 (Tue, 11 Jun 2024).
| Hostname | OS | Arch (*) | R version | Installed pkgs |
|---|---|---|---|---|
| nebbiolo1 | Linux (Ubuntu 22.04.3 LTS) | x86_64 | 4.4.0 (2024-04-24) -- "Puppy Cup" | 4757 |
| palomino3 | Windows Server 2022 Datacenter | x64 | 4.4.0 (2024-04-24 ucrt) -- "Puppy Cup" | 4491 |
| lconway | macOS 12.7.1 Monterey | x86_64 | 4.4.0 (2024-04-24) -- "Puppy Cup" | 4522 |
| kjohnson3 | macOS 13.6.5 Ventura | arm64 | 4.4.0 (2024-04-24) -- "Puppy Cup" | 4468 |
| Click on any hostname to see more info about the system (e.g. compilers) (*) as reported by 'uname -p', except on Windows and Mac OS X | ||||
| Package 380/2300 | Hostname | OS / Arch | INSTALL | BUILD | CHECK | BUILD BIN | ||||||||
| clustifyr 1.16.0 (landing page) Kent Riemondy
| nebbiolo1 | Linux (Ubuntu 22.04.3 LTS) / x86_64 | OK | OK | OK | |||||||||
| palomino3 | Windows Server 2022 Datacenter / x64 | OK | OK | OK | OK | |||||||||
| lconway | macOS 12.7.1 Monterey / x86_64 | OK | OK | OK | OK | |||||||||
| kjohnson3 | macOS 13.6.5 Ventura / arm64 | OK | OK | OK | OK | |||||||||
|
To the developers/maintainers of the clustifyr package: - Allow up to 24 hours (and sometimes 48 hours) for your latest push to git@git.bioconductor.org:packages/clustifyr.git to reflect on this report. See Troubleshooting Build Report for more information. - Use the following Renviron settings to reproduce errors and warnings. - If 'R CMD check' started to fail recently on the Linux builder(s) over a missing dependency, add the missing dependency to 'Suggests:' in your DESCRIPTION file. See Renviron.bioc for more information. |
| Package: clustifyr |
| Version: 1.16.0 |
| Command: /Library/Frameworks/R.framework/Resources/bin/R CMD check --install=check:clustifyr.install-out.txt --library=/Library/Frameworks/R.framework/Resources/library --no-vignettes --timings clustifyr_1.16.0.tar.gz |
| StartedAt: 2024-06-10 11:00:38 -0400 (Mon, 10 Jun 2024) |
| EndedAt: 2024-06-10 11:26:21 -0400 (Mon, 10 Jun 2024) |
| EllapsedTime: 1542.8 seconds |
| RetCode: 0 |
| Status: OK |
| CheckDir: clustifyr.Rcheck |
| Warnings: 0 |
##############################################################################
##############################################################################
###
### Running command:
###
### /Library/Frameworks/R.framework/Resources/bin/R CMD check --install=check:clustifyr.install-out.txt --library=/Library/Frameworks/R.framework/Resources/library --no-vignettes --timings clustifyr_1.16.0.tar.gz
###
##############################################################################
##############################################################################
* using log directory ‘/Users/biocbuild/bbs-3.19-bioc/meat/clustifyr.Rcheck’
* using R version 4.4.0 (2024-04-24)
* using platform: aarch64-apple-darwin20
* R was compiled by
Apple clang version 14.0.0 (clang-1400.0.29.202)
GNU Fortran (GCC) 12.2.0
* running under: macOS Ventura 13.6.5
* using session charset: UTF-8
* using option ‘--no-vignettes’
* checking for file ‘clustifyr/DESCRIPTION’ ... OK
* this is package ‘clustifyr’ version ‘1.16.0’
* package encoding: UTF-8
* checking package namespace information ... OK
* checking package dependencies ... OK
* checking if this is a source package ... OK
* checking if there is a namespace ... OK
* checking for hidden files and directories ... OK
* checking for portable file names ... OK
* checking for sufficient/correct file permissions ... OK
* checking whether package ‘clustifyr’ can be installed ... OK
* checking installed package size ... OK
* checking package directory ... OK
* checking ‘build’ directory ... OK
* checking DESCRIPTION meta-information ... NOTE
License stub is invalid DCF.
* checking top-level files ... OK
* checking for left-over files ... OK
* checking index information ... OK
* checking package subdirectories ... OK
* checking code files for non-ASCII characters ... OK
* checking R files for syntax errors ... OK
* checking whether the package can be loaded ... OK
* checking whether the package can be loaded with stated dependencies ... OK
* checking whether the package can be unloaded cleanly ... OK
* checking whether the namespace can be loaded with stated dependencies ... OK
* checking whether the namespace can be unloaded cleanly ... OK
* checking dependencies in R code ... OK
* checking S3 generic/method consistency ... OK
* checking replacement functions ... OK
* checking foreign function calls ... OK
* checking R code for possible problems ... OK
* checking Rd files ... OK
* checking Rd metadata ... OK
* checking Rd cross-references ... OK
* checking for missing documentation entries ... OK
* checking for code/documentation mismatches ... OK
* checking Rd \usage sections ... OK
* checking Rd contents ... OK
* checking for unstated dependencies in examples ... OK
* checking contents of ‘data’ directory ... OK
* checking data for non-ASCII characters ... OK
* checking LazyData ... OK
* checking data for ASCII and uncompressed saves ... OK
* checking files in ‘vignettes’ ... OK
* checking examples ... OK
Examples with CPU (user + system) or elapsed time > 5s
user system elapsed
plot_pathway_gsea 26.875 0.198 41.837
calculate_pathway_gsea 22.974 0.188 38.849
* checking for unstated dependencies in ‘tests’ ... OK
* checking tests ...
Running ‘testthat.R’
OK
* checking for unstated dependencies in vignettes ... OK
* checking package vignettes ... OK
* checking running R code from vignettes ... SKIPPED
* checking re-building of vignette outputs ... SKIPPED
* checking PDF version of manual ... OK
* DONE
Status: 1 NOTE
See
‘/Users/biocbuild/bbs-3.19-bioc/meat/clustifyr.Rcheck/00check.log’
for details.
clustifyr.Rcheck/00install.out
############################################################################## ############################################################################## ### ### Running command: ### ### /Library/Frameworks/R.framework/Resources/bin/R CMD INSTALL clustifyr ### ############################################################################## ############################################################################## * installing to library ‘/Library/Frameworks/R.framework/Versions/4.4-arm64/Resources/library’ * installing *source* package ‘clustifyr’ ... ** using staged installation ** R ** data *** moving datasets to lazyload DB ** inst ** byte-compile and prepare package for lazy loading ** help *** installing help indices *** copying figures ** building package indices ** installing vignettes ** testing if installed package can be loaded from temporary location ** testing if installed package can be loaded from final location ** testing if installed package keeps a record of temporary installation path * DONE (clustifyr)
clustifyr.Rcheck/tests/testthat.Rout
R version 4.4.0 (2024-04-24) -- "Puppy Cup"
Copyright (C) 2024 The R Foundation for Statistical Computing
Platform: aarch64-apple-darwin20
R is free software and comes with ABSOLUTELY NO WARRANTY.
You are welcome to redistribute it under certain conditions.
Type 'license()' or 'licence()' for distribution details.
R is a collaborative project with many contributors.
Type 'contributors()' for more information and
'citation()' on how to cite R or R packages in publications.
Type 'demo()' for some demos, 'help()' for on-line help, or
'help.start()' for an HTML browser interface to help.
Type 'q()' to quit R.
> library(testthat)
> library(clustifyr)
>
> test_check("clustifyr")
[ FAIL 0 | WARN 0 | SKIP 0 | PASS 183 ]
>
> proc.time()
user system elapsed
655.661 8.321 1007.917
clustifyr.Rcheck/clustifyr-Ex.timings
| name | user | system | elapsed | |
| append_genes | 0.070 | 0.008 | 0.118 | |
| assess_rank_bias | 0.001 | 0.000 | 0.000 | |
| average_clusters | 1.251 | 0.015 | 1.931 | |
| binarize_expr | 0.041 | 0.002 | 0.063 | |
| build_atlas | 0.064 | 0.012 | 0.123 | |
| calc_distance | 0.006 | 0.000 | 0.010 | |
| calculate_pathway_gsea | 22.974 | 0.188 | 38.849 | |
| call_consensus | 0.233 | 0.010 | 0.419 | |
| call_to_metadata | 0.150 | 0.116 | 0.421 | |
| check_raw_counts | 1.236 | 0.033 | 2.006 | |
| clustify | 1.675 | 0.072 | 2.703 | |
| clustify_lists | 0.851 | 0.018 | 1.297 | |
| clustify_nudge | 0.979 | 0.023 | 1.478 | |
| clustifyr_methods | 0.001 | 0.001 | 0.000 | |
| collapse_to_cluster | 0.607 | 0.052 | 0.910 | |
| compare_lists | 0.145 | 0.004 | 0.201 | |
| cor_to_call | 0.065 | 0.002 | 0.111 | |
| cor_to_call_rank | 0.114 | 0.013 | 0.137 | |
| cor_to_call_topn | 0.072 | 0.001 | 0.114 | |
| downsample_matrix | 0.013 | 0.001 | 0.026 | |
| feature_select_PCA | 0.011 | 0.002 | 0.040 | |
| file_marker_parse | 0.003 | 0.002 | 0.014 | |
| find_rank_bias | 0.034 | 0.002 | 0.064 | |
| gene_pct_markerm | 0.304 | 0.003 | 0.464 | |
| get_ucsc_reference | 0 | 0 | 0 | |
| get_vargenes | 0.001 | 0.000 | 0.001 | |
| gmt_to_list | 0.044 | 0.003 | 0.083 | |
| insert_meta_object | 0.219 | 0.009 | 0.415 | |
| make_comb_ref | 0.012 | 0.000 | 0.013 | |
| marker_select | 0.015 | 0.001 | 0.016 | |
| matrixize_markers | 0.028 | 0.004 | 0.050 | |
| object_data | 0.447 | 0.022 | 0.766 | |
| object_ref | 0.285 | 0.081 | 0.552 | |
| overcluster | 2.320 | 0.072 | 3.308 | |
| overcluster_test | 1.129 | 0.066 | 1.771 | |
| parse_loc_object | 0.230 | 0.026 | 0.426 | |
| plot_best_call | 0.522 | 0.035 | 0.964 | |
| plot_cor | 0.609 | 0.016 | 1.000 | |
| plot_cor_heatmap | 1.029 | 0.058 | 1.890 | |
| plot_dims | 0.253 | 0.007 | 0.439 | |
| plot_gene | 0.519 | 0.017 | 0.826 | |
| plot_pathway_gsea | 26.875 | 0.198 | 41.837 | |
| plot_rank_bias | 0 | 0 | 0 | |
| pos_neg_marker | 0.012 | 0.000 | 0.012 | |
| pos_neg_select | 0.098 | 0.002 | 0.102 | |
| query_rank_bias | 0.037 | 0.002 | 0.038 | |
| ref_feature_select | 0.023 | 0.002 | 0.025 | |
| ref_marker_select | 0.178 | 0.001 | 0.207 | |
| reverse_marker_matrix | 0.004 | 0.003 | 0.014 | |
| run_clustifyr_app | 0 | 0 | 0 | |
| seurat_meta | 0.215 | 0.008 | 0.325 | |
| seurat_ref | 0.242 | 0.011 | 0.363 | |
| write_meta | 0.418 | 0.028 | 0.714 | |