| Back to Multiple platform build/check report for BioC 3.19: simplified long |
|
This page was generated on 2024-10-18 20:41 -0400 (Fri, 18 Oct 2024).
| Hostname | OS | Arch (*) | R version | Installed pkgs |
|---|---|---|---|---|
| nebbiolo1 | Linux (Ubuntu 22.04.3 LTS) | x86_64 | 4.4.1 (2024-06-14) -- "Race for Your Life" | 4763 |
| palomino7 | Windows Server 2022 Datacenter | x64 | 4.4.1 (2024-06-14 ucrt) -- "Race for Your Life" | 4500 |
| merida1 | macOS 12.7.5 Monterey | x86_64 | 4.4.1 (2024-06-14) -- "Race for Your Life" | 4530 |
| kjohnson1 | macOS 13.6.6 Ventura | arm64 | 4.4.1 (2024-06-14) -- "Race for Your Life" | 4480 |
| Click on any hostname to see more info about the system (e.g. compilers) (*) as reported by 'uname -p', except on Windows and Mac OS X | ||||
| Package 380/2300 | Hostname | OS / Arch | INSTALL | BUILD | CHECK | BUILD BIN | ||||||||
| clustifyr 1.16.2 (landing page) Rui Fu
| nebbiolo1 | Linux (Ubuntu 22.04.3 LTS) / x86_64 | OK | OK | OK | |||||||||
| palomino7 | Windows Server 2022 Datacenter / x64 | OK | OK | OK | OK | |||||||||
| merida1 | macOS 12.7.5 Monterey / x86_64 | OK | OK | OK | OK | |||||||||
| kjohnson1 | macOS 13.6.6 Ventura / arm64 | OK | OK | OK | OK | |||||||||
|
To the developers/maintainers of the clustifyr package: - Allow up to 24 hours (and sometimes 48 hours) for your latest push to git@git.bioconductor.org:packages/clustifyr.git to reflect on this report. See Troubleshooting Build Report for more information. - Use the following Renviron settings to reproduce errors and warnings. - If 'R CMD check' started to fail recently on the Linux builder(s) over a missing dependency, add the missing dependency to 'Suggests:' in your DESCRIPTION file. See Renviron.bioc for more information. |
| Package: clustifyr |
| Version: 1.16.2 |
| Command: /Library/Frameworks/R.framework/Resources/bin/R CMD check --install=check:clustifyr.install-out.txt --library=/Library/Frameworks/R.framework/Resources/library --no-vignettes --timings clustifyr_1.16.2.tar.gz |
| StartedAt: 2024-10-17 16:36:08 -0400 (Thu, 17 Oct 2024) |
| EndedAt: 2024-10-17 16:52:05 -0400 (Thu, 17 Oct 2024) |
| EllapsedTime: 956.9 seconds |
| RetCode: 0 |
| Status: OK |
| CheckDir: clustifyr.Rcheck |
| Warnings: 0 |
##############################################################################
##############################################################################
###
### Running command:
###
### /Library/Frameworks/R.framework/Resources/bin/R CMD check --install=check:clustifyr.install-out.txt --library=/Library/Frameworks/R.framework/Resources/library --no-vignettes --timings clustifyr_1.16.2.tar.gz
###
##############################################################################
##############################################################################
* using log directory ‘/Users/biocbuild/bbs-3.19-bioc/meat/clustifyr.Rcheck’
* using R version 4.4.1 (2024-06-14)
* using platform: aarch64-apple-darwin20
* R was compiled by
Apple clang version 14.0.0 (clang-1400.0.29.202)
GNU Fortran (GCC) 12.2.0
* running under: macOS Ventura 13.6.6
* using session charset: UTF-8
* using option ‘--no-vignettes’
* checking for file ‘clustifyr/DESCRIPTION’ ... OK
* this is package ‘clustifyr’ version ‘1.16.2’
* package encoding: UTF-8
* checking package namespace information ... OK
* checking package dependencies ... OK
* checking if this is a source package ... OK
* checking if there is a namespace ... OK
* checking for hidden files and directories ... OK
* checking for portable file names ... OK
* checking for sufficient/correct file permissions ... OK
* checking whether package ‘clustifyr’ can be installed ... OK
* checking installed package size ... OK
* checking package directory ... OK
* checking ‘build’ directory ... OK
* checking DESCRIPTION meta-information ... NOTE
License stub is invalid DCF.
* checking top-level files ... OK
* checking for left-over files ... OK
* checking index information ... OK
* checking package subdirectories ... OK
* checking code files for non-ASCII characters ... OK
* checking R files for syntax errors ... OK
* checking whether the package can be loaded ... OK
* checking whether the package can be loaded with stated dependencies ... OK
* checking whether the package can be unloaded cleanly ... OK
* checking whether the namespace can be loaded with stated dependencies ... OK
* checking whether the namespace can be unloaded cleanly ... OK
* checking dependencies in R code ... OK
* checking S3 generic/method consistency ... OK
* checking replacement functions ... OK
* checking foreign function calls ... OK
* checking R code for possible problems ... OK
* checking Rd files ... OK
* checking Rd metadata ... OK
* checking Rd cross-references ... OK
* checking for missing documentation entries ... OK
* checking for code/documentation mismatches ... OK
* checking Rd \usage sections ... OK
* checking Rd contents ... OK
* checking for unstated dependencies in examples ... OK
* checking contents of ‘data’ directory ... OK
* checking data for non-ASCII characters ... OK
* checking LazyData ... OK
* checking data for ASCII and uncompressed saves ... OK
* checking files in ‘vignettes’ ... OK
* checking examples ... OK
Examples with CPU (user + system) or elapsed time > 5s
user system elapsed
plot_pathway_gsea 22.872 0.142 25.348
calculate_pathway_gsea 19.607 0.127 20.763
* checking for unstated dependencies in ‘tests’ ... OK
* checking tests ...
Running ‘testthat.R’
OK
* checking for unstated dependencies in vignettes ... OK
* checking package vignettes ... OK
* checking running R code from vignettes ... SKIPPED
* checking re-building of vignette outputs ... SKIPPED
* checking PDF version of manual ... OK
* DONE
Status: 1 NOTE
See
‘/Users/biocbuild/bbs-3.19-bioc/meat/clustifyr.Rcheck/00check.log’
for details.
clustifyr.Rcheck/00install.out
############################################################################## ############################################################################## ### ### Running command: ### ### /Library/Frameworks/R.framework/Resources/bin/R CMD INSTALL clustifyr ### ############################################################################## ############################################################################## * installing to library ‘/Library/Frameworks/R.framework/Versions/4.4-arm64/Resources/library’ * installing *source* package ‘clustifyr’ ... ** using staged installation ** R ** data *** moving datasets to lazyload DB ** inst ** byte-compile and prepare package for lazy loading ** help *** installing help indices *** copying figures ** building package indices ** installing vignettes ** testing if installed package can be loaded from temporary location ** testing if installed package can be loaded from final location ** testing if installed package keeps a record of temporary installation path * DONE (clustifyr)
clustifyr.Rcheck/tests/testthat.Rout
R version 4.4.1 (2024-06-14) -- "Race for Your Life"
Copyright (C) 2024 The R Foundation for Statistical Computing
Platform: aarch64-apple-darwin20
R is free software and comes with ABSOLUTELY NO WARRANTY.
You are welcome to redistribute it under certain conditions.
Type 'license()' or 'licence()' for distribution details.
R is a collaborative project with many contributors.
Type 'contributors()' for more information and
'citation()' on how to cite R or R packages in publications.
Type 'demo()' for some demos, 'help()' for on-line help, or
'help.start()' for an HTML browser interface to help.
Type 'q()' to quit R.
> library(testthat)
> library(clustifyr)
>
> test_check("clustifyr")
[ FAIL 0 | WARN 0 | SKIP 0 | PASS 183 ]
>
> proc.time()
user system elapsed
564.062 9.559 602.821
clustifyr.Rcheck/clustifyr-Ex.timings
| name | user | system | elapsed | |
| append_genes | 0.062 | 0.009 | 0.072 | |
| assess_rank_bias | 0.000 | 0.001 | 0.000 | |
| average_clusters | 1.115 | 0.028 | 1.162 | |
| binarize_expr | 0.048 | 0.004 | 0.054 | |
| build_atlas | 0.059 | 0.017 | 0.082 | |
| calc_distance | 0.007 | 0.000 | 0.008 | |
| calculate_pathway_gsea | 19.607 | 0.127 | 20.763 | |
| call_consensus | 0.253 | 0.010 | 0.267 | |
| call_to_metadata | 0.206 | 0.156 | 0.370 | |
| check_raw_counts | 1.086 | 0.038 | 1.147 | |
| clustify | 1.813 | 0.095 | 2.139 | |
| clustify_lists | 1.062 | 0.020 | 1.157 | |
| clustify_nudge | 1.118 | 0.026 | 1.414 | |
| clustifyr_methods | 0.001 | 0.000 | 0.000 | |
| collapse_to_cluster | 0.795 | 0.074 | 1.017 | |
| compare_lists | 0.157 | 0.007 | 0.196 | |
| cor_to_call | 0.036 | 0.003 | 0.088 | |
| cor_to_call_rank | 0.999 | 0.018 | 1.270 | |
| cor_to_call_topn | 0.071 | 0.003 | 0.084 | |
| downsample_matrix | 0.014 | 0.000 | 0.014 | |
| feature_select_PCA | 0.012 | 0.002 | 0.017 | |
| file_marker_parse | 0.002 | 0.001 | 0.003 | |
| find_rank_bias | 0.040 | 0.004 | 0.046 | |
| gene_pct_markerm | 0.365 | 0.004 | 0.427 | |
| get_ucsc_reference | 0.000 | 0.000 | 0.001 | |
| get_vargenes | 0.000 | 0.000 | 0.001 | |
| gmt_to_list | 0.051 | 0.003 | 0.065 | |
| insert_meta_object | 0.243 | 0.013 | 0.266 | |
| make_comb_ref | 0.016 | 0.001 | 0.021 | |
| marker_select | 0.021 | 0.001 | 0.024 | |
| matrixize_markers | 0.031 | 0.005 | 0.036 | |
| object_data | 0.437 | 0.025 | 0.483 | |
| object_ref | 0.282 | 0.116 | 0.433 | |
| overcluster | 0.986 | 0.144 | 1.280 | |
| overcluster_test | 1.273 | 0.071 | 1.521 | |
| parse_loc_object | 0.263 | 0.030 | 0.321 | |
| plot_best_call | 0.646 | 0.014 | 0.752 | |
| plot_cor | 0.701 | 0.028 | 0.914 | |
| plot_cor_heatmap | 1.108 | 0.084 | 1.623 | |
| plot_dims | 0.240 | 0.010 | 0.281 | |
| plot_gene | 0.552 | 0.022 | 0.636 | |
| plot_pathway_gsea | 22.872 | 0.142 | 25.348 | |
| plot_rank_bias | 0.000 | 0.001 | 0.001 | |
| pos_neg_marker | 0.009 | 0.001 | 0.010 | |
| pos_neg_select | 0.094 | 0.003 | 0.102 | |
| query_rank_bias | 0.044 | 0.003 | 0.048 | |
| ref_feature_select | 0.030 | 0.004 | 0.035 | |
| ref_marker_select | 0.176 | 0.001 | 0.197 | |
| reverse_marker_matrix | 0.005 | 0.004 | 0.017 | |
| run_clustifyr_app | 0 | 0 | 0 | |
| seurat_meta | 0.229 | 0.015 | 0.295 | |
| seurat_ref | 0.276 | 0.028 | 0.359 | |
| write_meta | 0.438 | 0.023 | 0.580 | |