Back to Multiple platform build/check report for BioC 3.19: simplified long |
|
This page was generated on 2024-05-09 11:40:40 -0400 (Thu, 09 May 2024).
Hostname | OS | Arch (*) | R version | Installed pkgs |
---|---|---|---|---|
nebbiolo1 | Linux (Ubuntu 22.04.3 LTS) | x86_64 | 4.4.0 (2024-04-24) -- "Puppy Cup" | 4748 |
palomino3 | Windows Server 2022 Datacenter | x64 | 4.4.0 (2024-04-24 ucrt) -- "Puppy Cup" | 4484 |
lconway | macOS 12.7.1 Monterey | x86_64 | 4.4.0 (2024-04-24) -- "Puppy Cup" | 4514 |
kunpeng2 | Linux (openEuler 22.03 LTS-SP1) | aarch64 | 4.4.0 beta (2024-04-15 r86425) -- "Puppy Cup" | 4480 |
Click on any hostname to see more info about the system (e.g. compilers) (*) as reported by 'uname -p', except on Windows and Mac OS X |
Package 332/2300 | Hostname | OS / Arch | INSTALL | BUILD | CHECK | BUILD BIN | ||||||||
chimeraviz 1.30.0 (landing page) Stian Lågstad
| nebbiolo1 | Linux (Ubuntu 22.04.3 LTS) / x86_64 | OK | OK | OK | ![]() | ||||||||
palomino3 | Windows Server 2022 Datacenter / x64 | OK | OK | OK | OK | ![]() | ||||||||
lconway | macOS 12.7.1 Monterey / x86_64 | OK | OK | OK | OK | ![]() | ||||||||
kunpeng2 | Linux (openEuler 22.03 LTS-SP1) / aarch64 | OK | OK | OK | ||||||||||
kjohnson3 | macOS 13.6.5 Ventura / arm64 | see weekly results here | ||||||||||||
To the developers/maintainers of the chimeraviz package: - Allow up to 24 hours (and sometimes 48 hours) for your latest push to git@git.bioconductor.org:packages/chimeraviz.git to reflect on this report. See Troubleshooting Build Report for more information. - Use the following Renviron settings to reproduce errors and warnings. - If 'R CMD check' started to fail recently on the Linux builder(s) over a missing dependency, add the missing dependency to 'Suggests:' in your DESCRIPTION file. See Renviron.bioc for more information. - See Martin Grigorov's blog post for how to debug Linux ARM64 related issues on a x86_64 host. |
Package: chimeraviz |
Version: 1.30.0 |
Command: /home/biocbuild/R/R-beta-2024-04-15_r86425/bin/R CMD check --install=check:chimeraviz.install-out.txt --library=/home/biocbuild/R/R-beta-2024-04-15_r86425/site-library --no-vignettes --timings chimeraviz_1.30.0.tar.gz |
StartedAt: 2024-05-09 05:47:07 -0000 (Thu, 09 May 2024) |
EndedAt: 2024-05-09 06:01:00 -0000 (Thu, 09 May 2024) |
EllapsedTime: 832.6 seconds |
RetCode: 0 |
Status: OK |
CheckDir: chimeraviz.Rcheck |
Warnings: 0 |
############################################################################## ############################################################################## ### ### Running command: ### ### /home/biocbuild/R/R-beta-2024-04-15_r86425/bin/R CMD check --install=check:chimeraviz.install-out.txt --library=/home/biocbuild/R/R-beta-2024-04-15_r86425/site-library --no-vignettes --timings chimeraviz_1.30.0.tar.gz ### ############################################################################## ############################################################################## * using log directory ‘/home/biocbuild/bbs-3.19-bioc/meat/chimeraviz.Rcheck’ * using R version 4.4.0 beta (2024-04-15 r86425) * using platform: aarch64-unknown-linux-gnu * R was compiled by gcc (GCC) 10.3.1 GNU Fortran (GCC) 10.3.1 * running under: openEuler 22.03 (LTS-SP1) * using session charset: UTF-8 * using option ‘--no-vignettes’ * checking for file ‘chimeraviz/DESCRIPTION’ ... OK * checking extension type ... Package * this is package ‘chimeraviz’ version ‘1.30.0’ * package encoding: UTF-8 * checking package namespace information ... OK * checking package dependencies ... NOTE Depends: includes the non-default packages: 'Biostrings', 'GenomicRanges', 'IRanges', 'Gviz', 'S4Vectors', 'ensembldb', 'AnnotationFilter', 'data.table' Adding so many packages to the search path is excessive and importing selectively is preferable. * checking if this is a source package ... OK * checking if there is a namespace ... OK * checking for hidden files and directories ... OK * checking for portable file names ... OK * checking for sufficient/correct file permissions ... OK * checking whether package ‘chimeraviz’ can be installed ... OK * checking installed package size ... OK * checking package directory ... OK * checking ‘build’ directory ... OK * checking DESCRIPTION meta-information ... OK * checking top-level files ... OK * checking for left-over files ... OK * checking index information ... OK * checking package subdirectories ... OK * checking code files for non-ASCII characters ... OK * checking R files for syntax errors ... OK * checking whether the package can be loaded ... OK * checking whether the package can be loaded with stated dependencies ... OK * checking whether the package can be unloaded cleanly ... OK * checking whether the namespace can be loaded with stated dependencies ... OK * checking whether the namespace can be unloaded cleanly ... OK * checking loading without being on the library search path ... OK * checking dependencies in R code ... NOTE Namespace in Imports field not imported from: 'magick' All declared Imports should be used. * checking S3 generic/method consistency ... OK * checking replacement functions ... OK * checking foreign function calls ... OK * checking R code for possible problems ... NOTE plot_fusion_transcript_with_protein_domain: no visible binding for global variable 'protein_domain_location' Undefined global functions or variables: protein_domain_location * checking Rd files ... OK * checking Rd metadata ... OK * checking Rd cross-references ... OK * checking for missing documentation entries ... OK * checking for code/documentation mismatches ... OK * checking Rd \usage sections ... OK * checking Rd contents ... OK * checking for unstated dependencies in examples ... OK * checking files in ‘vignettes’ ... OK * checking examples ... OK Examples with CPU (user + system) or elapsed time > 5s user system elapsed plot_fusion 41.457 1.760 52.094 plot_transcripts 25.118 0.267 25.435 plot_fusion_transcript 20.611 0.335 20.989 plot_fusion_transcripts_graph 12.877 0.164 13.069 plot_fusion_transcript_with_protein_domain 12.837 0.143 13.009 get_transcripts_ensembl_db 8.325 0.311 8.658 select_transcript 8.039 0.044 8.101 * checking for unstated dependencies in ‘tests’ ... OK * checking tests ... Running ‘testthat.R’ OK * checking for unstated dependencies in vignettes ... OK * checking package vignettes ... OK * checking running R code from vignettes ... SKIPPED * checking re-building of vignette outputs ... SKIPPED * checking PDF version of manual ... OK * DONE Status: 3 NOTEs See ‘/home/biocbuild/bbs-3.19-bioc/meat/chimeraviz.Rcheck/00check.log’ for details.
chimeraviz.Rcheck/00install.out
############################################################################## ############################################################################## ### ### Running command: ### ### /home/biocbuild/R/R-beta-2024-04-15_r86425/bin/R CMD INSTALL chimeraviz ### ############################################################################## ############################################################################## * installing to library ‘/home/biocbuild/R/R-beta-2024-04-15_r86425/site-library’ * installing *source* package ‘chimeraviz’ ... ** using staged installation ** R ** inst ** byte-compile and prepare package for lazy loading ** help *** installing help indices ** building package indices ** installing vignettes ** testing if installed package can be loaded from temporary location ** testing if installed package can be loaded from final location ** testing if installed package keeps a record of temporary installation path * DONE (chimeraviz)
chimeraviz.Rcheck/tests/testthat.Rout
R version 4.4.0 beta (2024-04-15 r86425) -- "Puppy Cup" Copyright (C) 2024 The R Foundation for Statistical Computing Platform: aarch64-unknown-linux-gnu R is free software and comes with ABSOLUTELY NO WARRANTY. You are welcome to redistribute it under certain conditions. Type 'license()' or 'licence()' for distribution details. R is a collaborative project with many contributors. Type 'contributors()' for more information and 'citation()' on how to cite R or R packages in publications. Type 'demo()' for some demos, 'help()' for on-line help, or 'help.start()' for an HTML browser interface to help. Type 'q()' to quit R. > library(testthat) > library(chimeraviz) Loading required package: Biostrings Loading required package: BiocGenerics Attaching package: 'BiocGenerics' The following objects are masked from 'package:stats': IQR, mad, sd, var, xtabs The following objects are masked from 'package:base': Filter, Find, Map, Position, Reduce, anyDuplicated, aperm, append, as.data.frame, basename, cbind, colnames, dirname, do.call, duplicated, eval, evalq, get, grep, grepl, intersect, is.unsorted, lapply, mapply, match, mget, order, paste, pmax, pmax.int, pmin, pmin.int, rank, rbind, rownames, sapply, setdiff, table, tapply, union, unique, unsplit, which.max, which.min Loading required package: S4Vectors Loading required package: stats4 Attaching package: 'S4Vectors' The following object is masked from 'package:utils': findMatches The following objects are masked from 'package:base': I, expand.grid, unname Loading required package: IRanges Loading required package: XVector Loading required package: GenomeInfoDb Attaching package: 'Biostrings' The following object is masked from 'package:base': strsplit Loading required package: GenomicRanges Loading required package: Gviz Loading required package: grid Attaching package: 'grid' The following object is masked from 'package:Biostrings': pattern Loading required package: ensembldb Loading required package: GenomicFeatures Loading required package: AnnotationDbi Loading required package: Biobase Welcome to Bioconductor Vignettes contain introductory material; view with 'browseVignettes()'. To cite Bioconductor, see 'citation("Biobase")', and for packages 'citation("pkgname")'. Loading required package: AnnotationFilter Attaching package: 'AnnotationFilter' The following object is masked from 'package:Gviz': feature The following object is masked from 'package:testthat': not Attaching package: 'ensembldb' The following object is masked from 'package:stats': filter Loading required package: data.table Attaching package: 'data.table' The following object is masked from 'package:GenomicRanges': shift The following object is masked from 'package:IRanges': shift The following objects are masked from 'package:S4Vectors': first, second > > test_check("chimeraviz") [ FAIL 0 | WARN 0 | SKIP 0 | PASS 224 ] Warning message: call dbDisconnect() when finished working with a connection > > proc.time() user system elapsed 225.273 5.741 239.299
chimeraviz.Rcheck/chimeraviz-Ex.timings
name | user | system | elapsed | |
add_fusion_reads_alignment | 2.341 | 0.051 | 2.400 | |
create_fusion_report | 2.324 | 0.080 | 2.416 | |
decide_transcript_category | 0.266 | 0.012 | 0.280 | |
down_shift | 0.189 | 0.008 | 0.196 | |
downstream_partner_gene | 0.085 | 0.000 | 0.086 | |
fetch_reads_from_fastq | 0 | 0 | 0 | |
fusion_spanning_reads_count | 0.042 | 0.000 | 0.042 | |
fusion_split_reads_count | 0.042 | 0.000 | 0.042 | |
fusion_to_data_frame | 0.043 | 0.000 | 0.043 | |
get_ensembl_ids | 0.716 | 0.052 | 0.774 | |
get_fusion_by_chromosome | 0.048 | 0.000 | 0.048 | |
get_fusion_by_gene_name | 0.048 | 0.000 | 0.048 | |
get_fusion_by_id | 0.051 | 0.000 | 0.051 | |
get_transcripts_ensembl_db | 8.325 | 0.311 | 8.658 | |
import_aeron | 0.702 | 0.020 | 0.729 | |
import_chimpipe | 0.125 | 0.000 | 0.126 | |
import_defuse | 0.128 | 0.008 | 0.135 | |
import_ericscript | 0.127 | 0.004 | 0.133 | |
import_fusioncatcher | 0.128 | 0.000 | 0.129 | |
import_fusionmap | 0.131 | 0.000 | 0.133 | |
import_infusion | 0.130 | 0.000 | 0.131 | |
import_jaffa | 0.116 | 0.012 | 0.129 | |
import_oncofuse | 0.132 | 0.000 | 0.134 | |
import_prada | 0.123 | 0.004 | 0.128 | |
import_soapfuse | 0.124 | 0.000 | 0.126 | |
import_squid | 0.124 | 0.000 | 0.125 | |
import_starfusion | 0.125 | 0.000 | 0.126 | |
partner_gene_ensembl_id | 0.087 | 0.000 | 0.088 | |
partner_gene_junction_sequence | 0.052 | 0.000 | 0.051 | |
plot_circle | 2.375 | 0.167 | 2.540 | |
plot_fusion | 41.457 | 1.760 | 52.094 | |
plot_fusion_reads | 2.756 | 0.132 | 2.892 | |
plot_fusion_transcript | 20.611 | 0.335 | 20.989 | |
plot_fusion_transcript_with_protein_domain | 12.837 | 0.143 | 13.009 | |
plot_fusion_transcripts_graph | 12.877 | 0.164 | 13.069 | |
plot_transcripts | 25.118 | 0.267 | 25.435 | |
select_transcript | 8.039 | 0.044 | 8.101 | |
split_on_utr_and_add_feature | 0.526 | 0.004 | 0.531 | |
upstream_partner_gene | 0.092 | 0.000 | 0.092 | |
write_fusion_reference | 0.058 | 0.000 | 0.058 | |