Back to Multiple platform build/check report for BioC 3.19:   simplified   long
A[B]CDEFGHIJKLMNOPQRSTUVWXYZ

This page was generated on 2024-10-18 20:40 -0400 (Fri, 18 Oct 2024).

HostnameOSArch (*)R versionInstalled pkgs
nebbiolo1Linux (Ubuntu 22.04.3 LTS)x86_644.4.1 (2024-06-14) -- "Race for Your Life" 4763
palomino7Windows Server 2022 Datacenterx644.4.1 (2024-06-14 ucrt) -- "Race for Your Life" 4500
merida1macOS 12.7.5 Montereyx86_644.4.1 (2024-06-14) -- "Race for Your Life" 4530
kjohnson1macOS 13.6.6 Venturaarm644.4.1 (2024-06-14) -- "Race for Your Life" 4480
Click on any hostname to see more info about the system (e.g. compilers)      (*) as reported by 'uname -p', except on Windows and Mac OS X

Package 203/2300HostnameOS / ArchINSTALLBUILDCHECKBUILD BIN
biodbKegg 1.10.2  (landing page)
Pierrick Roger
Snapshot Date: 2024-10-16 14:00 -0400 (Wed, 16 Oct 2024)
git_url: https://git.bioconductor.org/packages/biodbKegg
git_branch: RELEASE_3_19
git_last_commit: 9ac3857
git_last_commit_date: 2024-08-03 12:31:56 -0400 (Sat, 03 Aug 2024)
nebbiolo1Linux (Ubuntu 22.04.3 LTS) / x86_64  OK    OK    OK  UNNEEDED, same version is already published
palomino7Windows Server 2022 Datacenter / x64  OK    OK    OK    OK  UNNEEDED, same version is already published
merida1macOS 12.7.5 Monterey / x86_64  OK    OK    OK    OK  UNNEEDED, same version is already published
kjohnson1macOS 13.6.6 Ventura / arm64  OK    OK    OK    OK  UNNEEDED, same version is already published


CHECK results for biodbKegg on merida1

To the developers/maintainers of the biodbKegg package:
- Allow up to 24 hours (and sometimes 48 hours) for your latest push to git@git.bioconductor.org:packages/biodbKegg.git to reflect on this report. See Troubleshooting Build Report for more information.
- Use the following Renviron settings to reproduce errors and warnings.
- If 'R CMD check' started to fail recently on the Linux builder(s) over a missing dependency, add the missing dependency to 'Suggests:' in your DESCRIPTION file. See Renviron.bioc for more information.

raw results


Summary

Package: biodbKegg
Version: 1.10.2
Command: /Library/Frameworks/R.framework/Resources/bin/R CMD check --install=check:biodbKegg.install-out.txt --library=/Library/Frameworks/R.framework/Resources/library --no-vignettes --timings biodbKegg_1.10.2.tar.gz
StartedAt: 2024-10-17 01:49:17 -0400 (Thu, 17 Oct 2024)
EndedAt: 2024-10-17 02:06:28 -0400 (Thu, 17 Oct 2024)
EllapsedTime: 1031.4 seconds
RetCode: 0
Status:   OK  
CheckDir: biodbKegg.Rcheck
Warnings: 0

Command output

##############################################################################
##############################################################################
###
### Running command:
###
###   /Library/Frameworks/R.framework/Resources/bin/R CMD check --install=check:biodbKegg.install-out.txt --library=/Library/Frameworks/R.framework/Resources/library --no-vignettes --timings biodbKegg_1.10.2.tar.gz
###
##############################################################################
##############################################################################


* using log directory ‘/Users/biocbuild/bbs-3.19-bioc/meat/biodbKegg.Rcheck’
* using R version 4.4.1 (2024-06-14)
* using platform: x86_64-apple-darwin20
* R was compiled by
    Apple clang version 14.0.0 (clang-1400.0.29.202)
    GNU Fortran (GCC) 12.2.0
* running under: macOS Monterey 12.7.6
* using session charset: UTF-8
* using option ‘--no-vignettes’
* checking for file ‘biodbKegg/DESCRIPTION’ ... OK
* this is package ‘biodbKegg’ version ‘1.10.2’
* package encoding: UTF-8
* checking package namespace information ... OK
* checking package dependencies ... OK
* checking if this is a source package ... OK
* checking if there is a namespace ... OK
* checking for hidden files and directories ... OK
* checking for portable file names ... OK
* checking for sufficient/correct file permissions ... OK
* checking whether package ‘biodbKegg’ can be installed ... OK
* checking installed package size ... OK
* checking package directory ... OK
* checking DESCRIPTION meta-information ... OK
* checking top-level files ... OK
* checking for left-over files ... OK
* checking index information ... OK
* checking package subdirectories ... OK
* checking code files for non-ASCII characters ... OK
* checking R files for syntax errors ... OK
* checking whether the package can be loaded ... OK
* checking whether the package can be loaded with stated dependencies ... OK
* checking whether the package can be unloaded cleanly ... OK
* checking whether the namespace can be loaded with stated dependencies ... OK
* checking whether the namespace can be unloaded cleanly ... OK
* checking dependencies in R code ... OK
* checking S3 generic/method consistency ... OK
* checking replacement functions ... OK
* checking foreign function calls ... OK
* checking R code for possible problems ... OK
* checking Rd files ... OK
* checking Rd metadata ... OK
* checking Rd cross-references ... OK
* checking for missing documentation entries ... OK
* checking for code/documentation mismatches ... OK
* checking Rd \usage sections ... OK
* checking Rd contents ... OK
* checking for unstated dependencies in examples ... OK
* checking files in ‘vignettes’ ... OK
* checking examples ... OK
Examples with CPU (user + system) or elapsed time > 5s
                   user system elapsed
KeggEnzymeConn   13.717  0.348  27.577
KeggCompoundConn  6.477  1.305  15.154
KeggPathwayConn   5.585  0.361  52.378
* checking for unstated dependencies in ‘tests’ ... OK
* checking tests ...
  Running ‘testthat.R’
 OK
* checking for unstated dependencies in vignettes ... OK
* checking package vignettes ... OK
* checking running R code from vignettes ... SKIPPED
* checking re-building of vignette outputs ... SKIPPED
* checking PDF version of manual ... OK
* DONE

Status: OK


Installation output

biodbKegg.Rcheck/00install.out

##############################################################################
##############################################################################
###
### Running command:
###
###   /Library/Frameworks/R.framework/Resources/bin/R CMD INSTALL biodbKegg
###
##############################################################################
##############################################################################


* installing to library ‘/Library/Frameworks/R.framework/Versions/4.4-x86_64/Resources/library’
* installing *source* package ‘biodbKegg’ ...
** using staged installation
** R
** inst
** byte-compile and prepare package for lazy loading
** help
*** installing help indices
** building package indices
** installing vignettes
** testing if installed package can be loaded from temporary location
** testing if installed package can be loaded from final location
** testing if installed package keeps a record of temporary installation path
* DONE (biodbKegg)

Tests output

biodbKegg.Rcheck/tests/testthat.Rout


R version 4.4.1 (2024-06-14) -- "Race for Your Life"
Copyright (C) 2024 The R Foundation for Statistical Computing
Platform: x86_64-apple-darwin20

R is free software and comes with ABSOLUTELY NO WARRANTY.
You are welcome to redistribute it under certain conditions.
Type 'license()' or 'licence()' for distribution details.

R is a collaborative project with many contributors.
Type 'contributors()' for more information and
'citation()' on how to cite R or R packages in publications.

Type 'demo()' for some demos, 'help()' for on-line help, or
'help.start()' for an HTML browser interface to help.
Type 'q()' to quit R.

> # vi: fdm=marker
> # Script needed to run testthat automatically from ‘R CMD check’. See
> # testthat::test_dir documentation.
> library(testthat)
> library(biodbKegg)
> library(withr)
> Sys.setenv(TESTTHAT_REPORTER = "summary")
> test_check("biodbKegg")
trying URL 'https://www.kegg.jp/kegg/pathway/map/map00260.png?17291451702422202'
downloaded 158 KB

[ FAIL 0 | WARN 0 | SKIP 0 | PASS 585 ]
> 
> proc.time()
   user  system elapsed 
184.839  19.356 782.190 

Example timings

biodbKegg.Rcheck/biodbKegg-Ex.timings

nameusersystemelapsed
KeggCircle0.0140.0020.018
KeggCompoundConn 6.477 1.30515.154
KeggCompoundEntry0.7680.0230.846
KeggConn0.8100.0303.141
KeggEntry0.7960.0250.996
KeggEnzymeConn13.717 0.34827.577
KeggEnzymeEntry0.9010.0303.396
KeggGenesConn0.9350.0242.150
KeggGenesEntry0.8770.0231.950
KeggGlycanConn0.8050.0241.861
KeggGlycanEntry1.1740.0394.044
KeggModuleConn0.6450.0420.988
KeggModuleEntry0.6750.0341.186
KeggOrthologyConn1.0350.0673.529
KeggOrthologyEntry0.8880.0441.323
KeggPathwayConn 5.585 0.36152.378
KeggPathwayEntry0.9020.0653.539
KeggReactionConn0.8800.0343.206
KeggReactionEntry0.5670.0291.040
KeggRect0.0040.0020.040
KeggShape0.0020.0010.003