| Back to Multiple platform build/check report for BioC 3.19: simplified long |
|
This page was generated on 2024-06-11 14:41 -0400 (Tue, 11 Jun 2024).
| Hostname | OS | Arch (*) | R version | Installed pkgs |
|---|---|---|---|---|
| nebbiolo1 | Linux (Ubuntu 22.04.3 LTS) | x86_64 | 4.4.0 (2024-04-24) -- "Puppy Cup" | 4757 |
| palomino3 | Windows Server 2022 Datacenter | x64 | 4.4.0 (2024-04-24 ucrt) -- "Puppy Cup" | 4491 |
| lconway | macOS 12.7.1 Monterey | x86_64 | 4.4.0 (2024-04-24) -- "Puppy Cup" | 4522 |
| kjohnson3 | macOS 13.6.5 Ventura | arm64 | 4.4.0 (2024-04-24) -- "Puppy Cup" | 4468 |
| Click on any hostname to see more info about the system (e.g. compilers) (*) as reported by 'uname -p', except on Windows and Mac OS X | ||||
| Package 128/2300 | Hostname | OS / Arch | INSTALL | BUILD | CHECK | BUILD BIN | ||||||||
| basecallQC 1.28.0 (landing page) Thomas Carroll
| nebbiolo1 | Linux (Ubuntu 22.04.3 LTS) / x86_64 | OK | OK | OK | |||||||||
| palomino3 | Windows Server 2022 Datacenter / x64 | OK | OK | OK | OK | |||||||||
| lconway | macOS 12.7.1 Monterey / x86_64 | OK | OK | OK | OK | |||||||||
| kjohnson3 | macOS 13.6.5 Ventura / arm64 | OK | OK | OK | OK | |||||||||
|
To the developers/maintainers of the basecallQC package: - Allow up to 24 hours (and sometimes 48 hours) for your latest push to git@git.bioconductor.org:packages/basecallQC.git to reflect on this report. See Troubleshooting Build Report for more information. - Use the following Renviron settings to reproduce errors and warnings. - If 'R CMD check' started to fail recently on the Linux builder(s) over a missing dependency, add the missing dependency to 'Suggests:' in your DESCRIPTION file. See Renviron.bioc for more information. |
| Package: basecallQC |
| Version: 1.28.0 |
| Command: /Library/Frameworks/R.framework/Resources/bin/R CMD check --install=check:basecallQC.install-out.txt --library=/Library/Frameworks/R.framework/Resources/library --no-vignettes --timings basecallQC_1.28.0.tar.gz |
| StartedAt: 2024-06-09 18:51:06 -0400 (Sun, 09 Jun 2024) |
| EndedAt: 2024-06-09 18:58:14 -0400 (Sun, 09 Jun 2024) |
| EllapsedTime: 428.2 seconds |
| RetCode: 0 |
| Status: OK |
| CheckDir: basecallQC.Rcheck |
| Warnings: 0 |
##############################################################################
##############################################################################
###
### Running command:
###
### /Library/Frameworks/R.framework/Resources/bin/R CMD check --install=check:basecallQC.install-out.txt --library=/Library/Frameworks/R.framework/Resources/library --no-vignettes --timings basecallQC_1.28.0.tar.gz
###
##############################################################################
##############################################################################
* using log directory ‘/Users/biocbuild/bbs-3.19-bioc/meat/basecallQC.Rcheck’
* using R version 4.4.0 (2024-04-24)
* using platform: x86_64-apple-darwin20
* R was compiled by
Apple clang version 14.0.0 (clang-1400.0.29.202)
GNU Fortran (GCC) 12.2.0
* running under: macOS Monterey 12.7.1
* using session charset: UTF-8
* using option ‘--no-vignettes’
* checking for file ‘basecallQC/DESCRIPTION’ ... OK
* checking extension type ... Package
* this is package ‘basecallQC’ version ‘1.28.0’
* checking package namespace information ... OK
* checking package dependencies ... OK
* checking if this is a source package ... OK
* checking if there is a namespace ... OK
* checking for hidden files and directories ... OK
* checking for portable file names ... OK
* checking for sufficient/correct file permissions ... OK
* checking whether package ‘basecallQC’ can be installed ... OK
* checking installed package size ... OK
* checking package directory ... OK
* checking ‘build’ directory ... OK
* checking DESCRIPTION meta-information ... OK
* checking top-level files ... OK
* checking for left-over files ... OK
* checking index information ... OK
* checking package subdirectories ... OK
* checking code files for non-ASCII characters ... OK
* checking R files for syntax errors ... OK
* checking whether the package can be loaded ... OK
* checking whether the package can be loaded with stated dependencies ... OK
* checking whether the package can be unloaded cleanly ... OK
* checking whether the namespace can be loaded with stated dependencies ... OK
* checking whether the namespace can be unloaded cleanly ... OK
* checking dependencies in R code ... OK
* checking S3 generic/method consistency ... OK
* checking replacement functions ... OK
* checking foreign function calls ... OK
* checking R code for possible problems ... OK
* checking Rd files ... NOTE
checkRd: (-1) BCL2FastQparams.Rd:39: Lost braces in \itemize; meant \describe ?
checkRd: (-1) BCL2FastQparams.Rd:40: Lost braces in \itemize; meant \describe ?
checkRd: (-1) BCL2FastQparams.Rd:41-42: Lost braces in \itemize; meant \describe ?
checkRd: (-1) basecallQC.Rd:39: Lost braces in \itemize; meant \describe ?
checkRd: (-1) basecallQC.Rd:40-42: Lost braces in \itemize; meant \describe ?
checkRd: (-1) basecallQC.Rd:43-44: Lost braces in \itemize; meant \describe ?
checkRd: (-1) basecallQC.Rd:45-46: Lost braces in \itemize; meant \describe ?
checkRd: (-1) basecallQC.Rd:47-48: Lost braces in \itemize; meant \describe ?
checkRd: (-1) basecallQC.Rd:49-50: Lost braces in \itemize; meant \describe ?
checkRd: (-1) basecallQC.Rd:51-52: Lost braces in \itemize; meant \describe ?
checkRd: (-1) interOpsReport.Rd:32-33: Lost braces in \itemize; meant \describe ?
checkRd: (-1) interOpsReport.Rd:34-37: Lost braces in \itemize; meant \describe ?
checkRd: (-1) interOpsReport.Rd:38-41: Lost braces in \itemize; meant \describe ?
* checking Rd metadata ... OK
* checking Rd cross-references ... OK
* checking for missing documentation entries ... OK
* checking for code/documentation mismatches ... OK
* checking Rd \usage sections ... OK
* checking Rd contents ... OK
* checking for unstated dependencies in examples ... OK
* checking files in ‘vignettes’ ... OK
* checking examples ... OK
Examples with CPU (user + system) or elapsed time > 5s
user system elapsed
reportBCL 8.762 0.245 9.179
demuxBarplot 5.711 0.050 5.769
summaryConvStatsTable 5.010 0.021 5.041
passFilterBoxplot 4.989 0.018 5.014
* checking for unstated dependencies in ‘tests’ ... OK
* checking tests ...
Running ‘testthat.R’
OK
* checking for unstated dependencies in vignettes ... OK
* checking package vignettes ... OK
* checking running R code from vignettes ... SKIPPED
* checking re-building of vignette outputs ... SKIPPED
* checking PDF version of manual ... OK
* DONE
Status: 1 NOTE
See
‘/Users/biocbuild/bbs-3.19-bioc/meat/basecallQC.Rcheck/00check.log’
for details.
basecallQC.Rcheck/00install.out
############################################################################## ############################################################################## ### ### Running command: ### ### /Library/Frameworks/R.framework/Resources/bin/R CMD INSTALL basecallQC ### ############################################################################## ############################################################################## * installing to library ‘/Library/Frameworks/R.framework/Versions/4.4-x86_64/Resources/library’ * installing *source* package ‘basecallQC’ ... ** using staged installation ** R ** inst ** byte-compile and prepare package for lazy loading ** help *** installing help indices ** building package indices ** installing vignettes ** testing if installed package can be loaded from temporary location ** testing if installed package can be loaded from final location ** testing if installed package keeps a record of temporary installation path * DONE (basecallQC)
basecallQC.Rcheck/tests/testthat.Rout
R version 4.4.0 (2024-04-24) -- "Puppy Cup"
Copyright (C) 2024 The R Foundation for Statistical Computing
Platform: x86_64-apple-darwin20
R is free software and comes with ABSOLUTELY NO WARRANTY.
You are welcome to redistribute it under certain conditions.
Type 'license()' or 'licence()' for distribution details.
R is a collaborative project with many contributors.
Type 'contributors()' for more information and
'citation()' on how to cite R or R packages in publications.
Type 'demo()' for some demos, 'help()' for on-line help, or
'help.start()' for an HTML browser interface to help.
Type 'q()' to quit R.
> library(testthat)
> library(basecallQC)
Loading required package: rmarkdown
Loading required package: knitr
Loading required package: prettydoc
Loading required package: yaml
>
> test_check("basecallQC")
[ FAIL 0 | WARN 47 | SKIP 0 | PASS 5 ]
[ FAIL 0 | WARN 47 | SKIP 0 | PASS 5 ]
>
> proc.time()
user system elapsed
25.603 0.805 26.465
basecallQC.Rcheck/basecallQC-Ex.timings
| name | user | system | elapsed | |
| BCL2FastQparams | 1.017 | 0.010 | 1.029 | |
| baseCallMetrics | 4.644 | 0.147 | 4.814 | |
| basecallQC | 4.635 | 0.081 | 4.722 | |
| createBCLcommand | 0.251 | 0.003 | 0.255 | |
| createBasemasks | 0.221 | 0.002 | 0.224 | |
| demultiplexMetrics | 0.047 | 0.001 | 0.048 | |
| demuxBarplot | 5.711 | 0.050 | 5.769 | |
| demuxBoxplot | 4.385 | 0.026 | 4.416 | |
| indexlengths | 0.045 | 0.002 | 0.047 | |
| interOpsReport | 0.026 | 0.002 | 0.027 | |
| makeFQTable | 4.573 | 0.020 | 4.633 | |
| passFilterBar | 4.684 | 0.019 | 4.709 | |
| passFilterBoxplot | 4.989 | 0.018 | 5.014 | |
| passFilterTileplot | 4.604 | 0.048 | 4.657 | |
| readlengths | 0.021 | 0.001 | 0.023 | |
| reportBCL | 8.762 | 0.245 | 9.179 | |
| summaryConvStatsTable | 5.010 | 0.021 | 5.041 | |
| summaryDemuxTable | 4.774 | 0.021 | 4.804 | |
| validateBCLSheet | 0.055 | 0.002 | 0.057 | |