Back to Multiple platform build/check report for BioC 3.19: simplified long |
|
This page was generated on 2024-06-11 14:43 -0400 (Tue, 11 Jun 2024).
Hostname | OS | Arch (*) | R version | Installed pkgs |
---|---|---|---|---|
nebbiolo1 | Linux (Ubuntu 22.04.3 LTS) | x86_64 | 4.4.0 (2024-04-24) -- "Puppy Cup" | 4757 |
palomino3 | Windows Server 2022 Datacenter | x64 | 4.4.0 (2024-04-24 ucrt) -- "Puppy Cup" | 4491 |
lconway | macOS 12.7.1 Monterey | x86_64 | 4.4.0 (2024-04-24) -- "Puppy Cup" | 4522 |
kjohnson3 | macOS 13.6.5 Ventura | arm64 | 4.4.0 (2024-04-24) -- "Puppy Cup" | 4468 |
Click on any hostname to see more info about the system (e.g. compilers) (*) as reported by 'uname -p', except on Windows and Mac OS X |
Package 112/2300 | Hostname | OS / Arch | INSTALL | BUILD | CHECK | BUILD BIN | ||||||||
autonomics 1.12.1 (landing page) Aditya Bhagwat
| nebbiolo1 | Linux (Ubuntu 22.04.3 LTS) / x86_64 | OK | OK | OK | |||||||||
palomino3 | Windows Server 2022 Datacenter / x64 | OK | OK | OK | OK | |||||||||
lconway | macOS 12.7.1 Monterey / x86_64 | OK | OK | OK | OK | |||||||||
kjohnson3 | macOS 13.6.5 Ventura / arm64 | OK | OK | OK | OK | |||||||||
To the developers/maintainers of the autonomics package: - Allow up to 24 hours (and sometimes 48 hours) for your latest push to git@git.bioconductor.org:packages/autonomics.git to reflect on this report. See Troubleshooting Build Report for more information. - Use the following Renviron settings to reproduce errors and warnings. - If 'R CMD check' started to fail recently on the Linux builder(s) over a missing dependency, add the missing dependency to 'Suggests:' in your DESCRIPTION file. See Renviron.bioc for more information. |
Package: autonomics |
Version: 1.12.1 |
Command: /Library/Frameworks/R.framework/Resources/bin/R CMD check --install=check:autonomics.install-out.txt --library=/Library/Frameworks/R.framework/Resources/library --no-vignettes --timings autonomics_1.12.1.tar.gz |
StartedAt: 2024-06-10 07:47:12 -0400 (Mon, 10 Jun 2024) |
EndedAt: 2024-06-10 08:07:48 -0400 (Mon, 10 Jun 2024) |
EllapsedTime: 1235.2 seconds |
RetCode: 0 |
Status: OK |
CheckDir: autonomics.Rcheck |
Warnings: 0 |
############################################################################## ############################################################################## ### ### Running command: ### ### /Library/Frameworks/R.framework/Resources/bin/R CMD check --install=check:autonomics.install-out.txt --library=/Library/Frameworks/R.framework/Resources/library --no-vignettes --timings autonomics_1.12.1.tar.gz ### ############################################################################## ############################################################################## * using log directory ‘/Users/biocbuild/bbs-3.19-bioc/meat/autonomics.Rcheck’ * using R version 4.4.0 (2024-04-24) * using platform: aarch64-apple-darwin20 * R was compiled by Apple clang version 14.0.0 (clang-1400.0.29.202) GNU Fortran (GCC) 12.2.0 * running under: macOS Ventura 13.6.5 * using session charset: UTF-8 * using option ‘--no-vignettes’ * checking for file ‘autonomics/DESCRIPTION’ ... OK * checking extension type ... Package * this is package ‘autonomics’ version ‘1.12.1’ * package encoding: UTF-8 * checking package namespace information ... OK * checking package dependencies ... OK * checking if this is a source package ... OK * checking if there is a namespace ... OK * checking for hidden files and directories ... NOTE Found the following hidden files and directories: .BBSoptions These were most likely included in error. See section ‘Package structure’ in the ‘Writing R Extensions’ manual. * checking for portable file names ... OK * checking for sufficient/correct file permissions ... OK * checking whether package ‘autonomics’ can be installed ... OK * checking installed package size ... OK * checking package directory ... OK * checking ‘build’ directory ... OK * checking DESCRIPTION meta-information ... OK * checking top-level files ... OK * checking for left-over files ... OK * checking index information ... OK * checking package subdirectories ... OK * checking code files for non-ASCII characters ... OK * checking R files for syntax errors ... OK * checking whether the package can be loaded ... OK * checking whether the package can be loaded with stated dependencies ... OK * checking whether the package can be unloaded cleanly ... OK * checking whether the namespace can be loaded with stated dependencies ... OK * checking whether the namespace can be unloaded cleanly ... OK * checking dependencies in R code ... OK * checking S3 generic/method consistency ... OK * checking replacement functions ... OK * checking foreign function calls ... OK * checking R code for possible problems ... OK * checking Rd files ... NOTE checkRd: (-1) dequantify.Rd:24: Lost braces; missing escapes or markup? 24 | Encode {channel} as suffix. | ^ * checking Rd metadata ... OK * checking Rd cross-references ... OK * checking for missing documentation entries ... OK * checking for code/documentation mismatches ... OK * checking Rd \usage sections ... OK * checking Rd contents ... OK * checking for unstated dependencies in examples ... OK * checking files in ‘vignettes’ ... OK * checking examples ... OK Examples with CPU (user + system) or elapsed time > 5s user system elapsed read_diann_proteingroups 99.257 1.792 139.045 read_rnaseq_counts 29.984 1.563 45.067 plot_exprs 24.989 0.332 35.632 rm_diann_contaminants 21.571 0.374 30.744 plot_exprs_per_coef 20.514 0.225 28.801 default_formula 15.801 0.352 18.437 read_somascan 14.000 0.131 20.144 analyze 13.778 0.195 17.054 plot_summary 12.960 0.156 17.274 read_metabolon 12.740 0.150 18.335 fit 12.355 0.233 14.551 plot_volcano 11.033 0.172 16.229 plot_densities 9.319 0.229 12.349 read_fragpipe 7.964 0.164 11.153 plot_sample_nas 6.635 0.089 9.191 dot-plot_survival 5.442 0.395 7.113 biplot_covariates 5.516 0.086 6.525 code 5.291 0.089 6.438 plot_subgroup_points 5.109 0.097 7.233 extract_coef_features 4.935 0.133 5.401 fit_lmx 4.957 0.088 6.587 subtract_baseline 4.874 0.095 7.079 reset_fit 4.756 0.085 6.825 plot_violins 4.454 0.102 6.319 biplot 4.129 0.090 6.216 biplot_corrections 3.484 0.064 5.081 * checking for unstated dependencies in ‘tests’ ... OK * checking tests ... Running ‘testthat.R’ OK * checking for unstated dependencies in vignettes ... OK * checking package vignettes ... OK * checking running R code from vignettes ... SKIPPED * checking re-building of vignette outputs ... SKIPPED * checking PDF version of manual ... OK * DONE Status: 2 NOTEs See ‘/Users/biocbuild/bbs-3.19-bioc/meat/autonomics.Rcheck/00check.log’ for details.
autonomics.Rcheck/00install.out
############################################################################## ############################################################################## ### ### Running command: ### ### /Library/Frameworks/R.framework/Resources/bin/R CMD INSTALL autonomics ### ############################################################################## ############################################################################## * installing to library ‘/Library/Frameworks/R.framework/Versions/4.4-arm64/Resources/library’ * installing *source* package ‘autonomics’ ... ** using staged installation ** R ** inst ** byte-compile and prepare package for lazy loading ** help *** installing help indices ** building package indices ** installing vignettes ** testing if installed package can be loaded from temporary location ** testing if installed package can be loaded from final location ** testing if installed package keeps a record of temporary installation path * DONE (autonomics)
autonomics.Rcheck/tests/testthat.Rout
R version 4.4.0 (2024-04-24) -- "Puppy Cup" Copyright (C) 2024 The R Foundation for Statistical Computing Platform: aarch64-apple-darwin20 R is free software and comes with ABSOLUTELY NO WARRANTY. You are welcome to redistribute it under certain conditions. Type 'license()' or 'licence()' for distribution details. R is a collaborative project with many contributors. Type 'contributors()' for more information and 'citation()' on how to cite R or R packages in publications. Type 'demo()' for some demos, 'help()' for on-line help, or 'help.start()' for an HTML browser interface to help. Type 'q()' to quit R. > library(testthat) > library(autonomics) Attaching package: 'autonomics' The following objects are masked from 'package:stats': biplot, loadings > > test_check("autonomics") [ FAIL 0 | WARN 0 | SKIP 0 | PASS 159 ] > > proc.time() user system elapsed 182.230 7.437 235.634
autonomics.Rcheck/autonomics-Ex.timings
name | user | system | elapsed | |
AUTONOMICS_DATASETS | 0.000 | 0.000 | 0.001 | |
CONTAMINANTSURL | 0 | 0 | 0 | |
FITSEP | 0 | 0 | 0 | |
LINMOD_ENGINES | 0 | 0 | 0 | |
MAXQUANT_PATTERNS | 0 | 0 | 0 | |
TAXON_TO_ORGNAME | 0.001 | 0.001 | 0.000 | |
TESTS | 0 | 0 | 0 | |
abstract_fit | 1.707 | 0.085 | 2.287 | |
add_adjusted_pvalues | 0.634 | 0.028 | 0.860 | |
add_assay_means | 0.789 | 0.014 | 0.855 | |
add_facetvars | 3.042 | 0.135 | 4.215 | |
add_opentargets_by_uniprot | 0.447 | 0.011 | 0.695 | |
add_psp | 0.548 | 0.018 | 0.627 | |
add_smiles | 0.521 | 0.046 | 0.582 | |
analysis | 0.454 | 0.013 | 0.655 | |
analyze | 13.778 | 0.195 | 17.054 | |
annotate_maxquant | 0.888 | 0.041 | 1.152 | |
annotate_uniprot_rest | 0.090 | 0.020 | 2.857 | |
assert_is_valid_sumexp | 0.721 | 0.051 | 1.115 | |
bin | 0.490 | 0.015 | 0.754 | |
biplot | 4.129 | 0.090 | 6.216 | |
biplot_corrections | 3.484 | 0.064 | 5.081 | |
biplot_covariates | 5.516 | 0.086 | 6.525 | |
block2lme | 0.003 | 0.001 | 0.004 | |
center | 2.922 | 0.040 | 4.274 | |
code | 5.291 | 0.089 | 6.438 | |
coefs | 0.763 | 0.045 | 0.958 | |
collapsed_entrezg_to_symbol | 0.000 | 0.000 | 0.001 | |
contrast_subgroup_cols | 0.655 | 0.038 | 0.847 | |
count_in | 0.001 | 0.001 | 0.001 | |
counts | 0.436 | 0.006 | 0.444 | |
counts2cpm | 0.448 | 0.006 | 0.589 | |
counts2tpm | 0.389 | 0.004 | 0.458 | |
cpm | 0.423 | 0.005 | 0.456 | |
create_design | 0.864 | 0.048 | 1.278 | |
default_formula | 15.801 | 0.352 | 18.437 | |
default_geom | 0.601 | 0.043 | 0.810 | |
default_sfile | 0.002 | 0.000 | 0.001 | |
demultiplex | 0.011 | 0.001 | 0.016 | |
dequantify | 0.002 | 0.001 | 0.002 | |
dot-merge | 0.019 | 0.001 | 0.031 | |
dot-plot_survival | 5.442 | 0.395 | 7.113 | |
dot-read_maxquant_proteingroups | 0.105 | 0.008 | 0.112 | |
download_contaminants | 0.041 | 0.011 | 2.538 | |
download_data | 0.000 | 0.001 | 0.001 | |
download_gtf | 0.000 | 0.000 | 0.001 | |
download_mcclain21 | 0.000 | 0.001 | 0.002 | |
dt2mat | 0.004 | 0.001 | 0.005 | |
enrichment | 1.356 | 0.049 | 1.890 | |
entrezg_to_symbol | 0.001 | 0.001 | 0.001 | |
explore_transformations | 3.533 | 0.143 | 3.836 | |
extract_coef_features | 4.935 | 0.133 | 5.401 | |
extract_rectangle | 0.131 | 0.039 | 0.168 | |
fdata | 0.609 | 0.019 | 0.711 | |
fdr2p | 0.949 | 0.050 | 1.157 | |
filter_exprs_replicated_in_some_subgroup | 1.168 | 0.058 | 1.690 | |
filter_features | 0.479 | 0.035 | 0.514 | |
filter_medoid | 0.825 | 0.028 | 0.852 | |
filter_samples | 0.737 | 0.049 | 1.177 | |
fit | 12.355 | 0.233 | 14.551 | |
fit_lmx | 4.957 | 0.088 | 6.587 | |
fitcoefs | 0.875 | 0.053 | 1.159 | |
fits | 0.901 | 0.045 | 1.403 | |
fitvars | 1.026 | 0.051 | 1.429 | |
fix_xlgenes | 0.002 | 0.000 | 0.002 | |
flevels | 0.50 | 0.01 | 0.51 | |
fnames | 0.454 | 0.012 | 0.465 | |
formula2str | 0.001 | 0.000 | 0.000 | |
fvalues | 0.392 | 0.011 | 0.402 | |
fvars | 0.444 | 0.011 | 0.632 | |
genome_to_orgdb | 0.001 | 0.000 | 0.002 | |
group_by_level | 0.001 | 0.000 | 0.001 | |
guess_fitsep | 0.637 | 0.012 | 0.985 | |
guess_maxquant_quantity | 0.007 | 0.001 | 0.012 | |
guess_sep | 0.578 | 0.039 | 0.856 | |
has_multiple_levels | 0.062 | 0.002 | 0.094 | |
hdlproteins | 0.059 | 0.021 | 0.117 | |
impute | 3.243 | 0.058 | 4.349 | |
invert_subgroups | 0.715 | 0.012 | 0.916 | |
is_collapsed_subset | 0.000 | 0.000 | 0.001 | |
is_diann_report | 0.194 | 0.043 | 0.355 | |
is_fastadt | 0.069 | 0.002 | 0.071 | |
is_file | 0.000 | 0.001 | 0.001 | |
is_fraction | 0.001 | 0.001 | 0.002 | |
is_imputed | 0.760 | 0.013 | 0.777 | |
is_positive_number | 0.002 | 0.000 | 0.002 | |
is_scalar_subset | 0.305 | 0.007 | 0.312 | |
is_sig | 1.278 | 0.020 | 1.608 | |
is_valid_formula | 0.045 | 0.002 | 0.050 | |
keep_connected_blocks | 0.465 | 0.045 | 0.515 | |
keep_connected_features | 0.808 | 0.050 | 1.178 | |
keep_replicated_features | 0.911 | 0.047 | 1.442 | |
label2index | 0.001 | 0.001 | 0.001 | |
list2mat | 0.001 | 0.000 | 0.001 | |
log2counts | 0.403 | 0.009 | 0.476 | |
log2cpm | 0.520 | 0.007 | 0.660 | |
log2diffs | 0.379 | 0.009 | 0.388 | |
log2proteins | 0.349 | 0.009 | 0.359 | |
log2sites | 0.334 | 0.008 | 0.341 | |
log2tpm | 0.393 | 0.004 | 0.397 | |
log2transform | 3.833 | 0.063 | 4.765 | |
logical2factor | 0.001 | 0.000 | 0.002 | |
make_alpha_palette | 0.725 | 0.045 | 1.163 | |
make_colors | 0.010 | 0.002 | 0.020 | |
make_volcano_dt | 1.011 | 0.017 | 1.569 | |
map_fvalues | 0.394 | 0.009 | 0.403 | |
matrix2sumexp | 1.375 | 0.081 | 1.996 | |
merge_sample_file | 0.535 | 0.016 | 0.826 | |
merge_sdata | 0.598 | 0.047 | 0.797 | |
message_df | 0.003 | 0.000 | 0.003 | |
modelvar | 1.757 | 0.068 | 2.377 | |
order_on_p | 1.029 | 0.048 | 1.185 | |
pca | 3.177 | 0.074 | 4.486 | |
pg_to_canonical | 0.006 | 0.000 | 0.008 | |
plot_contrast_venn | 1.998 | 0.061 | 2.813 | |
plot_contrastogram | 2.434 | 0.180 | 3.110 | |
plot_data | 1.541 | 0.065 | 2.447 | |
plot_densities | 9.319 | 0.229 | 12.349 | |
plot_design | 0.707 | 0.017 | 0.942 | |
plot_exprs | 24.989 | 0.332 | 35.632 | |
plot_exprs_per_coef | 20.514 | 0.225 | 28.801 | |
plot_fit_summary | 2.006 | 0.067 | 2.900 | |
plot_heatmap | 1.867 | 0.023 | 2.675 | |
plot_matrix | 0.520 | 0.046 | 0.704 | |
plot_sample_nas | 6.635 | 0.089 | 9.191 | |
plot_subgroup_points | 5.109 | 0.097 | 7.233 | |
plot_summary | 12.960 | 0.156 | 17.274 | |
plot_venn | 0.016 | 0.002 | 0.024 | |
plot_venn_heatmap | 0.045 | 0.005 | 0.069 | |
plot_violins | 4.454 | 0.102 | 6.319 | |
plot_volcano | 11.033 | 0.172 | 16.229 | |
preprocess_rnaseq_counts | 0.419 | 0.007 | 0.702 | |
pull_columns | 0.002 | 0.001 | 0.004 | |
read_affymetrix | 0.000 | 0.001 | 0.000 | |
read_contaminants | 0.011 | 0.002 | 0.020 | |
read_diann_proteingroups | 99.257 | 1.792 | 139.045 | |
read_fragpipe | 7.964 | 0.164 | 11.153 | |
read_maxquant_phosphosites | 1.745 | 0.047 | 2.520 | |
read_maxquant_proteingroups | 1.347 | 0.033 | 1.878 | |
read_metabolon | 12.740 | 0.150 | 18.335 | |
read_msigdt | 0.001 | 0.000 | 0.001 | |
read_olink | 1.381 | 0.065 | 1.921 | |
read_rectangles | 0.194 | 0.032 | 0.320 | |
read_rnaseq_counts | 29.984 | 1.563 | 45.067 | |
read_salmon | 0.000 | 0.000 | 0.001 | |
read_somascan | 14.000 | 0.131 | 20.144 | |
read_uniprotdt | 0.416 | 0.028 | 0.627 | |
reset_fit | 4.756 | 0.085 | 6.825 | |
rm_diann_contaminants | 21.571 | 0.374 | 30.744 | |
rm_missing_in_some_samples | 0.577 | 0.048 | 0.900 | |
rm_unmatched_samples | 0.738 | 0.035 | 1.128 | |
scaledlibsizes | 0.417 | 0.007 | 0.623 | |
scoremat | 1.205 | 0.050 | 1.794 | |
slevels | 0.438 | 0.012 | 0.583 | |
snames | 0.447 | 0.013 | 0.662 | |
split_extract_fixed | 0.563 | 0.045 | 0.859 | |
split_samples | 1.383 | 0.051 | 1.993 | |
stri_any_regex | 0.000 | 0.001 | 0.001 | |
stri_detect_fixed_in_collapsed | 0.376 | 0.012 | 0.528 | |
subgroup_matrix | 0.708 | 0.046 | 1.080 | |
subtract_baseline | 4.874 | 0.095 | 7.079 | |
sumexp_to_longdt | 2.187 | 0.093 | 3.472 | |
sumexp_to_tsv | 0.684 | 0.016 | 1.105 | |
sumexplist_to_longdt | 1.541 | 0.036 | 2.083 | |
summarize_fit | 1.767 | 0.051 | 2.742 | |
svalues | 0.413 | 0.013 | 0.597 | |
svars | 0.516 | 0.010 | 0.731 | |
systematic_nas | 0.565 | 0.013 | 0.779 | |
tag_features | 1.086 | 0.043 | 1.633 | |
tag_hdlproteins | 0.729 | 0.046 | 1.039 | |
taxon2org | 0.001 | 0.000 | 0.001 | |
tpm | 0.383 | 0.004 | 0.391 | |
uncollapse | 0.014 | 0.000 | 0.014 | |
values | 0.418 | 0.010 | 0.565 | |
varlevels_dont_clash | 0.039 | 0.002 | 0.063 | |
venn_detects | 0.653 | 0.015 | 1.034 | |
weights | 0.580 | 0.008 | 0.890 | |
write_xl | 0.655 | 0.037 | 0.691 | |
zero_to_na | 0.002 | 0.000 | 0.002 | |