Back to Multiple platform build/check report for BioC 3.19: simplified long |
|
This page was generated on 2024-06-11 14:41 -0400 (Tue, 11 Jun 2024).
Hostname | OS | Arch (*) | R version | Installed pkgs |
---|---|---|---|---|
nebbiolo1 | Linux (Ubuntu 22.04.3 LTS) | x86_64 | 4.4.0 (2024-04-24) -- "Puppy Cup" | 4757 |
palomino3 | Windows Server 2022 Datacenter | x64 | 4.4.0 (2024-04-24 ucrt) -- "Puppy Cup" | 4491 |
lconway | macOS 12.7.1 Monterey | x86_64 | 4.4.0 (2024-04-24) -- "Puppy Cup" | 4522 |
kjohnson3 | macOS 13.6.5 Ventura | arm64 | 4.4.0 (2024-04-24) -- "Puppy Cup" | 4468 |
Click on any hostname to see more info about the system (e.g. compilers) (*) as reported by 'uname -p', except on Windows and Mac OS X |
Package 69/2300 | Hostname | OS / Arch | INSTALL | BUILD | CHECK | BUILD BIN | ||||||||
annotate 1.82.0 (landing page) Bioconductor Package Maintainer
| nebbiolo1 | Linux (Ubuntu 22.04.3 LTS) / x86_64 | OK | OK | ERROR | |||||||||
palomino3 | Windows Server 2022 Datacenter / x64 | OK | OK | ERROR | OK | |||||||||
lconway | macOS 12.7.1 Monterey / x86_64 | OK | OK | OK | OK | |||||||||
kjohnson3 | macOS 13.6.5 Ventura / arm64 | OK | OK | OK | OK | |||||||||
To the developers/maintainers of the annotate package: - Allow up to 24 hours (and sometimes 48 hours) for your latest push to git@git.bioconductor.org:packages/annotate.git to reflect on this report. See Troubleshooting Build Report for more information. - Use the following Renviron settings to reproduce errors and warnings. - If 'R CMD check' started to fail recently on the Linux builder(s) over a missing dependency, add the missing dependency to 'Suggests:' in your DESCRIPTION file. See Renviron.bioc for more information. |
Package: annotate |
Version: 1.82.0 |
Command: /Library/Frameworks/R.framework/Resources/bin/R CMD check --install=check:annotate.install-out.txt --library=/Library/Frameworks/R.framework/Resources/library --no-vignettes --timings annotate_1.82.0.tar.gz |
StartedAt: 2024-06-09 18:44:02 -0400 (Sun, 09 Jun 2024) |
EndedAt: 2024-06-09 18:54:27 -0400 (Sun, 09 Jun 2024) |
EllapsedTime: 624.8 seconds |
RetCode: 0 |
Status: OK |
CheckDir: annotate.Rcheck |
Warnings: 0 |
############################################################################## ############################################################################## ### ### Running command: ### ### /Library/Frameworks/R.framework/Resources/bin/R CMD check --install=check:annotate.install-out.txt --library=/Library/Frameworks/R.framework/Resources/library --no-vignettes --timings annotate_1.82.0.tar.gz ### ############################################################################## ############################################################################## * using log directory ‘/Users/biocbuild/bbs-3.19-bioc/meat/annotate.Rcheck’ * using R version 4.4.0 (2024-04-24) * using platform: x86_64-apple-darwin20 * R was compiled by Apple clang version 14.0.0 (clang-1400.0.29.202) GNU Fortran (GCC) 12.2.0 * running under: macOS Monterey 12.7.1 * using session charset: UTF-8 * using option ‘--no-vignettes’ * checking for file ‘annotate/DESCRIPTION’ ... OK * this is package ‘annotate’ version ‘1.82.0’ * checking package namespace information ... OK * checking package dependencies ... OK * checking if this is a source package ... OK * checking if there is a namespace ... OK * checking for hidden files and directories ... OK * checking for portable file names ... OK * checking for sufficient/correct file permissions ... OK * checking whether package ‘annotate’ can be installed ... OK * checking installed package size ... OK * checking package directory ... OK * checking ‘build’ directory ... OK * checking DESCRIPTION meta-information ... OK * checking top-level files ... OK * checking for left-over files ... OK * checking index information ... OK * checking package subdirectories ... OK * checking code files for non-ASCII characters ... OK * checking R files for syntax errors ... OK * checking whether the package can be loaded ... OK * checking whether the package can be loaded with stated dependencies ... OK * checking whether the package can be unloaded cleanly ... OK * checking whether the namespace can be loaded with stated dependencies ... OK * checking whether the namespace can be unloaded cleanly ... OK * checking whether startup messages can be suppressed ... OK * checking dependencies in R code ... NOTE Unexported object imported by a ':::' call: ‘BiocGenerics:::testPackage’ See the note in ?`:::` about the use of this operator. * checking S3 generic/method consistency ... OK * checking replacement functions ... OK * checking foreign function calls ... OK * checking R code for possible problems ... OK * checking Rd files ... NOTE checkRd: (-1) chrCats.Rd:13: Escaped LaTeX specials: \_ checkRd: (-1) chrCats.Rd:14: Escaped LaTeX specials: \_ checkRd: (-1) chrCats.Rd:47: Escaped LaTeX specials: \_ checkRd: (-1) chrCats.Rd:53: Escaped LaTeX specials: \_ checkRd: (-1) chrCats.Rd:60: Escaped LaTeX specials: \_ checkRd: (-1) chrCats.Rd:69: Escaped LaTeX specials: \_ \_ checkRd: (-1) chrCats.Rd:77: Escaped LaTeX specials: \_ checkRd: (-1) htmlpage.Rd:56: Escaped LaTeX specials: \_ checkRd: (-1) htmlpage.Rd:57: Escaped LaTeX specials: \_ * checking Rd metadata ... OK * checking Rd cross-references ... OK * checking for missing documentation entries ... OK * checking for code/documentation mismatches ... OK * checking Rd \usage sections ... OK * checking Rd contents ... OK * checking for unstated dependencies in examples ... OK * checking contents of ‘data’ directory ... OK * checking data for non-ASCII characters ... OK * checking data for ASCII and uncompressed saves ... OK * checking sizes of PDF files under ‘inst/doc’ ... OK * checking files in ‘vignettes’ ... OK * checking examples ... OK Examples with CPU (user + system) or elapsed time > 5s user system elapsed blastSequences 320.206 3.922 388.616 chrCats 8.596 0.033 8.655 * checking for unstated dependencies in ‘tests’ ... OK * checking tests ... Running ‘annotate_unit_tests.R’ OK * checking for unstated dependencies in vignettes ... OK * checking package vignettes ... OK * checking running R code from vignettes ... SKIPPED * checking re-building of vignette outputs ... SKIPPED * checking PDF version of manual ... OK * DONE Status: 2 NOTEs See ‘/Users/biocbuild/bbs-3.19-bioc/meat/annotate.Rcheck/00check.log’ for details.
annotate.Rcheck/00install.out
############################################################################## ############################################################################## ### ### Running command: ### ### /Library/Frameworks/R.framework/Resources/bin/R CMD INSTALL annotate ### ############################################################################## ############################################################################## * installing to library ‘/Library/Frameworks/R.framework/Versions/4.4-x86_64/Resources/library’ * installing *source* package ‘annotate’ ... ** using staged installation ** R ** data ** inst ** byte-compile and prepare package for lazy loading ** help *** installing help indices ** building package indices ** installing vignettes ** testing if installed package can be loaded from temporary location ** testing if installed package can be loaded from final location ** testing if installed package keeps a record of temporary installation path * DONE (annotate)
annotate.Rcheck/tests/annotate_unit_tests.Rout
R version 4.4.0 (2024-04-24) -- "Puppy Cup" Copyright (C) 2024 The R Foundation for Statistical Computing Platform: x86_64-apple-darwin20 R is free software and comes with ABSOLUTELY NO WARRANTY. You are welcome to redistribute it under certain conditions. Type 'license()' or 'licence()' for distribution details. R is a collaborative project with many contributors. Type 'contributors()' for more information and 'citation()' on how to cite R or R packages in publications. Type 'demo()' for some demos, 'help()' for on-line help, or 'help.start()' for an HTML browser interface to help. Type 'q()' to quit R. > BiocGenerics:::testPackage("annotate") Attaching package: 'BiocGenerics' The following objects are masked from 'package:stats': IQR, mad, sd, var, xtabs The following objects are masked from 'package:base': Filter, Find, Map, Position, Reduce, anyDuplicated, aperm, append, as.data.frame, basename, cbind, colnames, dirname, do.call, duplicated, eval, evalq, get, grep, grepl, intersect, is.unsorted, lapply, mapply, match, mget, order, paste, pmax, pmax.int, pmin, pmin.int, rank, rbind, rownames, sapply, setdiff, table, tapply, union, unique, unsplit, which.max, which.min Welcome to Bioconductor Vignettes contain introductory material; view with 'browseVignettes()'. To cite Bioconductor, see 'citation("Biobase")', and for packages 'citation("pkgname")'. Attaching package: 'S4Vectors' The following object is masked from 'package:utils': findMatches The following objects are masked from 'package:base': I, expand.grid, unname Loading required package: org.Hs.eg.db 'select()' returned 1:many mapping between keys and columns RUNIT TEST PROTOCOL -- Sun Jun 9 18:54:16 2024 *********************************************** Number of test functions: 1 Number of errors: 0 Number of failures: 0 1 Test Suite : annotate RUnit Tests - 1 test function, 0 errors, 0 failures Number of test functions: 1 Number of errors: 0 Number of failures: 0 > > proc.time() user system elapsed 9.419 0.720 10.202
annotate.Rcheck/annotate-Ex.timings
name | user | system | elapsed | |
ACCNUMStats | 1.720 | 0.043 | 1.767 | |
GO2heatmap | 0.155 | 0.008 | 0.165 | |
GOmnplot | 0.053 | 0.005 | 0.059 | |
HTMLPage-class | 0.000 | 0.000 | 0.001 | |
LL2homology | 0 | 0 | 0 | |
PMIDAmat | 0.108 | 0.005 | 0.118 | |
PWAmat | 1.995 | 0.062 | 2.063 | |
UniGeneQuery | 0.002 | 0.000 | 0.002 | |
accessionToUID | 0.682 | 0.036 | 3.031 | |
annPkgName | 0.000 | 0.000 | 0.001 | |
aqListGOIDs | 0.133 | 0.011 | 0.145 | |
blastSequences | 320.206 | 3.922 | 388.616 | |
buildChromLocation | 0.809 | 0.039 | 0.856 | |
buildPubMedAbst | 0.038 | 0.002 | 0.786 | |
chrCats | 8.596 | 0.033 | 8.655 | |
chromLocation-class | 0.810 | 0.064 | 0.876 | |
compatibleVersions | 0.053 | 0.005 | 0.057 | |
dropECode | 0.061 | 0.004 | 0.065 | |
entrezGeneByID | 0.001 | 0.000 | 0.001 | |
entrezGeneQuery | 0.001 | 0.000 | 0.000 | |
filterGOByOntology | 0.062 | 0.003 | 0.066 | |
findNeighbors | 0.025 | 0.004 | 0.031 | |
genbank | 0.228 | 0.013 | 1.089 | |
getAnnMap | 0.053 | 0.012 | 0.068 | |
getEvidence | 0.057 | 0.004 | 0.062 | |
getGOTerm | 0.228 | 0.007 | 0.240 | |
getOntology | 0.098 | 0.006 | 0.104 | |
getPMInfo | 0.328 | 0.005 | 0.855 | |
getSYMBOL | 0.127 | 0.021 | 0.154 | |
getSeq4Acc | 0.016 | 0.002 | 0.781 | |
hasGOannote | 0.030 | 0.002 | 0.033 | |
hgByChroms | 0.015 | 0.001 | 0.016 | |
hgCLengths | 0.001 | 0.002 | 0.002 | |
hgu95Achroloc | 0.062 | 0.003 | 0.065 | |
hgu95Achrom | 0.047 | 0.003 | 0.051 | |
hgu95All | 0.065 | 0.006 | 0.108 | |
hgu95Asym | 0.055 | 0.005 | 0.075 | |
homoData-class | 0.003 | 0.000 | 0.004 | |
htmlpage | 0.020 | 0.002 | 0.023 | |
isValidkey | 0 | 0 | 0 | |
makeAnchor | 0.001 | 0.000 | 0.001 | |
organism | 0.772 | 0.039 | 0.814 | |
p2LL | 0.000 | 0.000 | 0.001 | |
pm.abstGrep | 0.986 | 0.026 | 1.972 | |
pm.getabst | 1.311 | 0.028 | 2.156 | |
pm.titles | 0.898 | 0.020 | 1.818 | |
pmAbst2HTML | 0.043 | 0.006 | 0.584 | |
pmid2MIAME | 0 | 0 | 0 | |
pmidQuery | 0 | 0 | 0 | |
pubMedAbst-class | 0.036 | 0.003 | 0.453 | |
pubmed | 0.028 | 0.002 | 0.558 | |
readGEOAnn | 0 | 0 | 0 | |
serializeEnv | 0.001 | 0.001 | 0.003 | |
setRepository | 0.001 | 0.000 | 0.002 | |
updateSymbolsToValidKeys | 0 | 0 | 0 | |
usedChromGenes | 0.088 | 0.006 | 0.094 | |