| Back to Multiple platform build/check report for BioC 3.19: simplified long |
|
This page was generated on 2024-06-11 14:43 -0400 (Tue, 11 Jun 2024).
| Hostname | OS | Arch (*) | R version | Installed pkgs |
|---|---|---|---|---|
| nebbiolo1 | Linux (Ubuntu 22.04.3 LTS) | x86_64 | 4.4.0 (2024-04-24) -- "Puppy Cup" | 4757 |
| palomino3 | Windows Server 2022 Datacenter | x64 | 4.4.0 (2024-04-24 ucrt) -- "Puppy Cup" | 4491 |
| lconway | macOS 12.7.1 Monterey | x86_64 | 4.4.0 (2024-04-24) -- "Puppy Cup" | 4522 |
| kjohnson3 | macOS 13.6.5 Ventura | arm64 | 4.4.0 (2024-04-24) -- "Puppy Cup" | 4468 |
| Click on any hostname to see more info about the system (e.g. compilers) (*) as reported by 'uname -p', except on Windows and Mac OS X | ||||
| Package 2/2300 | Hostname | OS / Arch | INSTALL | BUILD | CHECK | BUILD BIN | ||||||||
| a4Base 1.52.0 (landing page) Laure Cougnaud
| nebbiolo1 | Linux (Ubuntu 22.04.3 LTS) / x86_64 | OK | OK | OK | |||||||||
| palomino3 | Windows Server 2022 Datacenter / x64 | OK | OK | OK | OK | |||||||||
| lconway | macOS 12.7.1 Monterey / x86_64 | OK | OK | OK | OK | |||||||||
| kjohnson3 | macOS 13.6.5 Ventura / arm64 | OK | OK | OK | OK | |||||||||
|
To the developers/maintainers of the a4Base package: - Allow up to 24 hours (and sometimes 48 hours) for your latest push to git@git.bioconductor.org:packages/a4Base.git to reflect on this report. See Troubleshooting Build Report for more information. - Use the following Renviron settings to reproduce errors and warnings. - If 'R CMD check' started to fail recently on the Linux builder(s) over a missing dependency, add the missing dependency to 'Suggests:' in your DESCRIPTION file. See Renviron.bioc for more information. |
| Package: a4Base |
| Version: 1.52.0 |
| Command: /Library/Frameworks/R.framework/Resources/bin/R CMD check --install=check:a4Base.install-out.txt --library=/Library/Frameworks/R.framework/Resources/library --no-vignettes --timings a4Base_1.52.0.tar.gz |
| StartedAt: 2024-06-10 06:50:16 -0400 (Mon, 10 Jun 2024) |
| EndedAt: 2024-06-10 06:54:44 -0400 (Mon, 10 Jun 2024) |
| EllapsedTime: 267.8 seconds |
| RetCode: 0 |
| Status: OK |
| CheckDir: a4Base.Rcheck |
| Warnings: 0 |
##############################################################################
##############################################################################
###
### Running command:
###
### /Library/Frameworks/R.framework/Resources/bin/R CMD check --install=check:a4Base.install-out.txt --library=/Library/Frameworks/R.framework/Resources/library --no-vignettes --timings a4Base_1.52.0.tar.gz
###
##############################################################################
##############################################################################
* using log directory ‘/Users/biocbuild/bbs-3.19-bioc/meat/a4Base.Rcheck’
* using R version 4.4.0 (2024-04-24)
* using platform: aarch64-apple-darwin20
* R was compiled by
Apple clang version 14.0.0 (clang-1400.0.29.202)
GNU Fortran (GCC) 12.2.0
* running under: macOS Ventura 13.6.5
* using session charset: UTF-8
* using option ‘--no-vignettes’
* checking for file ‘a4Base/DESCRIPTION’ ... OK
* checking extension type ... Package
* this is package ‘a4Base’ version ‘1.52.0’
* checking package namespace information ... OK
* checking package dependencies ... NOTE
Package which this enhances but not available for checking: ‘JavaGD’
* checking if this is a source package ... OK
* checking if there is a namespace ... OK
* checking for hidden files and directories ... OK
* checking for portable file names ... OK
* checking for sufficient/correct file permissions ... OK
* checking whether package ‘a4Base’ can be installed ... OK
* checking installed package size ... OK
* checking package directory ... OK
* checking DESCRIPTION meta-information ... OK
* checking top-level files ... OK
* checking for left-over files ... OK
* checking index information ... OK
* checking package subdirectories ... OK
* checking code files for non-ASCII characters ... OK
* checking R files for syntax errors ... OK
* checking whether the package can be loaded ... OK
* checking whether the package can be loaded with stated dependencies ... OK
* checking whether the package can be unloaded cleanly ... OK
* checking whether the namespace can be loaded with stated dependencies ... OK
* checking whether the namespace can be unloaded cleanly ... OK
* checking whether startup messages can be suppressed ... OK
* checking dependencies in R code ... OK
* checking S3 generic/method consistency ... OK
* checking replacement functions ... OK
* checking foreign function calls ... OK
* checking R code for possible problems ... OK
* checking Rd files ... NOTE
checkRd: (-1) computeLogRatio.Rd:49-51: Lost braces in \itemize; meant \describe ?
checkRd: (-1) computeLogRatio.Rd:52-55: Lost braces in \itemize; meant \describe ?
checkRd: (-1) filterVarInt.Rd:52: Escaped LaTeX specials: \&
checkRd: (-1) histPvalue.Rd:50: Escaped LaTeX specials: \&
checkRd: (-1) lassoReg.Rd:38: Escaped LaTeX specials: \&
checkRd: (-1) plotLogRatio.Rd:166: Lost braces in \itemize; meant \describe ?
checkRd: (-1) plotLogRatio.Rd:167: Lost braces in \itemize; meant \describe ?
checkRd: (-1) plotLogRatio.Rd:168: Lost braces in \itemize; meant \describe ?
checkRd: (-1) plotLogRatio.Rd:169: Lost braces in \itemize; meant \describe ?
checkRd: (-1) plotLogRatio.Rd:170: Lost braces in \itemize; meant \describe ?
checkRd: (-1) plotLogRatio.Rd:183-185: Lost braces in \itemize; meant \describe ?
checkRd: (-1) plotLogRatio.Rd:186-191: Lost braces in \itemize; meant \describe ?
checkRd: (-1) plotLogRatio.Rd:192-200: Lost braces in \itemize; meant \describe ?
checkRd: (-1) plotLogRatio.Rd:201-203: Lost braces in \itemize; meant \describe ?
checkRd: (-1) spectralMap.Rd:49: Escaped LaTeX specials: \&
checkRd: (-1) topTable-methods.Rd:112: Lost braces in \itemize; meant \describe ?
checkRd: (-1) volcanoPlot.Rd:45: Escaped LaTeX specials: \&
* checking Rd metadata ... OK
* checking Rd cross-references ... OK
* checking for missing documentation entries ... OK
* checking for code/documentation mismatches ... OK
* checking Rd \usage sections ... OK
* checking Rd contents ... OK
* checking for unstated dependencies in examples ... OK
* checking contents of ‘data’ directory ... OK
* checking data for non-ASCII characters ... OK
* checking data for ASCII and uncompressed saves ... OK
* checking examples ... OK
Examples with CPU (user + system) or elapsed time > 5s
user system elapsed
spectralMap 13.798 0.377 18.256
computeLogRatio 4.807 0.153 5.921
* checking PDF version of manual ... OK
* DONE
Status: 2 NOTEs
See
‘/Users/biocbuild/bbs-3.19-bioc/meat/a4Base.Rcheck/00check.log’
for details.
a4Base.Rcheck/00install.out
############################################################################## ############################################################################## ### ### Running command: ### ### /Library/Frameworks/R.framework/Resources/bin/R CMD INSTALL a4Base ### ############################################################################## ############################################################################## * installing to library ‘/Library/Frameworks/R.framework/Versions/4.4-arm64/Resources/library’ * installing *source* package ‘a4Base’ ... ** using staged installation ** R ** data ** inst ** byte-compile and prepare package for lazy loading ** help *** installing help indices ** building package indices ** testing if installed package can be loaded from temporary location ** testing if installed package can be loaded from final location ** testing if installed package keeps a record of temporary installation path * DONE (a4Base)
a4Base.Rcheck/a4Base-Ex.timings
| name | user | system | elapsed | |
| a4palette | 0.037 | 0.003 | 0.041 | |
| addQuantilesColors | 2.796 | 0.153 | 3.949 | |
| boxPlot | 2.965 | 0.112 | 4.272 | |
| combineTwoExpressionSet | 0 | 0 | 0 | |
| computeLogRatio | 4.807 | 0.153 | 5.921 | |
| createExpressionSet | 0.039 | 0.001 | 0.060 | |
| filterVarInt | 2.442 | 0.071 | 3.139 | |
| heatmap.expressionSet | 0.001 | 0.002 | 0.004 | |
| histPvalue | 1.800 | 0.057 | 2.598 | |
| histpvalueplotter | 1.681 | 0.050 | 1.854 | |
| lassoReg | 1.779 | 0.063 | 2.769 | |
| logReg | 0.000 | 0.000 | 0.001 | |
| nlcvTT | 0.001 | 0.000 | 0.001 | |
| plot1gene | 1.658 | 0.046 | 1.983 | |
| plotComb2Samples | 2.548 | 0.079 | 3.415 | |
| plotCombMultSamples | 2.350 | 0.123 | 3.746 | |
| plotCombination2genes | 2.519 | 0.060 | 3.391 | |
| plotLogRatio | 3.998 | 0.100 | 4.371 | |
| probabilitiesPlot | 0.000 | 0.000 | 0.001 | |
| probe2gene | 1.413 | 0.039 | 2.170 | |
| profilesPlot | 1.666 | 0.048 | 2.105 | |
| propdegenescalculation | 1.921 | 0.062 | 2.744 | |
| replicates | 0.002 | 0.001 | 0.002 | |
| spectralMap | 13.798 | 0.377 | 18.256 | |
| tTest | 1.962 | 0.088 | 3.039 | |
| volcanoPlot | 2.060 | 0.073 | 2.977 | |