| Back to Multiple platform build/check report for BioC 3.19: simplified long | 
 | 
This page was generated on 2024-05-08 11:41:34 -0400 (Wed, 08 May 2024).
| Hostname | OS | Arch (*) | R version | Installed pkgs | 
|---|---|---|---|---|
| nebbiolo1 | Linux (Ubuntu 22.04.3 LTS) | x86_64 | 4.4.0 (2024-04-24) -- "Puppy Cup" | 4707 | 
| palomino3 | Windows Server 2022 Datacenter | x64 | 4.4.0 (2024-04-24 ucrt) -- "Puppy Cup" | 4484 | 
| lconway | macOS 12.7.1 Monterey | x86_64 | 4.4.0 (2024-04-24) -- "Puppy Cup" | 4514 | 
| kunpeng2 | Linux (openEuler 22.03 LTS-SP1) | aarch64 | 4.4.0 beta (2024-04-15 r86425) -- "Puppy Cup" | 4480 | 
| Click on any hostname to see more info about the system (e.g. compilers) (*) as reported by 'uname -p', except on Windows and Mac OS X | ||||
| Package 2293/2300 | Hostname | OS / Arch | INSTALL | BUILD | CHECK | BUILD BIN | ||||||||
| YAPSA 1.30.0  (landing page) Zuguang Gu 
 | nebbiolo1 | Linux (Ubuntu 22.04.3 LTS) / x86_64 | OK | OK | OK |  | ||||||||
| palomino3 | Windows Server 2022 Datacenter / x64 | OK | OK | OK | OK |  | ||||||||
| lconway | macOS 12.7.1 Monterey / x86_64 | OK | OK | OK | OK |  | ||||||||
| kunpeng2 | Linux (openEuler 22.03 LTS-SP1) / aarch64 | OK | OK | OK | ||||||||||
| kjohnson3 | macOS 13.6.5 Ventura / arm64 | see weekly results here | ||||||||||||
| To the developers/maintainers of the YAPSA package: - Allow up to 24 hours (and sometimes 48 hours) for your latest push to git@git.bioconductor.org:packages/YAPSA.git to reflect on this report. See Troubleshooting Build Report for more information. - Use the following Renviron settings to reproduce errors and warnings. - If 'R CMD check' started to fail recently on the Linux builder(s) over a missing dependency, add the missing dependency to 'Suggests:' in your DESCRIPTION file. See Renviron.bioc for more information. - See Martin Grigorov's blog post for how to debug Linux ARM64 related issues on a x86_64 host. | 
| Package: YAPSA | 
| Version: 1.30.0 | 
| Command: /home/biocbuild/R/R-beta-2024-04-15_r86425/bin/R CMD check --install=check:YAPSA.install-out.txt --library=/home/biocbuild/R/R-beta-2024-04-15_r86425/site-library --no-vignettes --timings YAPSA_1.30.0.tar.gz | 
| StartedAt: 2024-05-08 13:11:25 -0000 (Wed, 08 May 2024) | 
| EndedAt: 2024-05-08 13:22:04 -0000 (Wed, 08 May 2024) | 
| EllapsedTime: 638.8 seconds | 
| RetCode: 0 | 
| Status: OK | 
| CheckDir: YAPSA.Rcheck | 
| Warnings: 0 | 
##############################################################################
##############################################################################
###
### Running command:
###
###   /home/biocbuild/R/R-beta-2024-04-15_r86425/bin/R CMD check --install=check:YAPSA.install-out.txt --library=/home/biocbuild/R/R-beta-2024-04-15_r86425/site-library --no-vignettes --timings YAPSA_1.30.0.tar.gz
###
##############################################################################
##############################################################################
* using log directory ‘/home/biocbuild/bbs-3.19-bioc/meat/YAPSA.Rcheck’
* using R version 4.4.0 beta (2024-04-15 r86425)
* using platform: aarch64-unknown-linux-gnu
* R was compiled by
    gcc (GCC) 10.3.1
    GNU Fortran (GCC) 10.3.1
* running under: openEuler 22.03 (LTS-SP1)
* using session charset: UTF-8
* using option ‘--no-vignettes’
* checking for file ‘YAPSA/DESCRIPTION’ ... OK
* checking extension type ... Package
* this is package ‘YAPSA’ version ‘1.30.0’
* package encoding: UTF-8
* checking package namespace information ... OK
* checking package dependencies ... OK
* checking if this is a source package ... OK
* checking if there is a namespace ... OK
* checking for hidden files and directories ... OK
* checking for portable file names ... OK
* checking for sufficient/correct file permissions ... OK
* checking whether package ‘YAPSA’ can be installed ... OK
* checking installed package size ... OK
* checking package directory ... OK
* checking ‘build’ directory ... OK
* checking DESCRIPTION meta-information ... OK
* checking top-level files ... OK
* checking for left-over files ... OK
* checking index information ... OK
* checking package subdirectories ... OK
* checking code files for non-ASCII characters ... OK
* checking R files for syntax errors ... OK
* checking whether the package can be loaded ... OK
* checking whether the package can be loaded with stated dependencies ... OK
* checking whether the package can be unloaded cleanly ... OK
* checking whether the namespace can be loaded with stated dependencies ... OK
* checking whether the namespace can be unloaded cleanly ... OK
* checking loading without being on the library search path ... OK
* checking dependencies in R code ... OK
* checking S3 generic/method consistency ... OK
* checking replacement functions ... OK
* checking foreign function calls ... OK
* checking R code for possible problems ... OK
* checking Rd files ... OK
* checking Rd metadata ... OK
* checking Rd cross-references ... OK
* checking for missing documentation entries ... OK
* checking for code/documentation mismatches ... OK
* checking Rd \usage sections ... OK
* checking Rd contents ... OK
* checking for unstated dependencies in examples ... OK
* checking contents of ‘data’ directory ... OK
* checking data for non-ASCII characters ... OK
* checking data for ASCII and uncompressed saves ... OK
* checking files in ‘vignettes’ ... OK
* checking examples ... OK
Examples with CPU (user + system) or elapsed time > 5s
                                          user system elapsed
confidence_indel_only_calulation        32.794  0.950  33.815
create_indel_mutation_catalogue_from_df 20.858  0.738  21.647
build_gene_list_for_pathway              8.490  0.783  18.092
run_SMC                                  6.777  0.331   7.123
* checking for unstated dependencies in ‘tests’ ... OK
* checking tests ...
  Running ‘testthat.R’
 OK
* checking for unstated dependencies in vignettes ... OK
* checking package vignettes ... OK
* checking running R code from vignettes ... SKIPPED
* checking re-building of vignette outputs ... SKIPPED
* checking PDF version of manual ... OK
* DONE
Status: OK
YAPSA.Rcheck/00install.out
############################################################################## ############################################################################## ### ### Running command: ### ### /home/biocbuild/R/R-beta-2024-04-15_r86425/bin/R CMD INSTALL YAPSA ### ############################################################################## ############################################################################## * installing to library ‘/home/biocbuild/R/R-beta-2024-04-15_r86425/site-library’ * installing *source* package ‘YAPSA’ ... ** using staged installation ** R ** data ** inst ** byte-compile and prepare package for lazy loading Found more than one class "atomicVector" in cache; using the first, from namespace 'Matrix' Also defined by 'Rmpfr' Found more than one class "atomicVector" in cache; using the first, from namespace 'Matrix' Also defined by 'Rmpfr' Found more than one class "atomicVector" in cache; using the first, from namespace 'Matrix' Also defined by 'Rmpfr' Found more than one class "atomicVector" in cache; using the first, from namespace 'Matrix' Also defined by 'Rmpfr' Found more than one class "atomicVector" in cache; using the first, from namespace 'Matrix' Also defined by 'Rmpfr' Found more than one class "atomicVector" in cache; using the first, from namespace 'Matrix' Also defined by 'Rmpfr' Found more than one class "atomicVector" in cache; using the first, from namespace 'Matrix' Also defined by 'Rmpfr' Found more than one class "atomicVector" in cache; using the first, from namespace 'Matrix' Also defined by 'Rmpfr' ** help *** installing help indices ** building package indices ** installing vignettes ** testing if installed package can be loaded from temporary location Found more than one class "atomicVector" in cache; using the first, from namespace 'Matrix' Also defined by 'Rmpfr' Found more than one class "atomicVector" in cache; using the first, from namespace 'Matrix' Also defined by 'Rmpfr' Found more than one class "atomicVector" in cache; using the first, from namespace 'Matrix' Also defined by 'Rmpfr' Found more than one class "atomicVector" in cache; using the first, from namespace 'Matrix' Also defined by 'Rmpfr' Found more than one class "atomicVector" in cache; using the first, from namespace 'Matrix' Also defined by 'Rmpfr' Found more than one class "atomicVector" in cache; using the first, from namespace 'Matrix' Also defined by 'Rmpfr' Found more than one class "atomicVector" in cache; using the first, from namespace 'Matrix' Also defined by 'Rmpfr' Found more than one class "atomicVector" in cache; using the first, from namespace 'Matrix' Also defined by 'Rmpfr' ** testing if installed package can be loaded from final location Found more than one class "atomicVector" in cache; using the first, from namespace 'Matrix' Also defined by 'Rmpfr' Found more than one class "atomicVector" in cache; using the first, from namespace 'Matrix' Also defined by 'Rmpfr' Found more than one class "atomicVector" in cache; using the first, from namespace 'Matrix' Also defined by 'Rmpfr' Found more than one class "atomicVector" in cache; using the first, from namespace 'Matrix' Also defined by 'Rmpfr' Found more than one class "atomicVector" in cache; using the first, from namespace 'Matrix' Also defined by 'Rmpfr' Found more than one class "atomicVector" in cache; using the first, from namespace 'Matrix' Also defined by 'Rmpfr' Found more than one class "atomicVector" in cache; using the first, from namespace 'Matrix' Also defined by 'Rmpfr' Found more than one class "atomicVector" in cache; using the first, from namespace 'Matrix' Also defined by 'Rmpfr' ** testing if installed package keeps a record of temporary installation path * DONE (YAPSA)
YAPSA.Rcheck/tests/testthat.Rout
R version 4.4.0 beta (2024-04-15 r86425) -- "Puppy Cup"
Copyright (C) 2024 The R Foundation for Statistical Computing
Platform: aarch64-unknown-linux-gnu
R is free software and comes with ABSOLUTELY NO WARRANTY.
You are welcome to redistribute it under certain conditions.
Type 'license()' or 'licence()' for distribution details.
R is a collaborative project with many contributors.
Type 'contributors()' for more information and
'citation()' on how to cite R or R packages in publications.
Type 'demo()' for some demos, 'help()' for on-line help, or
'help.start()' for an HTML browser interface to help.
Type 'q()' to quit R.
> Sys.setenv(R_TESTS=" ")
> library(testthat)
> library(YAPSA)
Loading required package: GenomicRanges
Loading required package: stats4
Loading required package: BiocGenerics
Attaching package: 'BiocGenerics'
The following objects are masked from 'package:stats':
    IQR, mad, sd, var, xtabs
The following objects are masked from 'package:base':
    Filter, Find, Map, Position, Reduce, anyDuplicated, aperm, append,
    as.data.frame, basename, cbind, colnames, dirname, do.call,
    duplicated, eval, evalq, get, grep, grepl, intersect, is.unsorted,
    lapply, mapply, match, mget, order, paste, pmax, pmax.int, pmin,
    pmin.int, rank, rbind, rownames, sapply, setdiff, table, tapply,
    union, unique, unsplit, which.max, which.min
Loading required package: S4Vectors
Attaching package: 'S4Vectors'
The following object is masked from 'package:utils':
    findMatches
The following objects are masked from 'package:base':
    I, expand.grid, unname
Loading required package: IRanges
Loading required package: GenomeInfoDb
Loading required package: ggplot2
Loading required package: grid
Found more than one class "atomicVector" in cache; using the first, from namespace 'Matrix'
Also defined by 'Rmpfr'
Found more than one class "atomicVector" in cache; using the first, from namespace 'Matrix'
Also defined by 'Rmpfr'
Found more than one class "atomicVector" in cache; using the first, from namespace 'Matrix'
Also defined by 'Rmpfr'
Found more than one class "atomicVector" in cache; using the first, from namespace 'Matrix'
Also defined by 'Rmpfr'
Found more than one class "atomicVector" in cache; using the first, from namespace 'Matrix'
Also defined by 'Rmpfr'
Found more than one class "atomicVector" in cache; using the first, from namespace 'Matrix'
Also defined by 'Rmpfr'
Found more than one class "atomicVector" in cache; using the first, from namespace 'Matrix'
Also defined by 'Rmpfr'
Found more than one class "atomicVector" in cache; using the first, from namespace 'Matrix'
Also defined by 'Rmpfr'
> 
> test_check("YAPSA")
YAPSA:::shapiro_if_possible::error: Non-numeric inputYAPSA:::makeVRangesFromDataFrame::warning:strand  information missing, set to "+".
YAPSA:::makeVRangesFromDataFrame::in_PID.field found.  Retrieving PID information.
YAPSA:::makeVRangesFromDataFrame::in_subgroup.field found.  Retrieving subgroup information.
[ FAIL 0 | WARN 1 | SKIP 0 | PASS 62 ]
[ FAIL 0 | WARN 1 | SKIP 0 | PASS 62 ]
> 
> proc.time()
   user  system elapsed 
 26.004   0.930  26.969 
YAPSA.Rcheck/YAPSA-Ex.timings
| name | user | system | elapsed | |
| GenomeOfNl_raw | 0.010 | 0.000 | 0.011 | |
| LCD | 0.011 | 0.000 | 0.011 | |
| LCD_complex_cutoff | 0.001 | 0.000 | 0.000 | |
| MutCat_indel_df | 0.001 | 0.004 | 0.004 | |
| SMC | 0 | 0 | 0 | |
| SMC_perPID | 0 | 0 | 0 | |
| add_annotation | 0 | 0 | 0 | |
| add_as_fist_to_list | 0 | 0 | 0 | |
| aggregate_exposures_by_category | 0 | 0 | 0 | |
| annotate_intermut_dist_PID | 0.026 | 0.000 | 0.026 | |
| annotate_intermut_dist_cohort | 0.032 | 0.000 | 0.032 | |
| annotation_exposures_barplot | 0 | 0 | 0 | |
| annotation_exposures_list_barplot | 0 | 0 | 0 | |
| annotation_heatmap_exposures | 0 | 0 | 0 | |
| attribute_nucleotide_exchanges | 0.003 | 0.000 | 0.004 | |
| attribute_sequence_contex_indel | 0.806 | 0.036 | 0.844 | |
| attribution_of_indels | 0.912 | 0.051 | 0.966 | |
| build_gene_list_for_pathway | 8.490 | 0.783 | 18.092 | |
| classify_indels | 0.001 | 0.000 | 0.000 | |
| compare_SMCs | 0 | 0 | 0 | |
| compare_exposures | 0 | 0 | 0 | |
| compare_expousre_sets | 0.002 | 0.004 | 0.006 | |
| compare_sets | 0.001 | 0.004 | 0.005 | |
| compare_to_catalogues | 0 | 0 | 0 | |
| complex_heatmap_exposures | 1.452 | 0.124 | 1.579 | |
| computeLogLik | 0 | 0 | 0 | |
| compute_comparison_stat_df | 0 | 0 | 0 | |
| confIntExp | 3.471 | 0.407 | 3.885 | |
| confidence_indel_calulation | 0.001 | 0.000 | 0.002 | |
| confidence_indel_only_calulation | 32.794 | 0.950 | 33.815 | |
| correct_rounded | 0 | 0 | 0 | |
| cosineDist | 0.000 | 0.000 | 0.001 | |
| cosineMatchDist | 0.002 | 0.000 | 0.002 | |
| create_indel_mut_cat_from_df | 0.657 | 0.020 | 0.678 | |
| create_indel_mutation_catalogue_from_df | 20.858 | 0.738 | 21.647 | |
| create_mutation_catalogue_from_VR | 1.894 | 0.160 | 2.058 | |
| create_mutation_catalogue_from_df | 1.382 | 0.096 | 1.482 | |
| cut_breaks_as_intervals | 0.179 | 0.012 | 0.192 | |
| deriveSigInd_df | 0 | 0 | 0 | |
| disambiguateVector | 0 | 0 | 0 | |
| enrichSigs | 0 | 0 | 0 | |
| exampleYAPSA | 0.08 | 0.00 | 0.08 | |
| exome_mutCatRaw_df | 0.014 | 0.000 | 0.014 | |
| exposures_barplot | 4.544 | 0.072 | 4.624 | |
| extract_names_from_gene_list | 0 | 0 | 0 | |
| find_affected_PIDs | 0 | 0 | 0 | |
| getSequenceContext | 0.226 | 0.008 | 0.234 | |
| get_extreme_PIDs | 0.011 | 0.000 | 0.012 | |
| hclust_exposures | 0.008 | 0.000 | 0.008 | |
| logLikelihood | 1.470 | 0.067 | 1.542 | |
| lymphomaNature2013_mutCat_df | 0.007 | 0.000 | 0.008 | |
| makeVRangesFromDataFrame | 0.174 | 0.004 | 0.179 | |
| make_catalogue_strata_df | 0 | 0 | 0 | |
| make_comparison_matrix | 0.126 | 0.016 | 0.142 | |
| make_strata_df | 0 | 0 | 0 | |
| make_subgroups_df | 0.035 | 0.008 | 0.043 | |
| melt_exposures | 0 | 0 | 0 | |
| merge_exposures | 0 | 0 | 0 | |
| normalizeMotifs_otherRownames | 0 | 0 | 0 | |
| normalize_df_per_dim | 0.011 | 0.004 | 0.015 | |
| plotExchangeSpectra | 0 | 0 | 0 | |
| plotExchangeSpectra_indel | 2.213 | 0.024 | 2.241 | |
| plotExposuresConfidence | 0 | 0 | 0 | |
| plotExposuresConfidence_indel | 0 | 0 | 0 | |
| plot_SMC | 0.000 | 0.001 | 0.000 | |
| plot_exposures | 0.889 | 0.029 | 0.920 | |
| plot_strata | 0 | 0 | 0 | |
| read_entry | 0.000 | 0.000 | 0.001 | |
| relateSigs | 0 | 0 | 0 | |
| repeat_df | 0.003 | 0.000 | 0.003 | |
| round_precision | 0 | 0 | 0 | |
| run_SMC | 6.777 | 0.331 | 7.123 | |
| run_annotate_vcf_pl | 0 | 0 | 0 | |
| run_comparison_catalogues | 0 | 0 | 0 | |
| run_comparison_general | 0 | 0 | 0 | |
| run_kmer_frequency_correction | 0 | 0 | 0 | |
| run_kmer_frequency_normalization | 0 | 0 | 0 | |
| run_plot_strata_general | 0 | 0 | 0 | |
| shapiro_if_possible | 0.001 | 0.000 | 0.001 | |
| split_exposures_by_subgroups | 0 | 0 | 0 | |
| stat_plot_subgroups | 0 | 0 | 0 | |
| stat_test_SMC | 0.000 | 0.001 | 0.000 | |
| stat_test_subgroups | 0 | 0 | 0 | |
| stderrmean | 0 | 0 | 0 | |
| sum_over_list_of_df | 0.003 | 0.001 | 0.002 | |
| testSigs | 0 | 0 | 0 | |
| test_exposureAffected | 0 | 0 | 0 | |
| test_gene_list_in_exposures | 0 | 0 | 0 | |
| transform_rownames_R_to_MATLAB | 0 | 0 | 0 | |
| translate_to_hg19 | 0.004 | 0.000 | 0.005 | |
| trellis_rainfall_plot | 2.687 | 0.019 | 2.716 | |
| variateExp | 3.913 | 0.108 | 4.030 | |
| variateExpSingle | 1.412 | 0.100 | 1.514 | |