Back to Multiple platform build/check report for BioC 3.19: simplified long |
|
This page was generated on 2024-05-09 11:41:35 -0400 (Thu, 09 May 2024).
Hostname | OS | Arch (*) | R version | Installed pkgs |
---|---|---|---|---|
nebbiolo1 | Linux (Ubuntu 22.04.3 LTS) | x86_64 | 4.4.0 (2024-04-24) -- "Puppy Cup" | 4748 |
palomino3 | Windows Server 2022 Datacenter | x64 | 4.4.0 (2024-04-24 ucrt) -- "Puppy Cup" | 4484 |
lconway | macOS 12.7.1 Monterey | x86_64 | 4.4.0 (2024-04-24) -- "Puppy Cup" | 4514 |
kunpeng2 | Linux (openEuler 22.03 LTS-SP1) | aarch64 | 4.4.0 beta (2024-04-15 r86425) -- "Puppy Cup" | 4480 |
Click on any hostname to see more info about the system (e.g. compilers) (*) as reported by 'uname -p', except on Windows and Mac OS X |
Package 2291/2300 | Hostname | OS / Arch | INSTALL | BUILD | CHECK | BUILD BIN | ||||||||
XVector 0.44.0 (landing page) Hervé Pagès
| nebbiolo1 | Linux (Ubuntu 22.04.3 LTS) / x86_64 | OK | OK | WARNINGS | |||||||||
palomino3 | Windows Server 2022 Datacenter / x64 | OK | OK | WARNINGS | OK | |||||||||
lconway | macOS 12.7.1 Monterey / x86_64 | OK | OK | WARNINGS | OK | |||||||||
kunpeng2 | Linux (openEuler 22.03 LTS-SP1) / aarch64 | OK | OK | NA | ||||||||||
kjohnson3 | macOS 13.6.5 Ventura / arm64 | see weekly results here | ||||||||||||
To the developers/maintainers of the XVector package: - Allow up to 24 hours (and sometimes 48 hours) for your latest push to git@git.bioconductor.org:packages/XVector.git to reflect on this report. See Troubleshooting Build Report for more information. - Use the following Renviron settings to reproduce errors and warnings. - If 'R CMD check' started to fail recently on the Linux builder(s) over a missing dependency, add the missing dependency to 'Suggests:' in your DESCRIPTION file. See Renviron.bioc for more information. - See Martin Grigorov's blog post for how to debug Linux ARM64 related issues on a x86_64 host. |
Package: XVector |
Version: 0.44.0 |
Command: /home/biocbuild/R/R-beta-2024-04-15_r86425/bin/R CMD INSTALL XVector |
StartedAt: 2024-05-08 20:07:24 -0000 (Wed, 08 May 2024) |
EndedAt: 2024-05-08 20:07:54 -0000 (Wed, 08 May 2024) |
EllapsedTime: 29.7 seconds |
RetCode: 0 |
Status: OK |
############################################################################## ############################################################################## ### ### Running command: ### ### /home/biocbuild/R/R-beta-2024-04-15_r86425/bin/R CMD INSTALL XVector ### ############################################################################## ############################################################################## * installing to library ‘/home/biocbuild/R/R-beta-2024-04-15_r86425/site-library’ * installing *source* package ‘XVector’ ... ** using staged installation ** libs using C compiler: ‘gcc (GCC) 10.3.1’ gcc -I"/home/biocbuild/R/R-beta-2024-04-15_r86425/include" -DNDEBUG -I'/home/biocbuild/R/R-beta-2024-04-15_r86425/site-library/S4Vectors/include' -I'/home/biocbuild/R/R-beta-2024-04-15_r86425/site-library/IRanges/include' -I/usr/local/include -fPIC -g -O2 -Wall -c IRanges_stubs.c -o IRanges_stubs.o gcc -I"/home/biocbuild/R/R-beta-2024-04-15_r86425/include" -DNDEBUG -I'/home/biocbuild/R/R-beta-2024-04-15_r86425/site-library/S4Vectors/include' -I'/home/biocbuild/R/R-beta-2024-04-15_r86425/site-library/IRanges/include' -I/usr/local/include -fPIC -g -O2 -Wall -c Ocopy_byteblocks.c -o Ocopy_byteblocks.o gcc -I"/home/biocbuild/R/R-beta-2024-04-15_r86425/include" -DNDEBUG -I'/home/biocbuild/R/R-beta-2024-04-15_r86425/site-library/S4Vectors/include' -I'/home/biocbuild/R/R-beta-2024-04-15_r86425/site-library/IRanges/include' -I/usr/local/include -fPIC -g -O2 -Wall -c RDS_random_access.c -o RDS_random_access.o RDS_random_access.c: In function ‘RDS_extract_subarray’: RDS_random_access.c:796:18: warning: unused variable ‘ans’ [-Wunused-variable] 796 | SEXP subscript, ans; | ^~~ RDS_random_access.c:793:11: warning: variable ‘x_type’ set but not used [-Wunused-but-set-variable] 793 | SEXPTYPE x_type; | ^~~~~~ gcc -I"/home/biocbuild/R/R-beta-2024-04-15_r86425/include" -DNDEBUG -I'/home/biocbuild/R/R-beta-2024-04-15_r86425/site-library/S4Vectors/include' -I'/home/biocbuild/R/R-beta-2024-04-15_r86425/site-library/IRanges/include' -I/usr/local/include -fPIC -g -O2 -Wall -c R_init_XVector.c -o R_init_XVector.o gcc -I"/home/biocbuild/R/R-beta-2024-04-15_r86425/include" -DNDEBUG -I'/home/biocbuild/R/R-beta-2024-04-15_r86425/site-library/S4Vectors/include' -I'/home/biocbuild/R/R-beta-2024-04-15_r86425/site-library/IRanges/include' -I/usr/local/include -fPIC -g -O2 -Wall -c S4Vectors_stubs.c -o S4Vectors_stubs.o gcc -I"/home/biocbuild/R/R-beta-2024-04-15_r86425/include" -DNDEBUG -I'/home/biocbuild/R/R-beta-2024-04-15_r86425/site-library/S4Vectors/include' -I'/home/biocbuild/R/R-beta-2024-04-15_r86425/site-library/IRanges/include' -I/usr/local/include -fPIC -g -O2 -Wall -c SharedDouble_class.c -o SharedDouble_class.o gcc -I"/home/biocbuild/R/R-beta-2024-04-15_r86425/include" -DNDEBUG -I'/home/biocbuild/R/R-beta-2024-04-15_r86425/site-library/S4Vectors/include' -I'/home/biocbuild/R/R-beta-2024-04-15_r86425/site-library/IRanges/include' -I/usr/local/include -fPIC -g -O2 -Wall -c SharedInteger_class.c -o SharedInteger_class.o gcc -I"/home/biocbuild/R/R-beta-2024-04-15_r86425/include" -DNDEBUG -I'/home/biocbuild/R/R-beta-2024-04-15_r86425/site-library/S4Vectors/include' -I'/home/biocbuild/R/R-beta-2024-04-15_r86425/site-library/IRanges/include' -I/usr/local/include -fPIC -g -O2 -Wall -c SharedRaw_class.c -o SharedRaw_class.o SharedRaw_class.c: In function ‘SharedRaw_read_complexes_from_subscript’: SharedRaw_class.c:396:13: warning: variable ‘src_tag’ set but not used [-Wunused-but-set-variable] 396 | SEXP dest, src_tag; | ^~~~~~~ gcc -I"/home/biocbuild/R/R-beta-2024-04-15_r86425/include" -DNDEBUG -I'/home/biocbuild/R/R-beta-2024-04-15_r86425/site-library/S4Vectors/include' -I'/home/biocbuild/R/R-beta-2024-04-15_r86425/site-library/IRanges/include' -I/usr/local/include -fPIC -g -O2 -Wall -c SharedVector_class.c -o SharedVector_class.o gcc -I"/home/biocbuild/R/R-beta-2024-04-15_r86425/include" -DNDEBUG -I'/home/biocbuild/R/R-beta-2024-04-15_r86425/site-library/S4Vectors/include' -I'/home/biocbuild/R/R-beta-2024-04-15_r86425/site-library/IRanges/include' -I/usr/local/include -fPIC -g -O2 -Wall -c XDouble_class.c -o XDouble_class.o gcc -I"/home/biocbuild/R/R-beta-2024-04-15_r86425/include" -DNDEBUG -I'/home/biocbuild/R/R-beta-2024-04-15_r86425/site-library/S4Vectors/include' -I'/home/biocbuild/R/R-beta-2024-04-15_r86425/site-library/IRanges/include' -I/usr/local/include -fPIC -g -O2 -Wall -c XInteger_class.c -o XInteger_class.o gcc -I"/home/biocbuild/R/R-beta-2024-04-15_r86425/include" -DNDEBUG -I'/home/biocbuild/R/R-beta-2024-04-15_r86425/site-library/S4Vectors/include' -I'/home/biocbuild/R/R-beta-2024-04-15_r86425/site-library/IRanges/include' -I/usr/local/include -fPIC -g -O2 -Wall -c XRawList_comparison.c -o XRawList_comparison.o gcc -I"/home/biocbuild/R/R-beta-2024-04-15_r86425/include" -DNDEBUG -I'/home/biocbuild/R/R-beta-2024-04-15_r86425/site-library/S4Vectors/include' -I'/home/biocbuild/R/R-beta-2024-04-15_r86425/site-library/IRanges/include' -I/usr/local/include -fPIC -g -O2 -Wall -c XRaw_class.c -o XRaw_class.o gcc -I"/home/biocbuild/R/R-beta-2024-04-15_r86425/include" -DNDEBUG -I'/home/biocbuild/R/R-beta-2024-04-15_r86425/site-library/S4Vectors/include' -I'/home/biocbuild/R/R-beta-2024-04-15_r86425/site-library/IRanges/include' -I/usr/local/include -fPIC -g -O2 -Wall -c XVectorList_class.c -o XVectorList_class.o XVectorList_class.c: In function ‘_new_XRawList_from_CharAEAE’: XVectorList_class.c:459:3: warning: ‘lkup_length’ may be used uninitialized in this function [-Wmaybe-uninitialized] 459 | _Ocopy_bytes_to_i1i2_with_lkup(0, dest.length - 1, | ^~~~~~~~~~~~~~~~~~~~~~~~~~~~~~~~~~~~~~~~~~~~~~~~~~ 460 | (char *) dest.ptr, dest.length, | ~~~~~~~~~~~~~~~~~~~~~~~~~~~~~~~ 461 | src->elts, CharAE_get_nelt(src), | ~~~~~~~~~~~~~~~~~~~~~~~~~~~~~~~~ 462 | lkup0, lkup_length); | ~~~~~~~~~~~~~~~~~~~ gcc -I"/home/biocbuild/R/R-beta-2024-04-15_r86425/include" -DNDEBUG -I'/home/biocbuild/R/R-beta-2024-04-15_r86425/site-library/S4Vectors/include' -I'/home/biocbuild/R/R-beta-2024-04-15_r86425/site-library/IRanges/include' -I/usr/local/include -fPIC -g -O2 -Wall -c XVector_class.c -o XVector_class.o gcc -I"/home/biocbuild/R/R-beta-2024-04-15_r86425/include" -DNDEBUG -I'/home/biocbuild/R/R-beta-2024-04-15_r86425/site-library/S4Vectors/include' -I'/home/biocbuild/R/R-beta-2024-04-15_r86425/site-library/IRanges/include' -I/usr/local/include -fPIC -g -O2 -Wall -c io_utils.c -o io_utils.o gcc -I"/home/biocbuild/R/R-beta-2024-04-15_r86425/include" -DNDEBUG -I'/home/biocbuild/R/R-beta-2024-04-15_r86425/site-library/S4Vectors/include' -I'/home/biocbuild/R/R-beta-2024-04-15_r86425/site-library/IRanges/include' -I/usr/local/include -fPIC -g -O2 -Wall -c slice_methods.c -o slice_methods.o gcc -I"/home/biocbuild/R/R-beta-2024-04-15_r86425/include" -DNDEBUG -I'/home/biocbuild/R/R-beta-2024-04-15_r86425/site-library/S4Vectors/include' -I'/home/biocbuild/R/R-beta-2024-04-15_r86425/site-library/IRanges/include' -I/usr/local/include -fPIC -g -O2 -Wall -c vector_copy.c -o vector_copy.o gcc -I"/home/biocbuild/R/R-beta-2024-04-15_r86425/include" -DNDEBUG -I'/home/biocbuild/R/R-beta-2024-04-15_r86425/site-library/S4Vectors/include' -I'/home/biocbuild/R/R-beta-2024-04-15_r86425/site-library/IRanges/include' -I/usr/local/include -fPIC -g -O2 -Wall -c view_summarization_methods.c -o view_summarization_methods.o view_summarization_methods.c: In function ‘get_which_min_from_Ints_holder’: view_summarization_methods.c:219:31: warning: ‘cur_min’ may be used uninitialized in this function [-Wmaybe-uninitialized] 219 | if (which_min == NA_INTEGER || x < cur_min) { | ~~~~~~~~~~~~~~~~~~~~~~~~^~~~~~~~~~~~~~ view_summarization_methods.c: In function ‘get_which_min_from_Doubles_holder’: view_summarization_methods.c:246:31: warning: ‘cur_min’ may be used uninitialized in this function [-Wmaybe-uninitialized] 246 | if (which_min == NA_INTEGER || x < cur_min) { | ~~~~~~~~~~~~~~~~~~~~~~~~^~~~~~~~~~~~~~ view_summarization_methods.c: In function ‘get_which_max_from_Ints_holder’: view_summarization_methods.c:269:31: warning: ‘cur_max’ may be used uninitialized in this function [-Wmaybe-uninitialized] 269 | if (which_max == NA_INTEGER || x > cur_max) { | ~~~~~~~~~~~~~~~~~~~~~~~~^~~~~~~~~~~~~~ view_summarization_methods.c: In function ‘get_which_max_from_Doubles_holder’: view_summarization_methods.c:296:31: warning: ‘cur_max’ may be used uninitialized in this function [-Wmaybe-uninitialized] 296 | if (which_max == NA_INTEGER || x > cur_max) { | ~~~~~~~~~~~~~~~~~~~~~~~~^~~~~~~~~~~~~~ gcc -shared -L/home/biocbuild/R/R-beta-2024-04-15_r86425/lib -L/usr/local/lib -o XVector.so IRanges_stubs.o Ocopy_byteblocks.o RDS_random_access.o R_init_XVector.o S4Vectors_stubs.o SharedDouble_class.o SharedInteger_class.o SharedRaw_class.o SharedVector_class.o XDouble_class.o XInteger_class.o XRawList_comparison.o XRaw_class.o XVectorList_class.o XVector_class.o io_utils.o slice_methods.o vector_copy.o view_summarization_methods.o -lz -L/home/biocbuild/R/R-beta-2024-04-15_r86425/lib -lR installing to /home/biocbuild/R/R-beta-2024-04-15_r86425/site-library/00LOCK-XVector/00new/XVector/libs ** R ** inst ** byte-compile and prepare package for lazy loading ** help *** installing help indices ** building package indices ** testing if installed package can be loaded from temporary location ** checking absolute paths in shared objects and dynamic libraries ** testing if installed package can be loaded from final location ** testing if installed package keeps a record of temporary installation path * DONE (XVector)