Back to Multiple platform build/check report for BioC 3.19: simplified long |
|
This page was generated on 2024-06-11 14:44 -0400 (Tue, 11 Jun 2024).
Hostname | OS | Arch (*) | R version | Installed pkgs |
---|---|---|---|---|
nebbiolo1 | Linux (Ubuntu 22.04.3 LTS) | x86_64 | 4.4.0 (2024-04-24) -- "Puppy Cup" | 4757 |
palomino3 | Windows Server 2022 Datacenter | x64 | 4.4.0 (2024-04-24 ucrt) -- "Puppy Cup" | 4491 |
lconway | macOS 12.7.1 Monterey | x86_64 | 4.4.0 (2024-04-24) -- "Puppy Cup" | 4522 |
kjohnson3 | macOS 13.6.5 Ventura | arm64 | 4.4.0 (2024-04-24) -- "Puppy Cup" | 4468 |
Click on any hostname to see more info about the system (e.g. compilers) (*) as reported by 'uname -p', except on Windows and Mac OS X |
Package 2267/2300 | Hostname | OS / Arch | INSTALL | BUILD | CHECK | BUILD BIN | ||||||||
Voyager 1.6.0 (landing page) Lambda Moses
| nebbiolo1 | Linux (Ubuntu 22.04.3 LTS) / x86_64 | OK | OK | OK | |||||||||
palomino3 | Windows Server 2022 Datacenter / x64 | OK | OK | OK | OK | |||||||||
lconway | macOS 12.7.1 Monterey / x86_64 | OK | OK | ERROR | OK | |||||||||
kjohnson3 | macOS 13.6.5 Ventura / arm64 | OK | OK | OK | OK | |||||||||
To the developers/maintainers of the Voyager package: - Allow up to 24 hours (and sometimes 48 hours) for your latest push to git@git.bioconductor.org:packages/Voyager.git to reflect on this report. See Troubleshooting Build Report for more information. - Use the following Renviron settings to reproduce errors and warnings. - If 'R CMD check' started to fail recently on the Linux builder(s) over a missing dependency, add the missing dependency to 'Suggests:' in your DESCRIPTION file. See Renviron.bioc for more information. |
Package: Voyager |
Version: 1.6.0 |
Command: /Library/Frameworks/R.framework/Resources/bin/R CMD check --install=check:Voyager.install-out.txt --library=/Library/Frameworks/R.framework/Resources/library --no-vignettes --timings Voyager_1.6.0.tar.gz |
StartedAt: 2024-06-11 09:30:16 -0400 (Tue, 11 Jun 2024) |
EndedAt: 2024-06-11 09:53:09 -0400 (Tue, 11 Jun 2024) |
EllapsedTime: 1373.0 seconds |
RetCode: 0 |
Status: OK |
CheckDir: Voyager.Rcheck |
Warnings: 0 |
############################################################################## ############################################################################## ### ### Running command: ### ### /Library/Frameworks/R.framework/Resources/bin/R CMD check --install=check:Voyager.install-out.txt --library=/Library/Frameworks/R.framework/Resources/library --no-vignettes --timings Voyager_1.6.0.tar.gz ### ############################################################################## ############################################################################## * using log directory ‘/Users/biocbuild/bbs-3.19-bioc/meat/Voyager.Rcheck’ * using R version 4.4.0 (2024-04-24) * using platform: aarch64-apple-darwin20 * R was compiled by Apple clang version 14.0.0 (clang-1400.0.29.202) GNU Fortran (GCC) 12.2.0 * running under: macOS Ventura 13.6.5 * using session charset: UTF-8 * using option ‘--no-vignettes’ * checking for file ‘Voyager/DESCRIPTION’ ... OK * checking extension type ... Package * this is package ‘Voyager’ version ‘1.6.0’ * package encoding: UTF-8 * checking package namespace information ... OK * checking package dependencies ... OK * checking if this is a source package ... OK * checking if there is a namespace ... OK * checking for hidden files and directories ... OK * checking for portable file names ... OK * checking for sufficient/correct file permissions ... OK * checking whether package ‘Voyager’ can be installed ... OK * checking installed package size ... OK * checking package directory ... OK * checking ‘build’ directory ... OK * checking DESCRIPTION meta-information ... OK * checking top-level files ... OK * checking for left-over files ... OK * checking index information ... OK * checking package subdirectories ... OK * checking code files for non-ASCII characters ... OK * checking R files for syntax errors ... OK * checking whether the package can be loaded ... OK * checking whether the package can be loaded with stated dependencies ... OK * checking whether the package can be unloaded cleanly ... OK * checking whether the namespace can be loaded with stated dependencies ... OK * checking whether the namespace can be unloaded cleanly ... OK * checking dependencies in R code ... OK * checking S3 generic/method consistency ... OK * checking replacement functions ... OK * checking foreign function calls ... OK * checking R code for possible problems ... OK * checking Rd files ... OK * checking Rd metadata ... OK * checking Rd cross-references ... OK * checking for missing documentation entries ... OK * checking for code/documentation mismatches ... OK * checking Rd \usage sections ... OK * checking Rd contents ... OK * checking for unstated dependencies in examples ... OK * checking contents of ‘data’ directory ... OK * checking data for non-ASCII characters ... OK * checking data for ASCII and uncompressed saves ... OK * checking R/sysdata.rda ... OK * checking files in ‘vignettes’ ... OK * checking examples ... OK Examples with CPU (user + system) or elapsed time > 5s user system elapsed calculateMultivariate 47.313 0.897 68.534 plotImage 17.175 1.851 23.875 plotGeometry 15.958 0.610 23.651 calculateBivariate 16.022 0.523 24.091 clusterVariograms 12.618 0.382 17.774 moranPlot 10.126 0.403 14.576 ElbowPlot 9.042 1.227 15.632 plotCellBin2D 9.017 0.368 13.268 plotVariogram 8.412 0.288 12.642 plotSpatialFeature 7.968 0.291 11.450 plotLocalResult 7.746 0.334 11.802 plotCrossVariogram 7.055 0.322 11.004 spatialReducedDim 6.809 0.282 9.865 calculateUnivariate 6.686 0.339 10.338 plotCrossVariogramMap 6.526 0.302 10.125 plotCorrelogram 6.492 0.286 9.793 plotColDataHistogram 6.132 0.283 9.338 plotVariogramMap 5.818 0.257 8.694 plotColDataFreqpoly 5.783 0.283 8.383 plotMoranMC 5.375 0.252 8.414 plotDimLoadings 5.165 0.276 8.275 plotColGraph 5.138 0.275 8.127 multispati_rsp 5.070 0.268 7.428 clusterMoranPlot 4.500 0.253 6.909 clusterCorrelograms 4.035 0.232 6.353 moranBounds 3.892 0.231 6.083 listw2sparse 3.727 0.244 5.954 * checking for unstated dependencies in ‘tests’ ... OK * checking tests ... Running ‘testthat.R’ OK * checking for unstated dependencies in vignettes ... OK * checking package vignettes ... OK * checking running R code from vignettes ... SKIPPED * checking re-building of vignette outputs ... SKIPPED * checking PDF version of manual ... OK * DONE Status: OK
Voyager.Rcheck/00install.out
############################################################################## ############################################################################## ### ### Running command: ### ### /Library/Frameworks/R.framework/Resources/bin/R CMD INSTALL Voyager ### ############################################################################## ############################################################################## * installing to library ‘/Library/Frameworks/R.framework/Versions/4.4-arm64/Resources/library’ * installing *source* package ‘Voyager’ ... ** using staged installation ** R ** data ** inst ** byte-compile and prepare package for lazy loading ** help *** installing help indices ** building package indices ** installing vignettes ** testing if installed package can be loaded from temporary location ** testing if installed package can be loaded from final location ** testing if installed package keeps a record of temporary installation path * DONE (Voyager)
Voyager.Rcheck/tests/testthat.Rout
R version 4.4.0 (2024-04-24) -- "Puppy Cup" Copyright (C) 2024 The R Foundation for Statistical Computing Platform: aarch64-apple-darwin20 R is free software and comes with ABSOLUTELY NO WARRANTY. You are welcome to redistribute it under certain conditions. Type 'license()' or 'licence()' for distribution details. R is a collaborative project with many contributors. Type 'contributors()' for more information and 'citation()' on how to cite R or R packages in publications. Type 'demo()' for some demos, 'help()' for on-line help, or 'help.start()' for an HTML browser interface to help. Type 'q()' to quit R. > library(testthat) > library(Voyager) Loading required package: SpatialFeatureExperiment Attaching package: 'SpatialFeatureExperiment' The following object is masked from 'package:base': scale > > test_check("Voyager") Loading required package: spData To access larger datasets in this package, install the spDataLarge package with: `install.packages('spDataLarge', repos='https://nowosad.github.io/drat/', type='source')` Loading required package: sf Linking to GEOS 3.11.0, GDAL 3.5.3, PROJ 9.1.0; sf_use_s2() is TRUE Loading required package: SingleCellExperiment Loading required package: SummarizedExperiment Loading required package: MatrixGenerics Loading required package: matrixStats Attaching package: 'MatrixGenerics' The following objects are masked from 'package:matrixStats': colAlls, colAnyNAs, colAnys, colAvgsPerRowSet, colCollapse, colCounts, colCummaxs, colCummins, colCumprods, colCumsums, colDiffs, colIQRDiffs, colIQRs, colLogSumExps, colMadDiffs, colMads, colMaxs, colMeans2, colMedians, colMins, colOrderStats, colProds, colQuantiles, colRanges, colRanks, colSdDiffs, colSds, colSums2, colTabulates, colVarDiffs, colVars, colWeightedMads, colWeightedMeans, colWeightedMedians, colWeightedSds, colWeightedVars, rowAlls, rowAnyNAs, rowAnys, rowAvgsPerColSet, rowCollapse, rowCounts, rowCummaxs, rowCummins, rowCumprods, rowCumsums, rowDiffs, rowIQRDiffs, rowIQRs, rowLogSumExps, rowMadDiffs, rowMads, rowMaxs, rowMeans2, rowMedians, rowMins, rowOrderStats, rowProds, rowQuantiles, rowRanges, rowRanks, rowSdDiffs, rowSds, rowSums2, rowTabulates, rowVarDiffs, rowVars, rowWeightedMads, rowWeightedMeans, rowWeightedMedians, rowWeightedSds, rowWeightedVars Loading required package: GenomicRanges Loading required package: stats4 Loading required package: BiocGenerics Attaching package: 'BiocGenerics' The following objects are masked from 'package:stats': IQR, mad, sd, var, xtabs The following objects are masked from 'package:base': Filter, Find, Map, Position, Reduce, anyDuplicated, aperm, append, as.data.frame, basename, cbind, colnames, dirname, do.call, duplicated, eval, evalq, get, grep, grepl, intersect, is.unsorted, lapply, mapply, match, mget, order, paste, pmax, pmax.int, pmin, pmin.int, rank, rbind, rownames, sapply, setdiff, table, tapply, union, unique, unsplit, which.max, which.min Loading required package: S4Vectors Attaching package: 'S4Vectors' The following object is masked from 'package:utils': findMatches The following objects are masked from 'package:base': I, expand.grid, unname Loading required package: IRanges Loading required package: GenomeInfoDb Loading required package: Biobase Welcome to Bioconductor Vignettes contain introductory material; view with 'browseVignettes()'. To cite Bioconductor, see 'citation("Biobase")', and for packages 'citation("pkgname")'. Attaching package: 'Biobase' The following object is masked from 'package:MatrixGenerics': rowMedians The following objects are masked from 'package:matrixStats': anyMissing, rowMedians Loading required package: scuttle Loading required package: ggplot2 Attaching package: 'ggplot2' The following object is masked from 'package:SpatialFeatureExperiment': unit see ?SFEData and browseVignettes('SFEData') for documentation loading from cache see ?SFEData and browseVignettes('SFEData') for documentation loading from cache see ?SFEData and browseVignettes('SFEData') for documentation loading from cache Attaching package: 'Matrix' The following object is masked from 'package:S4Vectors': expand see ?SFEData and browseVignettes('SFEData') for documentation loading from cache see ?SFEData and browseVignettes('SFEData') for documentation loading from cache gstat does not fit anisotropic variograms. Variogram model is fitted to the whole dataset. Only one cluster is present. Not using color_by. see ?SFEData and browseVignettes('SFEData') for documentation loading from cache see ?SFEData and browseVignettes('SFEData') for documentation loading from cache Attaching package: 'EBImage' The following object is masked from 'package:SummarizedExperiment': resize The following object is masked from 'package:Biobase': channel The following objects are masked from 'package:GenomicRanges': resize, tile The following objects are masked from 'package:IRanges': resize, tile The following objects are masked from 'package:SpatialFeatureExperiment': affine, rotate, translate, transpose see ?SFEData and browseVignettes('SFEData') for documentation loading from cache see ?SFEData and browseVignettes('SFEData') for documentation loading from cache see ?SFEData and browseVignettes('SFEData') for documentation loading from cache see ?SFEData and browseVignettes('SFEData') for documentation loading from cache Coordinate system already present. Adding new coordinate system, which will replace the existing one. see ?SFEData and browseVignettes('SFEData') for documentation loading from cache see ?SFEData and browseVignettes('SFEData') for documentation loading from cache beginning bbox testssee ?SFEData and browseVignettes('SFEData') for documentation loading from cache trying URL 'https://cf.10xgenomics.com/samples/spatial-exp/2.0.0/Visium_Mouse_Olfactory_Bulb/Visium_Mouse_Olfactory_Bulb_filtered_feature_bc_matrix.h5' Content type 'binary/octet-stream' length 7521734 bytes (7.2 MB) ================================================== downloaded 7.2 MB trying URL 'https://cf.10xgenomics.com/samples/spatial-exp/2.0.0/Visium_Mouse_Olfactory_Bulb/Visium_Mouse_Olfactory_Bulb_spatial.tar.gz' Content type 'application/x-tar' length 7806681 bytes (7.4 MB) ================================================== downloaded 7.4 MB see ?SFEData and browseVignettes('SFEData') for documentation loading from cache The downloaded files are in /Users/biocbuild/bbs-3.19-bioc/meat/Voyager.Rcheck/tests/testthat/vizgen_cellbound >>> 1 `.parquet` files exist: /Users/biocbuild/bbs-3.19-bioc/meat/Voyager.Rcheck/tests/testthat/vizgen_cellbound/cell_boundaries.parquet >>> using -> /Users/biocbuild/bbs-3.19-bioc/meat/Voyager.Rcheck/tests/testthat/vizgen_cellbound/cell_boundaries.parquet >>> Cell segmentations are found in `.parquet` file Removing 35 cells with area less than 15 >>> filtering geometries to match 1023 cells with counts > 0 see ?SFEData and browseVignettes('SFEData') for documentation loading from cache The downloaded files are in /Users/biocbuild/bbs-3.19-bioc/meat/Voyager.Rcheck/tests/testthat/xenium_test/xenium2 Error in .jcall(.jcall("RBioFormats", "Lloci/formats/meta/MetadataStore;", : java.lang.NullPointerException: Cannot invoke "loci.formats.DimensionSwapper.setMetadataFiltered(boolean)" because "RBioFormats.reader" is null >>> Cell segmentations are found in `.parquet` file(s) >>> Reading cell and nucleus segmentations >>> Making MULTIPOLYGON nuclei geometries >>> Making POLYGON cell geometries >>> Checking polygon validity >>> Saving geometries to parquet files >>> Reading cell metadata -> `cells.csv` >>> Reading h5 gene count matrix >>> filtering cellSeg geometries to match 6272 cells with counts > 0 >>> filtering nucSeg geometries to match 6158 cells with counts > 0 see ?SFEData and browseVignettes('SFEData') for documentation loading from cache see ?SFEData and browseVignettes('SFEData') for documentation loading from cache see ?SFEData and browseVignettes('SFEData') for documentation loading from cache [ FAIL 0 | WARN 0 | SKIP 17 | PASS 610 ] ══ Skipped tests (17) ══════════════════════════════════════════════════════════ • On CRAN (16): 'test-bivariate.R:129:5', 'test-bivariate.R:150:5', 'test-gstat.R:187:5', 'test-plot.R:356:5', 'test-plot.R:402:5', 'test-plot.R:439:5', 'test-plot.R:457:5', 'test-plot.R:471:5', 'test-plot.R:521:5', 'test-plot.R:599:5', 'test-plot.R:632:5', 'test-plot.R:654:5', 'test-plot.R:814:5', 'test-plot.R:849:5', 'test-plot.R:860:5', 'test-plot.R:915:5' • empty test (1): 'test-plot.R:1120:1' [ FAIL 0 | WARN 0 | SKIP 17 | PASS 610 ] Deleting unused snapshots: • bivariate/plot-cross-variograms-no-np.svg • bivariate/plot-cross-variograms-with-anisotropy.svg • gstat/multiple-samples-multiple-features.svg • gstat/multiple-samples-one-feature.svg • gstat/plot-np.svg • plot/both-positive-and-negative.svg • plot/change-the-number-of-columns.svg • plot/cluster-by-gene-instead.svg • plot/coldata-freqpoly-multiple-variables.svg • plot/coldata-histogram-multiple-variables.svg • plot/correlograms-for-multispati-pcs-one-component.svg • plot/elbowplot-more-pcs-than-available.svg • plot/elbowplot-with-10-of-the-20-pcs.svg • plot/facetting-by-sample.svg • plot/illegal-symbol-freqpoly.svg • plot/illegal-symbol.svg • plot/moran-plot-don-t-plot-influential.svg • plot/moran-plot-hex-bin.svg • plot/multiple-samples.svg • plot/multiple-variables-color-by.svg • plot/multiple-variables-facetting.svg • plot/multiple-variables-fill-by.svg • plot/not-facetting-multispati-elbow-negative-only.svg • plot/one-variable-color-by.svg • plot/one-variable-facetting.svg • plot/one-variable-fill-by.svg • plot/plotcorrelogram-categorical-color-by.svg • plot/plotcorrelogram-coldata-i.svg • plot/plotcorrelogram-continuous-color-by.svg • plot/plotcorrelogram-one-gene-c.svg • plot/plotcorrelogram-one-gene-corr.svg • plot/plotcorrelogram-specify-gene-and-coldata-i.svg • plot/plotdimloadings-not-balanced.svg • plot/with-subset-freqpoly.svg • plot/with-subset.svg > > proc.time() user system elapsed 335.160 16.707 506.978
Voyager.Rcheck/Voyager-Ex.timings
name | user | system | elapsed | |
ElbowPlot | 9.042 | 1.227 | 15.632 | |
SFEMethod | 0.002 | 0.001 | 0.002 | |
calculateBivariate | 16.022 | 0.523 | 24.091 | |
calculateMultivariate | 47.313 | 0.897 | 68.534 | |
calculateUnivariate | 6.686 | 0.339 | 10.338 | |
clusterCorrelograms | 4.035 | 0.232 | 6.353 | |
clusterMoranPlot | 4.500 | 0.253 | 6.909 | |
clusterVariograms | 12.618 | 0.382 | 17.774 | |
getDivergeRange | 0.000 | 0.000 | 0.001 | |
listSFEMethods | 0.002 | 0.000 | 0.007 | |
listw2sparse | 3.727 | 0.244 | 5.954 | |
moranBounds | 3.892 | 0.231 | 6.083 | |
moranPlot | 10.126 | 0.403 | 14.576 | |
multi_listw2sparse | 0.000 | 0.001 | 0.000 | |
multispati_rsp | 5.070 | 0.268 | 7.428 | |
plotCellBin2D | 9.017 | 0.368 | 13.268 | |
plotColDataFreqpoly | 5.783 | 0.283 | 8.383 | |
plotColDataHistogram | 6.132 | 0.283 | 9.338 | |
plotColGraph | 5.138 | 0.275 | 8.127 | |
plotCorrelogram | 6.492 | 0.286 | 9.793 | |
plotCrossVariogram | 7.055 | 0.322 | 11.004 | |
plotCrossVariogramMap | 6.526 | 0.302 | 10.125 | |
plotDimLoadings | 5.165 | 0.276 | 8.275 | |
plotGeometry | 15.958 | 0.610 | 23.651 | |
plotImage | 17.175 | 1.851 | 23.875 | |
plotLocalResult | 7.746 | 0.334 | 11.802 | |
plotMoranMC | 5.375 | 0.252 | 8.414 | |
plotSpatialFeature | 7.968 | 0.291 | 11.450 | |
plotVariogram | 8.412 | 0.288 | 12.642 | |
plotVariogramMap | 5.818 | 0.257 | 8.694 | |
spatialReducedDim | 6.809 | 0.282 | 9.865 | |